BEGIN:VCALENDAR
VERSION:2.0
PRODID:-//St. Vincent Ferrer Catholic Church - ECPv6.15.20//NONSGML v1.0//EN
CALSCALE:GREGORIAN
METHOD:PUBLISH
X-WR-CALNAME:St. Vincent Ferrer Catholic Church
X-ORIGINAL-URL:https://stvincentferrer.net
X-WR-CALDESC:Events for St. Vincent Ferrer Catholic Church
REFRESH-INTERVAL;VALUE=DURATION:PT1H
X-Robots-Tag:noindex
X-PUBLISHED-TTL:PT1H
BEGIN:VTIMEZONE
TZID:America/Detroit
BEGIN:DAYLIGHT
TZOFFSETFROM:-0500
TZOFFSETTO:-0400
TZNAME:EDT
DTSTART:20210314T070000
END:DAYLIGHT
BEGIN:STANDARD
TZOFFSETFROM:-0400
TZOFFSETTO:-0500
TZNAME:EST
DTSTART:20211107T060000
END:STANDARD
BEGIN:DAYLIGHT
TZOFFSETFROM:-0500
TZOFFSETTO:-0400
TZNAME:EDT
DTSTART:20220313T070000
END:DAYLIGHT
BEGIN:STANDARD
TZOFFSETFROM:-0400
TZOFFSETTO:-0500
TZNAME:EST
DTSTART:20221106T060000
END:STANDARD
BEGIN:DAYLIGHT
TZOFFSETFROM:-0500
TZOFFSETTO:-0400
TZNAME:EDT
DTSTART:20230312T070000
END:DAYLIGHT
BEGIN:STANDARD
TZOFFSETFROM:-0400
TZOFFSETTO:-0500
TZNAME:EST
DTSTART:20231105T060000
END:STANDARD
BEGIN:DAYLIGHT
TZOFFSETFROM:-0500
TZOFFSETTO:-0400
TZNAME:EDT
DTSTART:20240310T070000
END:DAYLIGHT
BEGIN:STANDARD
TZOFFSETFROM:-0400
TZOFFSETTO:-0500
TZNAME:EST
DTSTART:20241103T060000
END:STANDARD
BEGIN:DAYLIGHT
TZOFFSETFROM:-0500
TZOFFSETTO:-0400
TZNAME:EDT
DTSTART:20250309T070000
END:DAYLIGHT
BEGIN:STANDARD
TZOFFSETFROM:-0400
TZOFFSETTO:-0500
TZNAME:EST
DTSTART:20251102T060000
END:STANDARD
BEGIN:DAYLIGHT
TZOFFSETFROM:-0500
TZOFFSETTO:-0400
TZNAME:EDT
DTSTART:20260308T070000
END:DAYLIGHT
BEGIN:STANDARD
TZOFFSETFROM:-0400
TZOFFSETTO:-0500
TZNAME:EST
DTSTART:20261101T060000
END:STANDARD
END:VTIMEZONE
BEGIN:VEVENT
DTSTART;TZID=America/Detroit:20250619T090000
DTEND;TZID=America/Detroit:20250619T093000
DTSTAMP:20260423T213204
CREATED:20250212T200207Z
LAST-MODIFIED:20260331T144257Z
UID:10006052-1750323600-1750325400@stvincentferrer.net
SUMMARY:Rosary - Thursdays following 8am mass ( also Livestream )
DESCRIPTION:
URL:https://stvincentferrer.net/event/rosary-thursdays-following-8am-mass-also-livestream/2025-06-19/
LOCATION:St. Vincent Ferrer Church\, 28353 Herbert\, Madison Heights\, MI\, 48071
CATEGORIES:Miscellaneous,Worship
ATTACH;FMTTYPE=image/jpeg:https://stvincentferrer.net/wp-content/uploads/2022/05/rosary.jpg
GEO:42.4992176;-83.0971204
X-APPLE-STRUCTURED-LOCATION;VALUE=URI;X-ADDRESS=St. Vincent Ferrer Church 28353 Herbert Madison Heights MI 48071;X-APPLE-RADIUS=500;X-TITLE=28353 Herbert:geo:-83.0971204,42.4992176
END:VEVENT
BEGIN:VEVENT
DTSTART;TZID=America/Detroit:20250612T090000
DTEND;TZID=America/Detroit:20250612T093000
DTSTAMP:20260423T213204
CREATED:20250212T200207Z
LAST-MODIFIED:20260331T144257Z
UID:10006051-1749718800-1749720600@stvincentferrer.net
SUMMARY:Rosary - Thursdays following 8am mass ( also Livestream )
DESCRIPTION:
URL:https://stvincentferrer.net/event/rosary-thursdays-following-8am-mass-also-livestream/2025-06-12/
LOCATION:St. Vincent Ferrer Church\, 28353 Herbert\, Madison Heights\, MI\, 48071
CATEGORIES:Miscellaneous,Worship
ATTACH;FMTTYPE=image/jpeg:https://stvincentferrer.net/wp-content/uploads/2022/05/rosary.jpg
GEO:42.4992176;-83.0971204
X-APPLE-STRUCTURED-LOCATION;VALUE=URI;X-ADDRESS=St. Vincent Ferrer Church 28353 Herbert Madison Heights MI 48071;X-APPLE-RADIUS=500;X-TITLE=28353 Herbert:geo:-83.0971204,42.4992176
END:VEVENT
BEGIN:VEVENT
DTSTART;TZID=America/Detroit:20250605T090000
DTEND;TZID=America/Detroit:20250605T093000
DTSTAMP:20260423T213204
CREATED:20250212T200207Z
LAST-MODIFIED:20260331T144257Z
UID:10006050-1749114000-1749115800@stvincentferrer.net
SUMMARY:Rosary - Thursdays following 8am mass ( also Livestream )
DESCRIPTION:
URL:https://stvincentferrer.net/event/rosary-thursdays-following-8am-mass-also-livestream/2025-06-05/
LOCATION:St. Vincent Ferrer Church\, 28353 Herbert\, Madison Heights\, MI\, 48071
CATEGORIES:Miscellaneous,Worship
ATTACH;FMTTYPE=image/jpeg:https://stvincentferrer.net/wp-content/uploads/2022/05/rosary.jpg
GEO:42.4992176;-83.0971204
X-APPLE-STRUCTURED-LOCATION;VALUE=URI;X-ADDRESS=St. Vincent Ferrer Church 28353 Herbert Madison Heights MI 48071;X-APPLE-RADIUS=500;X-TITLE=28353 Herbert:geo:-83.0971204,42.4992176
END:VEVENT
BEGIN:VEVENT
DTSTART;TZID=America/Detroit:20250529T090000
DTEND;TZID=America/Detroit:20250529T093000
DTSTAMP:20260423T213204
CREATED:20250212T200207Z
LAST-MODIFIED:20260331T144257Z
UID:10006049-1748509200-1748511000@stvincentferrer.net
SUMMARY:Rosary - Thursdays following 8am mass ( also Livestream )
DESCRIPTION:
URL:https://stvincentferrer.net/event/rosary-thursdays-following-8am-mass-also-livestream/2025-05-29/
LOCATION:St. Vincent Ferrer Church\, 28353 Herbert\, Madison Heights\, MI\, 48071
CATEGORIES:Miscellaneous,Worship
ATTACH;FMTTYPE=image/jpeg:https://stvincentferrer.net/wp-content/uploads/2022/05/rosary.jpg
GEO:42.4992176;-83.0971204
X-APPLE-STRUCTURED-LOCATION;VALUE=URI;X-ADDRESS=St. Vincent Ferrer Church 28353 Herbert Madison Heights MI 48071;X-APPLE-RADIUS=500;X-TITLE=28353 Herbert:geo:-83.0971204,42.4992176
END:VEVENT
BEGIN:VEVENT
DTSTART;TZID=America/Detroit:20250522T090000
DTEND;TZID=America/Detroit:20250522T093000
DTSTAMP:20260423T213204
CREATED:20250212T200207Z
LAST-MODIFIED:20260331T144257Z
UID:10006048-1747904400-1747906200@stvincentferrer.net
SUMMARY:Rosary - Thursdays following 8am mass ( also Livestream )
DESCRIPTION:
URL:https://stvincentferrer.net/event/rosary-thursdays-following-8am-mass-also-livestream/2025-05-22/
LOCATION:St. Vincent Ferrer Church\, 28353 Herbert\, Madison Heights\, MI\, 48071
CATEGORIES:Miscellaneous,Worship
ATTACH;FMTTYPE=image/jpeg:https://stvincentferrer.net/wp-content/uploads/2022/05/rosary.jpg
GEO:42.4992176;-83.0971204
X-APPLE-STRUCTURED-LOCATION;VALUE=URI;X-ADDRESS=St. Vincent Ferrer Church 28353 Herbert Madison Heights MI 48071;X-APPLE-RADIUS=500;X-TITLE=28353 Herbert:geo:-83.0971204,42.4992176
END:VEVENT
BEGIN:VEVENT
DTSTART;TZID=America/Detroit:20250515T090000
DTEND;TZID=America/Detroit:20250515T093000
DTSTAMP:20260423T213204
CREATED:20250212T200207Z
LAST-MODIFIED:20260331T144257Z
UID:10006047-1747299600-1747301400@stvincentferrer.net
SUMMARY:Rosary - Thursdays following 8am mass ( also Livestream )
DESCRIPTION:
URL:https://stvincentferrer.net/event/rosary-thursdays-following-8am-mass-also-livestream/2025-05-15/
LOCATION:St. Vincent Ferrer Church\, 28353 Herbert\, Madison Heights\, MI\, 48071
CATEGORIES:Miscellaneous,Worship
ATTACH;FMTTYPE=image/jpeg:https://stvincentferrer.net/wp-content/uploads/2022/05/rosary.jpg
GEO:42.4992176;-83.0971204
X-APPLE-STRUCTURED-LOCATION;VALUE=URI;X-ADDRESS=St. Vincent Ferrer Church 28353 Herbert Madison Heights MI 48071;X-APPLE-RADIUS=500;X-TITLE=28353 Herbert:geo:-83.0971204,42.4992176
END:VEVENT
BEGIN:VEVENT
DTSTART;TZID=America/Detroit:20250508T090000
DTEND;TZID=America/Detroit:20250508T093000
DTSTAMP:20260423T213204
CREATED:20250212T200207Z
LAST-MODIFIED:20260331T144257Z
UID:10006046-1746694800-1746696600@stvincentferrer.net
SUMMARY:Rosary - Thursdays following 8am mass ( also Livestream )
DESCRIPTION:
URL:https://stvincentferrer.net/event/rosary-thursdays-following-8am-mass-also-livestream/2025-05-08/
LOCATION:St. Vincent Ferrer Church\, 28353 Herbert\, Madison Heights\, MI\, 48071
CATEGORIES:Miscellaneous,Worship
ATTACH;FMTTYPE=image/jpeg:https://stvincentferrer.net/wp-content/uploads/2022/05/rosary.jpg
GEO:42.4992176;-83.0971204
X-APPLE-STRUCTURED-LOCATION;VALUE=URI;X-ADDRESS=St. Vincent Ferrer Church 28353 Herbert Madison Heights MI 48071;X-APPLE-RADIUS=500;X-TITLE=28353 Herbert:geo:-83.0971204,42.4992176
END:VEVENT
BEGIN:VEVENT
DTSTART;TZID=America/Detroit:20250501T090000
DTEND;TZID=America/Detroit:20250501T093000
DTSTAMP:20260423T213204
CREATED:20250212T200207Z
LAST-MODIFIED:20260331T144257Z
UID:10006045-1746090000-1746091800@stvincentferrer.net
SUMMARY:Rosary - Thursdays following 8am mass ( also Livestream )
DESCRIPTION:
URL:https://stvincentferrer.net/event/rosary-thursdays-following-8am-mass-also-livestream/2025-05-01/
LOCATION:St. Vincent Ferrer Church\, 28353 Herbert\, Madison Heights\, MI\, 48071
CATEGORIES:Miscellaneous,Worship
ATTACH;FMTTYPE=image/jpeg:https://stvincentferrer.net/wp-content/uploads/2022/05/rosary.jpg
GEO:42.4992176;-83.0971204
X-APPLE-STRUCTURED-LOCATION;VALUE=URI;X-ADDRESS=St. Vincent Ferrer Church 28353 Herbert Madison Heights MI 48071;X-APPLE-RADIUS=500;X-TITLE=28353 Herbert:geo:-83.0971204,42.4992176
END:VEVENT
BEGIN:VEVENT
DTSTART;TZID=America/Detroit:20250424T090000
DTEND;TZID=America/Detroit:20250424T093000
DTSTAMP:20260423T213204
CREATED:20250212T200207Z
LAST-MODIFIED:20260331T144257Z
UID:10006044-1745485200-1745487000@stvincentferrer.net
SUMMARY:Rosary - Thursdays following 8am mass ( also Livestream )
DESCRIPTION:
URL:https://stvincentferrer.net/event/rosary-thursdays-following-8am-mass-also-livestream/2025-04-24/
LOCATION:St. Vincent Ferrer Church\, 28353 Herbert\, Madison Heights\, MI\, 48071
CATEGORIES:Miscellaneous,Worship
ATTACH;FMTTYPE=image/jpeg:https://stvincentferrer.net/wp-content/uploads/2022/05/rosary.jpg
GEO:42.4992176;-83.0971204
X-APPLE-STRUCTURED-LOCATION;VALUE=URI;X-ADDRESS=St. Vincent Ferrer Church 28353 Herbert Madison Heights MI 48071;X-APPLE-RADIUS=500;X-TITLE=28353 Herbert:geo:-83.0971204,42.4992176
END:VEVENT
BEGIN:VEVENT
DTSTART;TZID=America/Detroit:20250417T090000
DTEND;TZID=America/Detroit:20250417T093000
DTSTAMP:20260423T213204
CREATED:20250212T200207Z
LAST-MODIFIED:20260331T144257Z
UID:10006043-1744880400-1744882200@stvincentferrer.net
SUMMARY:Rosary - Thursdays following 8am mass ( also Livestream )
DESCRIPTION:
URL:https://stvincentferrer.net/event/rosary-thursdays-following-8am-mass-also-livestream/2025-04-17/
LOCATION:St. Vincent Ferrer Church\, 28353 Herbert\, Madison Heights\, MI\, 48071
CATEGORIES:Miscellaneous,Worship
ATTACH;FMTTYPE=image/jpeg:https://stvincentferrer.net/wp-content/uploads/2022/05/rosary.jpg
GEO:42.4992176;-83.0971204
X-APPLE-STRUCTURED-LOCATION;VALUE=URI;X-ADDRESS=St. Vincent Ferrer Church 28353 Herbert Madison Heights MI 48071;X-APPLE-RADIUS=500;X-TITLE=28353 Herbert:geo:-83.0971204,42.4992176
END:VEVENT
BEGIN:VEVENT
DTSTART;TZID=America/Detroit:20250410T090000
DTEND;TZID=America/Detroit:20250410T093000
DTSTAMP:20260423T213204
CREATED:20250212T200207Z
LAST-MODIFIED:20260331T144257Z
UID:10006042-1744275600-1744277400@stvincentferrer.net
SUMMARY:Rosary - Thursdays following 8am mass ( also Livestream )
DESCRIPTION:
URL:https://stvincentferrer.net/event/rosary-thursdays-following-8am-mass-also-livestream/2025-04-10/
LOCATION:St. Vincent Ferrer Church\, 28353 Herbert\, Madison Heights\, MI\, 48071
CATEGORIES:Miscellaneous,Worship
ATTACH;FMTTYPE=image/jpeg:https://stvincentferrer.net/wp-content/uploads/2022/05/rosary.jpg
GEO:42.4992176;-83.0971204
X-APPLE-STRUCTURED-LOCATION;VALUE=URI;X-ADDRESS=St. Vincent Ferrer Church 28353 Herbert Madison Heights MI 48071;X-APPLE-RADIUS=500;X-TITLE=28353 Herbert:geo:-83.0971204,42.4992176
END:VEVENT
BEGIN:VEVENT
DTSTART;TZID=America/Detroit:20250403T090000
DTEND;TZID=America/Detroit:20250403T093000
DTSTAMP:20260423T213204
CREATED:20250212T200207Z
LAST-MODIFIED:20260331T144257Z
UID:10006041-1743670800-1743672600@stvincentferrer.net
SUMMARY:Rosary - Thursdays following 8am mass ( also Livestream )
DESCRIPTION:
URL:https://stvincentferrer.net/event/rosary-thursdays-following-8am-mass-also-livestream/2025-04-03/
LOCATION:St. Vincent Ferrer Church\, 28353 Herbert\, Madison Heights\, MI\, 48071
CATEGORIES:Miscellaneous,Worship
ATTACH;FMTTYPE=image/jpeg:https://stvincentferrer.net/wp-content/uploads/2022/05/rosary.jpg
GEO:42.4992176;-83.0971204
X-APPLE-STRUCTURED-LOCATION;VALUE=URI;X-ADDRESS=St. Vincent Ferrer Church 28353 Herbert Madison Heights MI 48071;X-APPLE-RADIUS=500;X-TITLE=28353 Herbert:geo:-83.0971204,42.4992176
END:VEVENT
BEGIN:VEVENT
DTSTART;TZID=America/Detroit:20250327T090000
DTEND;TZID=America/Detroit:20250327T093000
DTSTAMP:20260423T213204
CREATED:20250212T200207Z
LAST-MODIFIED:20260331T144257Z
UID:10006040-1743066000-1743067800@stvincentferrer.net
SUMMARY:Rosary - Thursdays following 8am mass ( also Livestream )
DESCRIPTION:
URL:https://stvincentferrer.net/event/rosary-thursdays-following-8am-mass-also-livestream/2025-03-27/
LOCATION:St. Vincent Ferrer Church\, 28353 Herbert\, Madison Heights\, MI\, 48071
CATEGORIES:Miscellaneous,Worship
ATTACH;FMTTYPE=image/jpeg:https://stvincentferrer.net/wp-content/uploads/2022/05/rosary.jpg
GEO:42.4992176;-83.0971204
X-APPLE-STRUCTURED-LOCATION;VALUE=URI;X-ADDRESS=St. Vincent Ferrer Church 28353 Herbert Madison Heights MI 48071;X-APPLE-RADIUS=500;X-TITLE=28353 Herbert:geo:-83.0971204,42.4992176
END:VEVENT
BEGIN:VEVENT
DTSTART;TZID=America/Detroit:20250320T090000
DTEND;TZID=America/Detroit:20250320T093000
DTSTAMP:20260423T213204
CREATED:20250212T200207Z
LAST-MODIFIED:20260331T144257Z
UID:10006039-1742461200-1742463000@stvincentferrer.net
SUMMARY:Rosary - Thursdays following 8am mass ( also Livestream )
DESCRIPTION:
URL:https://stvincentferrer.net/event/rosary-thursdays-following-8am-mass-also-livestream/2025-03-20/
LOCATION:St. Vincent Ferrer Church\, 28353 Herbert\, Madison Heights\, MI\, 48071
CATEGORIES:Miscellaneous,Worship
ATTACH;FMTTYPE=image/jpeg:https://stvincentferrer.net/wp-content/uploads/2022/05/rosary.jpg
GEO:42.4992176;-83.0971204
X-APPLE-STRUCTURED-LOCATION;VALUE=URI;X-ADDRESS=St. Vincent Ferrer Church 28353 Herbert Madison Heights MI 48071;X-APPLE-RADIUS=500;X-TITLE=28353 Herbert:geo:-83.0971204,42.4992176
END:VEVENT
BEGIN:VEVENT
DTSTART;TZID=America/Detroit:20250313T090000
DTEND;TZID=America/Detroit:20250313T093000
DTSTAMP:20260423T213204
CREATED:20250212T200207Z
LAST-MODIFIED:20260331T144257Z
UID:10006038-1741856400-1741858200@stvincentferrer.net
SUMMARY:Rosary - Thursdays following 8am mass ( also Livestream )
DESCRIPTION:
URL:https://stvincentferrer.net/event/rosary-thursdays-following-8am-mass-also-livestream/2025-03-13/
LOCATION:St. Vincent Ferrer Church\, 28353 Herbert\, Madison Heights\, MI\, 48071
CATEGORIES:Miscellaneous,Worship
ATTACH;FMTTYPE=image/jpeg:https://stvincentferrer.net/wp-content/uploads/2022/05/rosary.jpg
GEO:42.4992176;-83.0971204
X-APPLE-STRUCTURED-LOCATION;VALUE=URI;X-ADDRESS=St. Vincent Ferrer Church 28353 Herbert Madison Heights MI 48071;X-APPLE-RADIUS=500;X-TITLE=28353 Herbert:geo:-83.0971204,42.4992176
END:VEVENT
BEGIN:VEVENT
DTSTART;TZID=America/Detroit:20250306T090000
DTEND;TZID=America/Detroit:20250306T093000
DTSTAMP:20260423T213204
CREATED:20250212T200207Z
LAST-MODIFIED:20260331T144257Z
UID:10006037-1741251600-1741253400@stvincentferrer.net
SUMMARY:Rosary - Thursdays following 8am mass ( also Livestream )
DESCRIPTION:
URL:https://stvincentferrer.net/event/rosary-thursdays-following-8am-mass-also-livestream/2025-03-06/
LOCATION:St. Vincent Ferrer Church\, 28353 Herbert\, Madison Heights\, MI\, 48071
CATEGORIES:Miscellaneous,Worship
ATTACH;FMTTYPE=image/jpeg:https://stvincentferrer.net/wp-content/uploads/2022/05/rosary.jpg
GEO:42.4992176;-83.0971204
X-APPLE-STRUCTURED-LOCATION;VALUE=URI;X-ADDRESS=St. Vincent Ferrer Church 28353 Herbert Madison Heights MI 48071;X-APPLE-RADIUS=500;X-TITLE=28353 Herbert:geo:-83.0971204,42.4992176
END:VEVENT
BEGIN:VEVENT
DTSTART;TZID=America/Detroit:20250227T090000
DTEND;TZID=America/Detroit:20250227T093000
DTSTAMP:20260423T213204
CREATED:20250212T200207Z
LAST-MODIFIED:20260331T144257Z
UID:10006036-1740646800-1740648600@stvincentferrer.net
SUMMARY:Rosary - Thursdays following 8am mass ( also Livestream )
DESCRIPTION:
URL:https://stvincentferrer.net/event/rosary-thursdays-following-8am-mass-also-livestream/2025-02-27/
LOCATION:St. Vincent Ferrer Church\, 28353 Herbert\, Madison Heights\, MI\, 48071
CATEGORIES:Miscellaneous,Worship
ATTACH;FMTTYPE=image/jpeg:https://stvincentferrer.net/wp-content/uploads/2022/05/rosary.jpg
GEO:42.4992176;-83.0971204
X-APPLE-STRUCTURED-LOCATION;VALUE=URI;X-ADDRESS=St. Vincent Ferrer Church 28353 Herbert Madison Heights MI 48071;X-APPLE-RADIUS=500;X-TITLE=28353 Herbert:geo:-83.0971204,42.4992176
END:VEVENT
BEGIN:VEVENT
DTSTART;TZID=America/Detroit:20250220T090000
DTEND;TZID=America/Detroit:20250220T093000
DTSTAMP:20260423T213204
CREATED:20250212T200207Z
LAST-MODIFIED:20260331T144257Z
UID:10006035-1740042000-1740043800@stvincentferrer.net
SUMMARY:Rosary - Thursdays following 8am mass ( also Livestream )
DESCRIPTION:
URL:https://stvincentferrer.net/event/rosary-thursdays-following-8am-mass-also-livestream/2025-02-20/
LOCATION:St. Vincent Ferrer Church\, 28353 Herbert\, Madison Heights\, MI\, 48071
CATEGORIES:Miscellaneous,Worship
ATTACH;FMTTYPE=image/jpeg:https://stvincentferrer.net/wp-content/uploads/2022/05/rosary.jpg
GEO:42.4992176;-83.0971204
X-APPLE-STRUCTURED-LOCATION;VALUE=URI;X-ADDRESS=St. Vincent Ferrer Church 28353 Herbert Madison Heights MI 48071;X-APPLE-RADIUS=500;X-TITLE=28353 Herbert:geo:-83.0971204,42.4992176
END:VEVENT
BEGIN:VEVENT
DTSTART;TZID=America/Detroit:20250213T090000
DTEND;TZID=America/Detroit:20250213T093000
DTSTAMP:20260423T213204
CREATED:20250212T200207Z
LAST-MODIFIED:20260331T144257Z
UID:10006034-1739437200-1739439000@stvincentferrer.net
SUMMARY:Rosary - Thursdays following 8am mass ( also Livestream )
DESCRIPTION:
URL:https://stvincentferrer.net/event/rosary-thursdays-following-8am-mass-also-livestream/2025-02-13/
LOCATION:St. Vincent Ferrer Church\, 28353 Herbert\, Madison Heights\, MI\, 48071
CATEGORIES:Miscellaneous,Worship
ATTACH;FMTTYPE=image/jpeg:https://stvincentferrer.net/wp-content/uploads/2022/05/rosary.jpg
GEO:42.4992176;-83.0971204
X-APPLE-STRUCTURED-LOCATION;VALUE=URI;X-ADDRESS=St. Vincent Ferrer Church 28353 Herbert Madison Heights MI 48071;X-APPLE-RADIUS=500;X-TITLE=28353 Herbert:geo:-83.0971204,42.4992176
END:VEVENT
BEGIN:VEVENT
DTSTART;TZID=America/Detroit:20230828T190000
DTEND;TZID=America/Detroit:20230828T200000
DTSTAMP:20260423T213204
CREATED:20230720T195953Z
LAST-MODIFIED:20230720T200006Z
UID:10003749-1693249200-1693252800@stvincentferrer.net
SUMMARY:Come and pray the Rosary Outside.  Every 2nd and 4th Monday of the month at 7pm
DESCRIPTION:Come and pray the Rosary Outside. Every\n2nd and 4th Monday of the month thru August.\nAdministration office Patio at 7pm.
URL:https://stvincentferrer.net/event/come-and-pray-the-rosary-outside-may-22-7pm-2/2023-08-28/
LOCATION:Patio\,  Admin. Building
CATEGORIES:Christian Service,Miscellaneous
ATTACH;FMTTYPE=image/jpeg:https://stvincentferrer.net/wp-content/uploads/2022/05/rosary.jpg
END:VEVENT
BEGIN:VEVENT
DTSTART;TZID=America/Detroit:20230814T080000
DTEND;TZID=America/Detroit:20230814T170000
DTSTAMP:20260423T213204
CREATED:20230720T195337Z
LAST-MODIFIED:20230720T195338Z
UID:10003752-1692000000-1692032400@stvincentferrer.net
SUMMARY:Pray the Rosary every 2nd and 4th Monday on the Admin. patio.
DESCRIPTION:Come join us at the Administration patio to pray the Rosary.\nRosary   For more info call the Parish office.  248-542-8720
URL:https://stvincentferrer.net/event/pray-the-rosary-every-2nd-and-4th-monday-may-thru-august-at-7pm-on-the-admin-patio-2/
LOCATION:Patio\,  Admin. Building
CATEGORIES:Christian Service,Miscellaneous
ATTACH;FMTTYPE=image/jpeg:https://stvincentferrer.net/wp-content/uploads/2022/05/rosary.jpg
END:VEVENT
BEGIN:VEVENT
DTSTART;TZID=America/Detroit:20230724T190000
DTEND;TZID=America/Detroit:20230724T200000
DTSTAMP:20260423T213204
CREATED:20230720T195953Z
LAST-MODIFIED:20230720T200006Z
UID:10003748-1690225200-1690228800@stvincentferrer.net
SUMMARY:Come and pray the Rosary Outside.  Every 2nd and 4th Monday of the month at 7pm
DESCRIPTION:Come and pray the Rosary Outside. Every\n2nd and 4th Monday of the month thru August.\nAdministration office Patio at 7pm.
URL:https://stvincentferrer.net/event/come-and-pray-the-rosary-outside-may-22-7pm-2/2023-07-24/
LOCATION:Patio\,  Admin. Building
CATEGORIES:Christian Service,Miscellaneous
ATTACH;FMTTYPE=image/jpeg:https://stvincentferrer.net/wp-content/uploads/2022/05/rosary.jpg
END:VEVENT
BEGIN:VEVENT
DTSTART;TZID=America/Detroit:20230720T155900
DTEND;TZID=America/Detroit:20230720T155900
DTSTAMP:20260423T213204
CREATED:20230720T195953Z
LAST-MODIFIED:20230720T200006Z
UID:10003766-1689868740-1689868740@stvincentferrer.net
SUMMARY:Come and pray the Rosary Outside.  Every 2nd and 4th Monday of the month at 7pm
DESCRIPTION:Come and pray the Rosary Outside. Every\n2nd and 4th Monday of the month thru August.\nAdministration office Patio at 7pm.
URL:https://stvincentferrer.net/event/come-and-pray-the-rosary-outside-may-22-7pm-2/2023-07-20/
LOCATION:Patio\,  Admin. Building
CATEGORIES:Christian Service,Miscellaneous
ATTACH;FMTTYPE=image/jpeg:https://stvincentferrer.net/wp-content/uploads/2022/05/rosary.jpg
END:VEVENT
BEGIN:VEVENT
DTSTART;TZID=America/Detroit:20230710T190000
DTEND;TZID=America/Detroit:20230710T200000
DTSTAMP:20260423T213204
CREATED:20230517T133248Z
LAST-MODIFIED:20230720T194941Z
UID:10003751-1689015600-1689019200@stvincentferrer.net
SUMMARY:Pray the Rosary every 2nd and 4th Monday on the Admin. patio.
DESCRIPTION:Come join us at the Administration patio to pray the Rosary.\nRosary   For more info call the Parish office.  248-542-8720
URL:https://stvincentferrer.net/event/pray-the-rosary-every-2nd-and-4th-monday-may-thru-august-at-7pm-on-the-admin-patio/2023-07-10/
LOCATION:Patio\,  Admin. Building
CATEGORIES:Christian Service,Miscellaneous
ATTACH;FMTTYPE=image/jpeg:https://stvincentferrer.net/wp-content/uploads/2022/05/rosary.jpg
END:VEVENT
BEGIN:VEVENT
DTSTART;TZID=America/Detroit:20230626T190000
DTEND;TZID=America/Detroit:20230626T200000
DTSTAMP:20260423T213204
CREATED:20230517T131536Z
LAST-MODIFIED:20230517T132421Z
UID:10003747-1687806000-1687809600@stvincentferrer.net
SUMMARY:Come and pray the Rosary Outside. May 22\, 7pm
DESCRIPTION:Come and pray the Rosary Outside.\n2nd and 4th Monday of the month. May thru August.\nAdministration office Patio at 7pm.
URL:https://stvincentferrer.net/event/come-and-pray-the-rosary-outside-may-22-7pm/2023-06-26/
LOCATION:Patio\,  Admin. Building
CATEGORIES:Christian Service,Miscellaneous
ATTACH;FMTTYPE=image/jpeg:https://stvincentferrer.net/wp-content/uploads/2022/05/rosary.jpg
END:VEVENT
BEGIN:VEVENT
DTSTART;TZID=America/Detroit:20230612T190000
DTEND;TZID=America/Detroit:20230612T200000
DTSTAMP:20260423T213204
CREATED:20230517T133248Z
LAST-MODIFIED:20230720T194941Z
UID:10003750-1686596400-1686600000@stvincentferrer.net
SUMMARY:Pray the Rosary every 2nd and 4th Monday on the Admin. patio.
DESCRIPTION:Come join us at the Administration patio to pray the Rosary.\nRosary   For more info call the Parish office.  248-542-8720
URL:https://stvincentferrer.net/event/pray-the-rosary-every-2nd-and-4th-monday-may-thru-august-at-7pm-on-the-admin-patio/2023-06-12/
LOCATION:Patio\,  Admin. Building
CATEGORIES:Christian Service,Miscellaneous
ATTACH;FMTTYPE=image/jpeg:https://stvincentferrer.net/wp-content/uploads/2022/05/rosary.jpg
END:VEVENT
BEGIN:VEVENT
DTSTART;TZID=America/Detroit:20230522T190000
DTEND;TZID=America/Detroit:20230522T200000
DTSTAMP:20260423T213204
CREATED:20230517T131536Z
LAST-MODIFIED:20230517T132421Z
UID:10003743-1684782000-1684785600@stvincentferrer.net
SUMMARY:Come and pray the Rosary Outside. May 22\, 7pm
DESCRIPTION:Come and pray the Rosary Outside.\n2nd and 4th Monday of the month. May thru August.\nAdministration office Patio at 7pm.
URL:https://stvincentferrer.net/event/come-and-pray-the-rosary-outside-may-22-7pm/2023-05-22/
LOCATION:Patio\,  Admin. Building
CATEGORIES:Christian Service,Miscellaneous
ATTACH;FMTTYPE=image/jpeg:https://stvincentferrer.net/wp-content/uploads/2022/05/rosary.jpg
END:VEVENT
BEGIN:VEVENT
DTSTART;TZID=America/Detroit:20230508T190000
DTEND;TZID=America/Detroit:20230508T200000
DTSTAMP:20260423T213204
CREATED:20230512T155930Z
LAST-MODIFIED:20230720T195611Z
UID:10003573-1683572400-1683576000@stvincentferrer.net
SUMMARY:Come pray the Rosary outside
DESCRIPTION:Come and pray the Rosary Outside.\n2nd and 4th Monday of the month.\nAdministration office Patio at 7pm.\n  \n  \nFor more information call the Parish Office – 248-542-8720
URL:https://stvincentferrer.net/event/come-pray-the-rosary-outside/
LOCATION:Patio\,  Admin. Building
CATEGORIES:Christian Service,Miscellaneous
ATTACH;FMTTYPE=image/jpeg:https://stvincentferrer.net/wp-content/uploads/2022/05/rosary.jpg
END:VEVENT
BEGIN:VEVENT
DTSTART;TZID=America/Detroit:20220801T190000
DTEND;TZID=America/Detroit:20220801T200000
DTSTAMP:20260423T213204
CREATED:20220616T170230Z
LAST-MODIFIED:20220616T170230Z
UID:10002179-1659380400-1659384000@stvincentferrer.net
SUMMARY:Rosary 7pm Herbert St. Entrance at Mary Statue
DESCRIPTION:
URL:https://stvincentferrer.net/event/rosary-7pm-herbert-st-entrance-at-mary-statue/
LOCATION:Mary Statue at Herbert entrance
ATTACH;FMTTYPE=image/jpeg:https://stvincentferrer.net/wp-content/uploads/2022/06/20210203_142503-2.jpg
END:VEVENT
BEGIN:VEVENT
DTSTART;TZID=America/Detroit:20220718T190000
DTEND;TZID=America/Detroit:20220718T200000
DTSTAMP:20260423T213204
CREATED:20220615T173116Z
LAST-MODIFIED:20220615T173156Z
UID:10002174-1658170800-1658174400@stvincentferrer.net
SUMMARY:Rosary 7pm at the Mary Statue - Herbert entrance.
DESCRIPTION:
URL:https://stvincentferrer.net/event/rosary-7pm-at-the-mary-statue-herbert-entrance/
LOCATION:Mary Statue at Herbert entrance
END:VEVENT
END:VCALENDAR