BEGIN:VCALENDAR
VERSION:2.0
PRODID:-//St. Vincent Ferrer Catholic Church - ECPv6.15.20//NONSGML v1.0//EN
CALSCALE:GREGORIAN
METHOD:PUBLISH
X-ORIGINAL-URL:https://stvincentferrer.net
X-WR-CALDESC:Events for St. Vincent Ferrer Catholic Church
REFRESH-INTERVAL;VALUE=DURATION:PT1H
X-Robots-Tag:noindex
X-PUBLISHED-TTL:PT1H
BEGIN:VTIMEZONE
TZID:America/Detroit
BEGIN:DAYLIGHT
TZOFFSETFROM:-0500
TZOFFSETTO:-0400
TZNAME:EDT
DTSTART:20160313T070000
END:DAYLIGHT
BEGIN:STANDARD
TZOFFSETFROM:-0400
TZOFFSETTO:-0500
TZNAME:EST
DTSTART:20161106T060000
END:STANDARD
BEGIN:DAYLIGHT
TZOFFSETFROM:-0500
TZOFFSETTO:-0400
TZNAME:EDT
DTSTART:20170312T070000
END:DAYLIGHT
BEGIN:STANDARD
TZOFFSETFROM:-0400
TZOFFSETTO:-0500
TZNAME:EST
DTSTART:20171105T060000
END:STANDARD
BEGIN:DAYLIGHT
TZOFFSETFROM:-0500
TZOFFSETTO:-0400
TZNAME:EDT
DTSTART:20180311T070000
END:DAYLIGHT
BEGIN:STANDARD
TZOFFSETFROM:-0400
TZOFFSETTO:-0500
TZNAME:EST
DTSTART:20181104T060000
END:STANDARD
BEGIN:DAYLIGHT
TZOFFSETFROM:-0500
TZOFFSETTO:-0400
TZNAME:EDT
DTSTART:20190310T070000
END:DAYLIGHT
BEGIN:STANDARD
TZOFFSETFROM:-0400
TZOFFSETTO:-0500
TZNAME:EST
DTSTART:20191103T060000
END:STANDARD
BEGIN:DAYLIGHT
TZOFFSETFROM:-0500
TZOFFSETTO:-0400
TZNAME:EDT
DTSTART:20200308T070000
END:DAYLIGHT
BEGIN:STANDARD
TZOFFSETFROM:-0400
TZOFFSETTO:-0500
TZNAME:EST
DTSTART:20201101T060000
END:STANDARD
BEGIN:DAYLIGHT
TZOFFSETFROM:-0500
TZOFFSETTO:-0400
TZNAME:EDT
DTSTART:20210314T070000
END:DAYLIGHT
BEGIN:STANDARD
TZOFFSETFROM:-0400
TZOFFSETTO:-0500
TZNAME:EST
DTSTART:20211107T060000
END:STANDARD
BEGIN:DAYLIGHT
TZOFFSETFROM:-0500
TZOFFSETTO:-0400
TZNAME:EDT
DTSTART:20220313T070000
END:DAYLIGHT
BEGIN:STANDARD
TZOFFSETFROM:-0400
TZOFFSETTO:-0500
TZNAME:EST
DTSTART:20221106T060000
END:STANDARD
BEGIN:DAYLIGHT
TZOFFSETFROM:-0500
TZOFFSETTO:-0400
TZNAME:EDT
DTSTART:20230312T070000
END:DAYLIGHT
BEGIN:STANDARD
TZOFFSETFROM:-0400
TZOFFSETTO:-0500
TZNAME:EST
DTSTART:20231105T060000
END:STANDARD
END:VTIMEZONE
BEGIN:VEVENT
DTSTART;TZID=America/Detroit:20220922T180000
DTEND;TZID=America/Detroit:20220922T200000
DTSTAMP:20260423T195832
CREATED:20220901T124758Z
LAST-MODIFIED:20220901T124758Z
UID:10002202-1663869600-1663876800@stvincentferrer.net
SUMMARY:Prayer Blanket 6pm - Church Hall
DESCRIPTION:All are Welcome to attend.
URL:https://stvincentferrer.net/event/prayer-blanket-6pm-church-hall/
LOCATION:Church Hall\, 28353 Herbert\, Madison Heights\, MI\, 48071
CATEGORIES:Christian Service
ATTACH;FMTTYPE=image/jpeg:https://stvincentferrer.net/wp-content/uploads/2022/01/blanket.jpg
GEO:42.4992176;-83.0971204
X-APPLE-STRUCTURED-LOCATION;VALUE=URI;X-ADDRESS=Church Hall 28353 Herbert Madison Heights MI 48071;X-APPLE-RADIUS=500;X-TITLE=28353 Herbert:geo:-83.0971204,42.4992176
END:VEVENT
BEGIN:VEVENT
DTSTART;TZID=America/Detroit:20220630T180000
DTEND;TZID=America/Detroit:20220630T210000
DTSTAMP:20260423T195832
CREATED:20220615T155451Z
LAST-MODIFIED:20220615T155456Z
UID:10002169-1656612000-1656622800@stvincentferrer.net
SUMMARY:Prayer Blanket 6:00pm Church Hall
DESCRIPTION:
URL:https://stvincentferrer.net/event/prayer-blanket-600pm-church-hall/
LOCATION:Church Hall\, 28353 Herbert\, Madison Heights\, MI\, 48071
CATEGORIES:Christian Service,Miscellaneous
GEO:42.4992176;-83.0971204
X-APPLE-STRUCTURED-LOCATION;VALUE=URI;X-ADDRESS=Church Hall 28353 Herbert Madison Heights MI 48071;X-APPLE-RADIUS=500;X-TITLE=28353 Herbert:geo:-83.0971204,42.4992176
END:VEVENT
BEGIN:VEVENT
DTSTART;TZID=America/Detroit:20220526T180000
DTEND;TZID=America/Detroit:20220526T200000
DTSTAMP:20260423T195832
CREATED:20220209T201224Z
LAST-MODIFIED:20220309T160829Z
UID:10002118-1653588000-1653595200@stvincentferrer.net
SUMMARY:Prayer Blanket Ministry 6pm - Church Hall
DESCRIPTION:Call the Parish Office for more information. 248-542-8720\nHosted by Rorie Grant\nYou are covered in prayer! \nThe Prayer Blanket Ministry touches the lives of those who receive the blankets and those who construct and distribute them. The Prayer Blanket Ministry sews lap-size blankets and squares for those in need of physical or emotional healing. \nPrayers are offered as the blankets are made in hope that the recipient will experience God’s mercy\, peace\, strength\, and healing power. The blankets are blessed prior to distribution. Blankets are available from the Parish Office. \nJoin us in this beautiful ministry to bring comfort to the sick while sharing in fellowship and fun! No sewing experience required! \nWe welcome donations of 100% cotton fabric (minimum 1 yard) that has been prewashed.
URL:https://stvincentferrer.net/event/prayer-blanket-ministry-6pm-church-hall/
LOCATION:Church Hall\, 28353 Herbert\, Madison Heights\, MI\, 48071
CATEGORIES:Christian Service,Healing Ministry,Miscellaneous
ATTACH;FMTTYPE=image/jpeg:https://stvincentferrer.net/wp-content/uploads/2022/01/blanket.jpg
GEO:42.4992176;-83.0971204
X-APPLE-STRUCTURED-LOCATION;VALUE=URI;X-ADDRESS=Church Hall 28353 Herbert Madison Heights MI 48071;X-APPLE-RADIUS=500;X-TITLE=28353 Herbert:geo:-83.0971204,42.4992176
END:VEVENT
BEGIN:VEVENT
DTSTART;TZID=America/Detroit:20220428T180000
DTEND;TZID=America/Detroit:20220428T200000
DTSTAMP:20260423T195832
CREATED:20220303T170134Z
LAST-MODIFIED:20220303T170358Z
UID:10002143-1651168800-1651176000@stvincentferrer.net
SUMMARY:Prayer Blanket 6pm
DESCRIPTION:Join us in this beautiful ministry to bring comfort to the sick while sharing in fellowship and fun!\nNo sewing experience required.
URL:https://stvincentferrer.net/event/prayer-blanket-6pm/
LOCATION:Church Hall\, 28353 Herbert\, Madison Heights\, MI\, 48071
CATEGORIES:Christian Service
ATTACH;FMTTYPE=image/jpeg:https://stvincentferrer.net/wp-content/uploads/2022/01/blanket.jpg
GEO:42.4992176;-83.0971204
X-APPLE-STRUCTURED-LOCATION;VALUE=URI;X-ADDRESS=Church Hall 28353 Herbert Madison Heights MI 48071;X-APPLE-RADIUS=500;X-TITLE=28353 Herbert:geo:-83.0971204,42.4992176
END:VEVENT
BEGIN:VEVENT
DTSTART;TZID=America/Detroit:20220224T180000
DTEND;TZID=America/Detroit:20220224T200000
DTSTAMP:20260423T195832
CREATED:20220128T164111Z
LAST-MODIFIED:20220128T164320Z
UID:10002113-1645725600-1645732800@stvincentferrer.net
SUMMARY:Prayer Blanket Ministry 6pm
DESCRIPTION:  \nCall the Parish Office for more information. 248-542-8720\nHosted by Rorie Grant\nYou are covered in prayer! \nThe Prayer Blanket Ministry touches the lives of those who receive the blankets and those who construct and distribute them. The Prayer Blanket Ministry sews lap-size blankets and squares for those in need of physical or emotional healing. \nPrayers are offered as the blankets are made in hope that the recipient will experience God’s mercy\, peace\, strength\, and healing power. The blankets are blessed prior to distribution. Blankets are available from the Parish Office. \nJoin us in this beautiful ministry to bring comfort to the sick while sharing in fellowship and fun! No sewing experience required! \nWe welcome donations of 100% cotton fabric (minimum 1 yard) that has been prewashed.
URL:https://stvincentferrer.net/event/prayer-blanket-ministry-6pm/
LOCATION:Church Hall\, 28353 Herbert\, Madison Heights\, MI\, 48071
CATEGORIES:Christian Service
ATTACH;FMTTYPE=image/jpeg:https://stvincentferrer.net/wp-content/uploads/2022/01/blanket.jpg
GEO:42.4992176;-83.0971204
X-APPLE-STRUCTURED-LOCATION;VALUE=URI;X-ADDRESS=Church Hall 28353 Herbert Madison Heights MI 48071;X-APPLE-RADIUS=500;X-TITLE=28353 Herbert:geo:-83.0971204,42.4992176
END:VEVENT
BEGIN:VEVENT
DTSTART;TZID=America/Detroit:20220127T180000
DTEND;TZID=America/Detroit:20220127T210000
DTSTAMP:20260423T195832
CREATED:20220105T182318Z
LAST-MODIFIED:20220105T182318Z
UID:10002101-1643306400-1643317200@stvincentferrer.net
SUMMARY:Prayer Blanket Ministry 6pm Parish Hall
DESCRIPTION:Welcome! \nYou are covered in prayer! \nThe Prayer Blanket Ministry touches the lives of those who receive the blankets and those who construct and distribute them. The Prayer Blanket Ministry sews lap-size blankets and squares for those in need of physical or emotional healing. \nPrayers are offered as the blankets are made in hope that the recipient will experience God’s mercy\, peace\, strength\, and healing power. The blankets are blessed prior to distribution. Blankets are available from the Parish Office. \nJoin us in this beautiful ministry to bring comfort to the sick while sharing in fellowship and fun! No sewing experience required! \nWe welcome donations of 100% cotton fabric (minimum 1 yard) that has been prewashed.
URL:https://stvincentferrer.net/event/prayer-blanket-ministry-6pm-parish-hall/
LOCATION:Church Hall\, 28353 Herbert\, Madison Heights\, MI\, 48071
CATEGORIES:Christian Service,Healing Ministry
GEO:42.4992176;-83.0971204
X-APPLE-STRUCTURED-LOCATION;VALUE=URI;X-ADDRESS=Church Hall 28353 Herbert Madison Heights MI 48071;X-APPLE-RADIUS=500;X-TITLE=28353 Herbert:geo:-83.0971204,42.4992176
END:VEVENT
BEGIN:VEVENT
DTSTART;TZID=America/Detroit:20211028T180000
DTEND;TZID=America/Detroit:20211028T210000
DTSTAMP:20260423T195832
CREATED:20210930T173204Z
LAST-MODIFIED:20210930T173358Z
UID:10001686-1635444000-1635454800@stvincentferrer.net
SUMMARY:Prayer Blanket 6pm - 9pm Church Hall
DESCRIPTION:This ministry creates beautiful prayer blankets to be distributed to the sick.  Anyone is welcome to help with this ministry.  You do not need to know how to sew.  Members help by: washing\, ironing and cutting fabric\, embroidering fabric squares; assembling decorated squares into quilt and backing with flannel; praying for those who receive the blanket\, selecting and writing scripture passages or quotes on the completed squares…
URL:https://stvincentferrer.net/event/prayer-blanket-6pm-9pm-church-hall/
LOCATION:Church Hall\, 28353 Herbert\, Madison Heights\, MI\, 48071
CATEGORIES:Christian Service,Miscellaneous
GEO:42.4992176;-83.0971204
X-APPLE-STRUCTURED-LOCATION;VALUE=URI;X-ADDRESS=Church Hall 28353 Herbert Madison Heights MI 48071;X-APPLE-RADIUS=500;X-TITLE=28353 Herbert:geo:-83.0971204,42.4992176
END:VEVENT
BEGIN:VEVENT
DTSTART;TZID=America/Detroit:20210322T090000
DTEND;TZID=America/Detroit:20210322T133000
DTSTAMP:20260423T195832
CREATED:20210305T151445Z
LAST-MODIFIED:20210308T161145Z
UID:10001589-1616403600-1616419800@stvincentferrer.net
SUMMARY:Prayer Blanket Ministry
DESCRIPTION:This ministry creates beautiful prayer blankets to be distributed to the sick. Anyone is welcome to help with this ministry. You do not need to know how to sew. Members help by: washing\, ironing and cutting fabric\, embroidering fabric squares; assembling decorated squares into quilt and backing with flannel; praying for those who receive the blanket\, selecting and writing scripture passages or quotes on the completed squares…
URL:https://stvincentferrer.net/event/prayer-blanket/
LOCATION:Hall Administration Building\, 28353 Herbert\, Madison Heights\, MI\, 48071
CATEGORIES:Christian Service,Healing Ministry,Miscellaneous
GEO:42.4992176;-83.0971204
X-APPLE-STRUCTURED-LOCATION;VALUE=URI;X-ADDRESS=Hall Administration Building 28353 Herbert Madison Heights MI 48071;X-APPLE-RADIUS=500;X-TITLE=28353 Herbert:geo:-83.0971204,42.4992176
END:VEVENT
BEGIN:VEVENT
DTSTART;TZID=America/Detroit:20170427T180000
DTEND;TZID=America/Detroit:20170427T210000
DTSTAMP:20260423T195832
CREATED:20170320T151839Z
LAST-MODIFIED:20170320T151839Z
UID:10000129-1493316000-1493326800@stvincentferrer.net
SUMMARY:Prayer Blanket Ministry
DESCRIPTION:The prayer blanket ministry gathers many people joining together to make quilts and prayer shawls specifically designed for the sick.  Fr. John blesses each blanket and the person receiving the blanket knows they are covered in prayer.  The group also prays for those who will receive the blankets.   All are welcomed to join in this ministry\, no sewing skills required.
URL:https://stvincentferrer.net/event/prayer-blanket-ministry-3/
LOCATION:Church Hall\, 28353 Herbert\, Madison Heights\, MI\, 48071
CATEGORIES:Healing Ministry
GEO:42.4992176;-83.0971204
X-APPLE-STRUCTURED-LOCATION;VALUE=URI;X-ADDRESS=Church Hall 28353 Herbert Madison Heights MI 48071;X-APPLE-RADIUS=500;X-TITLE=28353 Herbert:geo:-83.0971204,42.4992176
END:VEVENT
END:VCALENDAR