BEGIN:VCALENDAR
VERSION:2.0
PRODID:-//St. Vincent Ferrer Catholic Church - ECPv6.15.20//NONSGML v1.0//EN
CALSCALE:GREGORIAN
METHOD:PUBLISH
X-WR-CALNAME:St. Vincent Ferrer Catholic Church
X-ORIGINAL-URL:https://stvincentferrer.net
X-WR-CALDESC:Events for St. Vincent Ferrer Catholic Church
REFRESH-INTERVAL;VALUE=DURATION:PT1H
X-Robots-Tag:noindex
X-PUBLISHED-TTL:PT1H
BEGIN:VTIMEZONE
TZID:America/Detroit
BEGIN:DAYLIGHT
TZOFFSETFROM:-0500
TZOFFSETTO:-0400
TZNAME:EDT
DTSTART:20220313T070000
END:DAYLIGHT
BEGIN:STANDARD
TZOFFSETFROM:-0400
TZOFFSETTO:-0500
TZNAME:EST
DTSTART:20221106T060000
END:STANDARD
BEGIN:DAYLIGHT
TZOFFSETFROM:-0500
TZOFFSETTO:-0400
TZNAME:EDT
DTSTART:20230312T070000
END:DAYLIGHT
BEGIN:STANDARD
TZOFFSETFROM:-0400
TZOFFSETTO:-0500
TZNAME:EST
DTSTART:20231105T060000
END:STANDARD
BEGIN:DAYLIGHT
TZOFFSETFROM:-0500
TZOFFSETTO:-0400
TZNAME:EDT
DTSTART:20240310T070000
END:DAYLIGHT
BEGIN:STANDARD
TZOFFSETFROM:-0400
TZOFFSETTO:-0500
TZNAME:EST
DTSTART:20241103T060000
END:STANDARD
BEGIN:DAYLIGHT
TZOFFSETFROM:-0500
TZOFFSETTO:-0400
TZNAME:EDT
DTSTART:20250309T070000
END:DAYLIGHT
BEGIN:STANDARD
TZOFFSETFROM:-0400
TZOFFSETTO:-0500
TZNAME:EST
DTSTART:20251102T060000
END:STANDARD
BEGIN:DAYLIGHT
TZOFFSETFROM:-0500
TZOFFSETTO:-0400
TZNAME:EDT
DTSTART:20260308T070000
END:DAYLIGHT
BEGIN:STANDARD
TZOFFSETFROM:-0400
TZOFFSETTO:-0500
TZNAME:EST
DTSTART:20261101T060000
END:STANDARD
END:VTIMEZONE
BEGIN:VEVENT
DTSTART;TZID=America/Detroit:20251012T100000
DTEND;TZID=America/Detroit:20251012T113000
DTSTAMP:20260423T195626
CREATED:20250923T173435Z
LAST-MODIFIED:20250923T173435Z
UID:10008514-1760263200-1760268600@stvincentferrer.net
SUMMARY:Blood Pressure Checks after Mass
DESCRIPTION:
URL:https://stvincentferrer.net/event/blood-pressure-checks-after-mass-6/
CATEGORIES:Christian Service
ATTACH;FMTTYPE=image/jpeg:https://stvincentferrer.net/wp-content/uploads/2022/12/blood-pressure.jpg
END:VEVENT
BEGIN:VEVENT
DTSTART;TZID=America/Detroit:20250413T100000
DTEND;TZID=America/Detroit:20250413T110000
DTSTAMP:20260423T195626
CREATED:20250226T194645Z
LAST-MODIFIED:20250226T194645Z
UID:10007949-1744538400-1744542000@stvincentferrer.net
SUMMARY:Blood Pressure Checks
DESCRIPTION:
URL:https://stvincentferrer.net/event/blood-pressure-checks-22/
LOCATION:Church Hall\, 28353 Herbert\, Madison Heights\, MI\, 48071
CATEGORIES:Christian Service,Miscellaneous
ATTACH;FMTTYPE=image/png:https://stvincentferrer.net/wp-content/uploads/2021/09/blood-pressure.png
GEO:42.4992176;-83.0971204
X-APPLE-STRUCTURED-LOCATION;VALUE=URI;X-ADDRESS=Church Hall 28353 Herbert Madison Heights MI 48071;X-APPLE-RADIUS=500;X-TITLE=28353 Herbert:geo:-83.0971204,42.4992176
END:VEVENT
BEGIN:VEVENT
DTSTART;TZID=America/Detroit:20250316T100000
DTEND;TZID=America/Detroit:20250316T110000
DTSTAMP:20260423T195626
CREATED:20250224T193732Z
LAST-MODIFIED:20250306T144740Z
UID:10007863-1742119200-1742122800@stvincentferrer.net
SUMMARY:Blood Pressure Checks
DESCRIPTION:
URL:https://stvincentferrer.net/event/blood-pressure-checks-20/
CATEGORIES:Christian Service,Miscellaneous
ATTACH;FMTTYPE=image/jpeg:https://stvincentferrer.net/wp-content/uploads/2022/12/blood-pressure.jpg
END:VEVENT
BEGIN:VEVENT
DTSTART;TZID=America/Detroit:20250209T100000
DTEND;TZID=America/Detroit:20250209T113000
DTSTAMP:20260423T195626
CREATED:20250103T150621Z
LAST-MODIFIED:20250103T155820Z
UID:10005943-1739095200-1739100600@stvincentferrer.net
SUMMARY:Blood Pressure Checks
DESCRIPTION:
URL:https://stvincentferrer.net/event/blood-pressure-checks-21/
LOCATION:Church Hall\, 28353 Herbert\, Madison Heights\, MI\, 48071
CATEGORIES:Christian Service
ATTACH;FMTTYPE=image/jpeg:https://stvincentferrer.net/wp-content/uploads/2017/03/BloodPressure_heart.jpg
GEO:42.4992176;-83.0971204
X-APPLE-STRUCTURED-LOCATION;VALUE=URI;X-ADDRESS=Church Hall 28353 Herbert Madison Heights MI 48071;X-APPLE-RADIUS=500;X-TITLE=28353 Herbert:geo:-83.0971204,42.4992176
END:VEVENT
BEGIN:VEVENT
DTSTART;TZID=America/Detroit:20241110T100000
DTEND;TZID=America/Detroit:20241110T110000
DTSTAMP:20260423T195626
CREATED:20240919T131300Z
LAST-MODIFIED:20240919T132444Z
UID:10005860-1731232800-1731236400@stvincentferrer.net
SUMMARY:Blood Pressure Checks
DESCRIPTION:
URL:https://stvincentferrer.net/event/blood-pressure-checks-18/
CATEGORIES:Christian Service
ATTACH;FMTTYPE=image/png:https://stvincentferrer.net/wp-content/uploads/2021/09/blood-pressure.png
END:VEVENT
BEGIN:VEVENT
DTSTART;TZID=America/Detroit:20240811T090000
DTEND;TZID=America/Detroit:20240811T100000
DTSTAMP:20260423T195626
CREATED:20240620T175831Z
LAST-MODIFIED:20240625T173047Z
UID:10005189-1723366800-1723370400@stvincentferrer.net
SUMMARY:Blood Pressure Checks
DESCRIPTION:
URL:https://stvincentferrer.net/event/blood-pressure-checks-17/
LOCATION:Church Hall\, 28353 Herbert\, Madison Heights\, MI\, 48071
CATEGORIES:Christian Service
GEO:42.4992176;-83.0971204
X-APPLE-STRUCTURED-LOCATION;VALUE=URI;X-ADDRESS=Church Hall 28353 Herbert Madison Heights MI 48071;X-APPLE-RADIUS=500;X-TITLE=28353 Herbert:geo:-83.0971204,42.4992176
END:VEVENT
BEGIN:VEVENT
DTSTART;TZID=America/Detroit:20240714T090000
DTEND;TZID=America/Detroit:20240714T100000
DTSTAMP:20260423T195626
CREATED:20240619T122421Z
LAST-MODIFIED:20240619T122450Z
UID:10005118-1720947600-1720951200@stvincentferrer.net
SUMMARY:Blood Pressure Checks
DESCRIPTION:
URL:https://stvincentferrer.net/event/blood-pressure-checks-16/
LOCATION:Church Hall\, 28353 Herbert\, Madison Heights\, MI\, 48071
CATEGORIES:Christian Service
GEO:42.4992176;-83.0971204
X-APPLE-STRUCTURED-LOCATION;VALUE=URI;X-ADDRESS=Church Hall 28353 Herbert Madison Heights MI 48071;X-APPLE-RADIUS=500;X-TITLE=28353 Herbert:geo:-83.0971204,42.4992176
END:VEVENT
BEGIN:VEVENT
DTSTART;TZID=America/Detroit:20240211T100000
DTEND;TZID=America/Detroit:20240211T110000
DTSTAMP:20260423T195626
CREATED:20240108T160445Z
LAST-MODIFIED:20240108T160445Z
UID:10004532-1707645600-1707649200@stvincentferrer.net
SUMMARY:Blood Pressure Checks
DESCRIPTION:
URL:https://stvincentferrer.net/event/blood-pressure-checks-15/
LOCATION:Church Hall\, 28353 Herbert\, Madison Heights\, MI\, 48071
CATEGORIES:Christian Service
ATTACH;FMTTYPE=image/jpeg:https://stvincentferrer.net/wp-content/uploads/2022/12/blood-pressure.jpg
GEO:42.4992176;-83.0971204
X-APPLE-STRUCTURED-LOCATION;VALUE=URI;X-ADDRESS=Church Hall 28353 Herbert Madison Heights MI 48071;X-APPLE-RADIUS=500;X-TITLE=28353 Herbert:geo:-83.0971204,42.4992176
END:VEVENT
BEGIN:VEVENT
DTSTART;TZID=America/Detroit:20231210T100000
DTEND;TZID=America/Detroit:20231210T110000
DTSTAMP:20260423T195626
CREATED:20231121T154204Z
LAST-MODIFIED:20231121T154204Z
UID:10004506-1702202400-1702206000@stvincentferrer.net
SUMMARY:Blood Pressure Checks
DESCRIPTION:
URL:https://stvincentferrer.net/event/blood-pressure-checks-14/
LOCATION:Church Hall\, 28353 Herbert\, Madison Heights\, MI\, 48071
CATEGORIES:Christian Service
ATTACH;FMTTYPE=image/jpeg:https://stvincentferrer.net/wp-content/uploads/2022/12/blood-pressure.jpg
GEO:42.4992176;-83.0971204
X-APPLE-STRUCTURED-LOCATION;VALUE=URI;X-ADDRESS=Church Hall 28353 Herbert Madison Heights MI 48071;X-APPLE-RADIUS=500;X-TITLE=28353 Herbert:geo:-83.0971204,42.4992176
END:VEVENT
BEGIN:VEVENT
DTSTART;TZID=America/Detroit:20231112T100000
DTEND;TZID=America/Detroit:20231112T110000
DTSTAMP:20260423T195626
CREATED:20231023T170642Z
LAST-MODIFIED:20231023T170642Z
UID:10004466-1699783200-1699786800@stvincentferrer.net
SUMMARY:Blood Pressure Checks after Mass
DESCRIPTION:
URL:https://stvincentferrer.net/event/blood-pressure-checks-after-mass-5/
CATEGORIES:Christian Service,Miscellaneous
ATTACH;FMTTYPE=image/jpeg:https://stvincentferrer.net/wp-content/uploads/2022/12/blood-pressure.jpg
END:VEVENT
BEGIN:VEVENT
DTSTART;TZID=America/Detroit:20231008T100000
DTEND;TZID=America/Detroit:20231008T110000
DTSTAMP:20260423T195626
CREATED:20230913T183836Z
LAST-MODIFIED:20230913T183836Z
UID:10004225-1696759200-1696762800@stvincentferrer.net
SUMMARY:Blood Pressure Checks after Mass
DESCRIPTION:
URL:https://stvincentferrer.net/event/blood-pressure-checks-after-mass-4/
LOCATION:Church Hall\, 28353 Herbert\, Madison Heights\, MI\, 48071
CATEGORIES:Miscellaneous
ATTACH;FMTTYPE=image/jpeg:https://stvincentferrer.net/wp-content/uploads/2022/12/blood-pressure.jpg
GEO:42.4992176;-83.0971204
X-APPLE-STRUCTURED-LOCATION;VALUE=URI;X-ADDRESS=Church Hall 28353 Herbert Madison Heights MI 48071;X-APPLE-RADIUS=500;X-TITLE=28353 Herbert:geo:-83.0971204,42.4992176
END:VEVENT
BEGIN:VEVENT
DTSTART;TZID=America/Detroit:20230910T100000
DTEND;TZID=America/Detroit:20230910T110000
DTSTAMP:20260423T195626
CREATED:20230815T150928Z
LAST-MODIFIED:20230815T150928Z
UID:10003778-1694340000-1694343600@stvincentferrer.net
SUMMARY:Blood Pressure Checks after Mass
DESCRIPTION:
URL:https://stvincentferrer.net/event/blood-pressure-checks-after-mass-3/
LOCATION:MI\, United States
CATEGORIES:Christian Service,Miscellaneous
GEO:44.3148443;-85.6023643
END:VEVENT
BEGIN:VEVENT
DTSTART;TZID=America/Detroit:20230813T100000
DTEND;TZID=America/Detroit:20230813T110000
DTSTAMP:20260423T195626
CREATED:20230726T194424Z
LAST-MODIFIED:20230726T194424Z
UID:10003773-1691920800-1691924400@stvincentferrer.net
SUMMARY:Blood Pressure Checks
DESCRIPTION:
URL:https://stvincentferrer.net/event/blood-pressure-checks-13/
LOCATION:Church Hall\, 28353 Herbert\, Madison Heights\, MI\, 48071
CATEGORIES:Christian Service,Miscellaneous
ATTACH;FMTTYPE=image/jpeg:https://stvincentferrer.net/wp-content/uploads/2022/12/blood-pressure.jpg
GEO:42.4992176;-83.0971204
X-APPLE-STRUCTURED-LOCATION;VALUE=URI;X-ADDRESS=Church Hall 28353 Herbert Madison Heights MI 48071;X-APPLE-RADIUS=500;X-TITLE=28353 Herbert:geo:-83.0971204,42.4992176
END:VEVENT
BEGIN:VEVENT
DTSTART;TZID=America/Detroit:20230611T100000
DTEND;TZID=America/Detroit:20230611T110000
DTSTAMP:20260423T195626
CREATED:20230517T185836Z
LAST-MODIFIED:20230517T185836Z
UID:10003754-1686477600-1686481200@stvincentferrer.net
SUMMARY:Blood Pressure checks
DESCRIPTION:The parish Nurse will be doing Blood Pressure Checks after mass in the church hall. All are welcome.
URL:https://stvincentferrer.net/event/blood-pressure-checks-12/
LOCATION:Church Hall\, 28353 Herbert\, Madison Heights\, MI\, 48071
CATEGORIES:Miscellaneous
ATTACH;FMTTYPE=image/png:https://stvincentferrer.net/wp-content/uploads/2021/09/blood-pressure.png
GEO:42.4992176;-83.0971204
X-APPLE-STRUCTURED-LOCATION;VALUE=URI;X-ADDRESS=Church Hall 28353 Herbert Madison Heights MI 48071;X-APPLE-RADIUS=500;X-TITLE=28353 Herbert:geo:-83.0971204,42.4992176
END:VEVENT
BEGIN:VEVENT
DTSTART;TZID=America/Detroit:20230507T100000
DTEND;TZID=America/Detroit:20230507T110000
DTSTAMP:20260423T195626
CREATED:20230403T191953Z
LAST-MODIFIED:20230403T191953Z
UID:10003435-1683453600-1683457200@stvincentferrer.net
SUMMARY:Blood Pressure Checks after Mass
DESCRIPTION:
URL:https://stvincentferrer.net/event/blood-pressure-checks-after-mass-2/
LOCATION:Church Hall\, 28353 Herbert\, Madison Heights\, MI\, 48071
CATEGORIES:Miscellaneous
ATTACH;FMTTYPE=image/png:https://stvincentferrer.net/wp-content/uploads/2021/09/blood-pressure.png
GEO:42.4992176;-83.0971204
X-APPLE-STRUCTURED-LOCATION;VALUE=URI;X-ADDRESS=Church Hall 28353 Herbert Madison Heights MI 48071;X-APPLE-RADIUS=500;X-TITLE=28353 Herbert:geo:-83.0971204,42.4992176
END:VEVENT
BEGIN:VEVENT
DTSTART;TZID=America/Detroit:20230402T100000
DTEND;TZID=America/Detroit:20230402T110000
DTSTAMP:20260423T195626
CREATED:20230215T205840Z
LAST-MODIFIED:20230215T205851Z
UID:10003415-1680429600-1680433200@stvincentferrer.net
SUMMARY:Coffee and Donuts /Blood Pressure Checks after Mass
DESCRIPTION:Please join us in the hall after Mass
URL:https://stvincentferrer.net/event/coffee-and-donuts-blood-pressure-checks-after-mass-2/
LOCATION:Church Hall\, 28353 Herbert\, Madison Heights\, MI\, 48071
CATEGORIES:Christian Service,Miscellaneous
ATTACH;FMTTYPE=image/jpeg:https://stvincentferrer.net/wp-content/uploads/2022/12/coffee-and-donuts.jpg
GEO:42.4992176;-83.0971204
X-APPLE-STRUCTURED-LOCATION;VALUE=URI;X-ADDRESS=Church Hall 28353 Herbert Madison Heights MI 48071;X-APPLE-RADIUS=500;X-TITLE=28353 Herbert:geo:-83.0971204,42.4992176
END:VEVENT
END:VCALENDAR