BEGIN:VCALENDAR
VERSION:2.0
PRODID:-//St. Vincent Ferrer Catholic Church - ECPv6.15.20//NONSGML v1.0//EN
CALSCALE:GREGORIAN
METHOD:PUBLISH
X-WR-CALNAME:St. Vincent Ferrer Catholic Church
X-ORIGINAL-URL:https://stvincentferrer.net
X-WR-CALDESC:Events for St. Vincent Ferrer Catholic Church
REFRESH-INTERVAL;VALUE=DURATION:PT1H
X-Robots-Tag:noindex
X-PUBLISHED-TTL:PT1H
BEGIN:VTIMEZONE
TZID:America/Detroit
BEGIN:DAYLIGHT
TZOFFSETFROM:-0500
TZOFFSETTO:-0400
TZNAME:EDT
DTSTART:20160313T070000
END:DAYLIGHT
BEGIN:STANDARD
TZOFFSETFROM:-0400
TZOFFSETTO:-0500
TZNAME:EST
DTSTART:20161106T060000
END:STANDARD
BEGIN:DAYLIGHT
TZOFFSETFROM:-0500
TZOFFSETTO:-0400
TZNAME:EDT
DTSTART:20170312T070000
END:DAYLIGHT
BEGIN:STANDARD
TZOFFSETFROM:-0400
TZOFFSETTO:-0500
TZNAME:EST
DTSTART:20171105T060000
END:STANDARD
BEGIN:DAYLIGHT
TZOFFSETFROM:-0500
TZOFFSETTO:-0400
TZNAME:EDT
DTSTART:20180311T070000
END:DAYLIGHT
BEGIN:STANDARD
TZOFFSETFROM:-0400
TZOFFSETTO:-0500
TZNAME:EST
DTSTART:20181104T060000
END:STANDARD
BEGIN:DAYLIGHT
TZOFFSETFROM:-0500
TZOFFSETTO:-0400
TZNAME:EDT
DTSTART:20190310T070000
END:DAYLIGHT
BEGIN:STANDARD
TZOFFSETFROM:-0400
TZOFFSETTO:-0500
TZNAME:EST
DTSTART:20191103T060000
END:STANDARD
BEGIN:DAYLIGHT
TZOFFSETFROM:-0500
TZOFFSETTO:-0400
TZNAME:EDT
DTSTART:20200308T070000
END:DAYLIGHT
BEGIN:STANDARD
TZOFFSETFROM:-0400
TZOFFSETTO:-0500
TZNAME:EST
DTSTART:20201101T060000
END:STANDARD
BEGIN:DAYLIGHT
TZOFFSETFROM:-0500
TZOFFSETTO:-0400
TZNAME:EDT
DTSTART:20210314T070000
END:DAYLIGHT
BEGIN:STANDARD
TZOFFSETFROM:-0400
TZOFFSETTO:-0500
TZNAME:EST
DTSTART:20211107T060000
END:STANDARD
BEGIN:DAYLIGHT
TZOFFSETFROM:-0500
TZOFFSETTO:-0400
TZNAME:EDT
DTSTART:20220313T070000
END:DAYLIGHT
BEGIN:STANDARD
TZOFFSETFROM:-0400
TZOFFSETTO:-0500
TZNAME:EST
DTSTART:20221106T060000
END:STANDARD
BEGIN:DAYLIGHT
TZOFFSETFROM:-0500
TZOFFSETTO:-0400
TZNAME:EDT
DTSTART:20230312T070000
END:DAYLIGHT
BEGIN:STANDARD
TZOFFSETFROM:-0400
TZOFFSETTO:-0500
TZNAME:EST
DTSTART:20231105T060000
END:STANDARD
BEGIN:DAYLIGHT
TZOFFSETFROM:-0500
TZOFFSETTO:-0400
TZNAME:EDT
DTSTART:20240310T070000
END:DAYLIGHT
BEGIN:STANDARD
TZOFFSETFROM:-0400
TZOFFSETTO:-0500
TZNAME:EST
DTSTART:20241103T060000
END:STANDARD
BEGIN:DAYLIGHT
TZOFFSETFROM:-0500
TZOFFSETTO:-0400
TZNAME:EDT
DTSTART:20250309T070000
END:DAYLIGHT
BEGIN:STANDARD
TZOFFSETFROM:-0400
TZOFFSETTO:-0500
TZNAME:EST
DTSTART:20251102T060000
END:STANDARD
END:VTIMEZONE
BEGIN:VEVENT
DTSTART;TZID=America/Detroit:20240921T133000
DTEND;TZID=America/Detroit:20240921T150000
DTSTAMP:20260424T064612
CREATED:20240903T200041Z
LAST-MODIFIED:20240903T200041Z
UID:10005853-1726925400-1726930800@stvincentferrer.net
SUMMARY:Baptism Preparation Class - 1:30
DESCRIPTION:
URL:https://stvincentferrer.net/event/baptism-preparation-class-130/
LOCATION:Conference Room – Admin Bldg
CATEGORIES:Christian Service,Miscellaneous
ATTACH;FMTTYPE=image/jpeg:https://stvincentferrer.net/wp-content/uploads/2024/03/Baptism_0011.jpg
ORGANIZER;CN="Mary Ann Przybysz":MAILTO:maryann@stvincentferrer.net
END:VEVENT
BEGIN:VEVENT
DTSTART;TZID=America/Detroit:20221001T083000
DTEND;TZID=America/Detroit:20221001T123000
DTSTAMP:20260424T064612
CREATED:20220902T140018Z
LAST-MODIFIED:20220902T143552Z
UID:10002207-1664613000-1664627400@stvincentferrer.net
SUMMARY:Mercy in Action 8:30 - 12:30 - Church\, Parish hall\, Admin hall
DESCRIPTION:Mercy in Action will be held at multiple locations on the campus. All are welcome.\nPlease sign up for the events at Church or call the parish office – 248-542-8720
URL:https://stvincentferrer.net/event/mercy-in-action-830-1230-church-parish-hall-admin-hall/
LOCATION:Hall Administration Building\, 28353 Herbert\, Madison Heights\, MI\, 48071
CATEGORIES:Christian Service,Miscellaneous
ORGANIZER;CN="Mary Ann Przybysz":MAILTO:maryann@stvincentferrer.net
GEO:42.4992176;-83.0971204
X-APPLE-STRUCTURED-LOCATION;VALUE=URI;X-ADDRESS=Hall Administration Building 28353 Herbert Madison Heights MI 48071;X-APPLE-RADIUS=500;X-TITLE=28353 Herbert:geo:-83.0971204,42.4992176
END:VEVENT
BEGIN:VEVENT
DTSTART;TZID=America/Detroit:20210517T110000
DTEND;TZID=America/Detroit:20210517T120000
DTSTAMP:20260424T064612
CREATED:20210308T170625Z
LAST-MODIFIED:20210422T180752Z
UID:10001599-1621249200-1621252800@stvincentferrer.net
SUMMARY:Holy Spirit Gifts - Class via Zoom
DESCRIPTION:MaryAnn will lead this post Easter class in preparation for Pentecost
URL:https://stvincentferrer.net/event/holy-spirit-gifts-class-via-zoom/2021-05-17/
LOCATION:Zoom class\, MI\, United States
CATEGORIES:Adult Faith Formation,Miscellaneous
ATTACH;FMTTYPE=image/jpeg:https://stvincentferrer.net/wp-content/uploads/2021/03/faith-4664706_1280.jpg
ORGANIZER;CN="Mary Ann Przybysz":MAILTO:maryann@stvincentferrer.net
GEO:44.3148443;-85.6023643
END:VEVENT
BEGIN:VEVENT
DTSTART;TZID=America/Detroit:20210510T110000
DTEND;TZID=America/Detroit:20210510T120000
DTSTAMP:20260424T064612
CREATED:20210308T170625Z
LAST-MODIFIED:20210422T180752Z
UID:10001598-1620644400-1620648000@stvincentferrer.net
SUMMARY:Holy Spirit Gifts - Class via Zoom
DESCRIPTION:MaryAnn will lead this post Easter class in preparation for Pentecost
URL:https://stvincentferrer.net/event/holy-spirit-gifts-class-via-zoom/2021-05-10/
LOCATION:Zoom class\, MI\, United States
CATEGORIES:Adult Faith Formation,Miscellaneous
ATTACH;FMTTYPE=image/jpeg:https://stvincentferrer.net/wp-content/uploads/2021/03/faith-4664706_1280.jpg
ORGANIZER;CN="Mary Ann Przybysz":MAILTO:maryann@stvincentferrer.net
GEO:44.3148443;-85.6023643
END:VEVENT
BEGIN:VEVENT
DTSTART;TZID=America/Detroit:20210503T110000
DTEND;TZID=America/Detroit:20210503T120000
DTSTAMP:20260424T064612
CREATED:20210308T170625Z
LAST-MODIFIED:20210422T180752Z
UID:10001597-1620039600-1620043200@stvincentferrer.net
SUMMARY:Holy Spirit Gifts - Class via Zoom
DESCRIPTION:MaryAnn will lead this post Easter class in preparation for Pentecost
URL:https://stvincentferrer.net/event/holy-spirit-gifts-class-via-zoom/2021-05-03/
LOCATION:Zoom class\, MI\, United States
CATEGORIES:Adult Faith Formation,Miscellaneous
ATTACH;FMTTYPE=image/jpeg:https://stvincentferrer.net/wp-content/uploads/2021/03/faith-4664706_1280.jpg
ORGANIZER;CN="Mary Ann Przybysz":MAILTO:maryann@stvincentferrer.net
GEO:44.3148443;-85.6023643
END:VEVENT
BEGIN:VEVENT
DTSTART;TZID=America/Detroit:20210426T110000
DTEND;TZID=America/Detroit:20210426T120000
DTSTAMP:20260424T064612
CREATED:20210308T170625Z
LAST-MODIFIED:20210422T180752Z
UID:10001596-1619434800-1619438400@stvincentferrer.net
SUMMARY:Holy Spirit Gifts - Class via Zoom
DESCRIPTION:MaryAnn will lead this post Easter class in preparation for Pentecost
URL:https://stvincentferrer.net/event/holy-spirit-gifts-class-via-zoom/2021-04-26/
LOCATION:Zoom class\, MI\, United States
CATEGORIES:Adult Faith Formation,Miscellaneous
ATTACH;FMTTYPE=image/jpeg:https://stvincentferrer.net/wp-content/uploads/2021/03/faith-4664706_1280.jpg
ORGANIZER;CN="Mary Ann Przybysz":MAILTO:maryann@stvincentferrer.net
GEO:44.3148443;-85.6023643
END:VEVENT
BEGIN:VEVENT
DTSTART;TZID=America/Detroit:20210419T110000
DTEND;TZID=America/Detroit:20210419T120000
DTSTAMP:20260424T064612
CREATED:20210308T170625Z
LAST-MODIFIED:20210422T180752Z
UID:10001595-1618830000-1618833600@stvincentferrer.net
SUMMARY:Holy Spirit Gifts - Class via Zoom
DESCRIPTION:MaryAnn will lead this post Easter class in preparation for Pentecost
URL:https://stvincentferrer.net/event/holy-spirit-gifts-class-via-zoom/2021-04-19/
LOCATION:Zoom class\, MI\, United States
CATEGORIES:Adult Faith Formation,Miscellaneous
ATTACH;FMTTYPE=image/jpeg:https://stvincentferrer.net/wp-content/uploads/2021/03/faith-4664706_1280.jpg
ORGANIZER;CN="Mary Ann Przybysz":MAILTO:maryann@stvincentferrer.net
GEO:44.3148443;-85.6023643
END:VEVENT
BEGIN:VEVENT
DTSTART;TZID=America/Detroit:20210412T110000
DTEND;TZID=America/Detroit:20210412T120000
DTSTAMP:20260424T064612
CREATED:20210308T170625Z
LAST-MODIFIED:20210422T180752Z
UID:10001594-1618225200-1618228800@stvincentferrer.net
SUMMARY:Holy Spirit Gifts - Class via Zoom
DESCRIPTION:MaryAnn will lead this post Easter class in preparation for Pentecost
URL:https://stvincentferrer.net/event/holy-spirit-gifts-class-via-zoom/2021-04-12/
LOCATION:Zoom class\, MI\, United States
CATEGORIES:Adult Faith Formation,Miscellaneous
ATTACH;FMTTYPE=image/jpeg:https://stvincentferrer.net/wp-content/uploads/2021/03/faith-4664706_1280.jpg
ORGANIZER;CN="Mary Ann Przybysz":MAILTO:maryann@stvincentferrer.net
GEO:44.3148443;-85.6023643
END:VEVENT
BEGIN:VEVENT
DTSTART;TZID=America/Detroit:20170401T130000
DTEND;TZID=America/Detroit:20170401T153000
DTSTAMP:20260424T064612
CREATED:20170320T162714Z
LAST-MODIFIED:20170325T190607Z
UID:10000147-1491051600-1491060600@stvincentferrer.net
SUMMARY:Potluck Book Study
DESCRIPTION:Adult Faith Formation presents a book discussion on the “Relentless Tenderness of Jesus” by Brennan Manning.  For more information call Mary Ann Przybysz 248-542-8720.
URL:https://stvincentferrer.net/event/potluck-book-study/
LOCATION:Hall Administration Building\, 28353 Herbert\, Madison Heights\, MI\, 48071
CATEGORIES:Adult Faith Formation
ORGANIZER;CN="Mary Ann Przybysz":MAILTO:maryann@stvincentferrer.net
GEO:42.4992176;-83.0971204
X-APPLE-STRUCTURED-LOCATION;VALUE=URI;X-ADDRESS=Hall Administration Building 28353 Herbert Madison Heights MI 48071;X-APPLE-RADIUS=500;X-TITLE=28353 Herbert:geo:-83.0971204,42.4992176
END:VEVENT
END:VCALENDAR