BEGIN:VCALENDAR
VERSION:2.0
PRODID:-//St. Vincent Ferrer Catholic Church - ECPv6.15.20//NONSGML v1.0//EN
CALSCALE:GREGORIAN
METHOD:PUBLISH
X-ORIGINAL-URL:https://stvincentferrer.net
X-WR-CALDESC:Events for St. Vincent Ferrer Catholic Church
REFRESH-INTERVAL;VALUE=DURATION:PT1H
X-Robots-Tag:noindex
X-PUBLISHED-TTL:PT1H
BEGIN:VTIMEZONE
TZID:America/Detroit
BEGIN:DAYLIGHT
TZOFFSETFROM:-0500
TZOFFSETTO:-0400
TZNAME:EDT
DTSTART:20200308T070000
END:DAYLIGHT
BEGIN:STANDARD
TZOFFSETFROM:-0400
TZOFFSETTO:-0500
TZNAME:EST
DTSTART:20201101T060000
END:STANDARD
BEGIN:DAYLIGHT
TZOFFSETFROM:-0500
TZOFFSETTO:-0400
TZNAME:EDT
DTSTART:20210314T070000
END:DAYLIGHT
BEGIN:STANDARD
TZOFFSETFROM:-0400
TZOFFSETTO:-0500
TZNAME:EST
DTSTART:20211107T060000
END:STANDARD
BEGIN:DAYLIGHT
TZOFFSETFROM:-0500
TZOFFSETTO:-0400
TZNAME:EDT
DTSTART:20220313T070000
END:DAYLIGHT
BEGIN:STANDARD
TZOFFSETFROM:-0400
TZOFFSETTO:-0500
TZNAME:EST
DTSTART:20221106T060000
END:STANDARD
BEGIN:DAYLIGHT
TZOFFSETFROM:-0500
TZOFFSETTO:-0400
TZNAME:EDT
DTSTART:20230312T070000
END:DAYLIGHT
BEGIN:STANDARD
TZOFFSETFROM:-0400
TZOFFSETTO:-0500
TZNAME:EST
DTSTART:20231105T060000
END:STANDARD
BEGIN:DAYLIGHT
TZOFFSETFROM:-0500
TZOFFSETTO:-0400
TZNAME:EDT
DTSTART:20240310T070000
END:DAYLIGHT
BEGIN:STANDARD
TZOFFSETFROM:-0400
TZOFFSETTO:-0500
TZNAME:EST
DTSTART:20241103T060000
END:STANDARD
END:VTIMEZONE
BEGIN:VEVENT
DTSTART;TZID=America/Detroit:20230115T100000
DTEND;TZID=America/Detroit:20230115T113000
DTSTAMP:20260423T214930
CREATED:20221219T162712Z
LAST-MODIFIED:20221219T162712Z
UID:10002725-1673776800-1673782200@stvincentferrer.net
SUMMARY:Coffee and Donuts in Church Hall after Mass
DESCRIPTION:Join us after Mass in the church hall.
URL:https://stvincentferrer.net/event/coffee-and-donuts-in-church-hall-after-mass/
LOCATION:Church Hall\, 28353 Herbert\, Madison Heights\, MI\, 48071
CATEGORIES:Miscellaneous
ATTACH;FMTTYPE=image/jpeg:https://stvincentferrer.net/wp-content/uploads/2022/12/coffee-and-donuts.jpg
GEO:42.4992176;-83.0971204
X-APPLE-STRUCTURED-LOCATION;VALUE=URI;X-ADDRESS=Church Hall 28353 Herbert Madison Heights MI 48071;X-APPLE-RADIUS=500;X-TITLE=28353 Herbert:geo:-83.0971204,42.4992176
END:VEVENT
BEGIN:VEVENT
DTSTART;TZID=America/Detroit:20221211T100000
DTEND;TZID=America/Detroit:20221211T113000
DTSTAMP:20260423T214930
CREATED:20221117T194530Z
LAST-MODIFIED:20221117T194530Z
UID:10002296-1670752800-1670758200@stvincentferrer.net
SUMMARY:Coffee and Donuts
DESCRIPTION:Coffee and Donuts after Mass
URL:https://stvincentferrer.net/event/coffee-and-donuts-13/
LOCATION:St. Vincent Ferrer Church\, 28353 Herbert\, Madison Heights\, MI\, 48071
CATEGORIES:Miscellaneous
ATTACH;FMTTYPE=image/jpeg:https://stvincentferrer.net/wp-content/uploads/2017/03/coffee-and-donuts-clipart-coffeedonut.jpg
GEO:42.4992176;-83.0971204
X-APPLE-STRUCTURED-LOCATION;VALUE=URI;X-ADDRESS=St. Vincent Ferrer Church 28353 Herbert Madison Heights MI 48071;X-APPLE-RADIUS=500;X-TITLE=28353 Herbert:geo:-83.0971204,42.4992176
END:VEVENT
BEGIN:VEVENT
DTSTART;TZID=America/Detroit:20221113T100000
DTEND;TZID=America/Detroit:20221113T113000
DTSTAMP:20260423T214930
CREATED:20221024T161044Z
LAST-MODIFIED:20221024T161044Z
UID:10002218-1668333600-1668339000@stvincentferrer.net
SUMMARY:Coffee and Donuts
DESCRIPTION:Join us after Mass
URL:https://stvincentferrer.net/event/coffee-and-donuts-12/
LOCATION:Church Hall\, 28353 Herbert\, Madison Heights\, MI\, 48071
ATTACH;FMTTYPE=image/jpeg:https://stvincentferrer.net/wp-content/uploads/2017/03/coffee-and-donuts-clipart-coffeedonut.jpg
GEO:42.4992176;-83.0971204
X-APPLE-STRUCTURED-LOCATION;VALUE=URI;X-ADDRESS=Church Hall 28353 Herbert Madison Heights MI 48071;X-APPLE-RADIUS=500;X-TITLE=28353 Herbert:geo:-83.0971204,42.4992176
END:VEVENT
BEGIN:VEVENT
DTSTART;TZID=America/Detroit:20221009T100000
DTEND;TZID=America/Detroit:20221009T113000
DTSTAMP:20260423T214930
CREATED:20220831T184628Z
LAST-MODIFIED:20220831T184628Z
UID:10002198-1665309600-1665315000@stvincentferrer.net
SUMMARY:Coffee and Donuts
DESCRIPTION:
URL:https://stvincentferrer.net/event/coffee-and-donuts-10/
LOCATION:Church Hall\, 28353 Herbert\, Madison Heights\, MI\, 48071
CATEGORIES:Miscellaneous
ATTACH;FMTTYPE=image/jpeg:https://stvincentferrer.net/wp-content/uploads/2017/03/coffee-and-donuts-clipart-coffeedonut.jpg
GEO:42.4992176;-83.0971204
X-APPLE-STRUCTURED-LOCATION;VALUE=URI;X-ADDRESS=Church Hall 28353 Herbert Madison Heights MI 48071;X-APPLE-RADIUS=500;X-TITLE=28353 Herbert:geo:-83.0971204,42.4992176
END:VEVENT
BEGIN:VEVENT
DTSTART;TZID=America/Detroit:20220911T100000
DTEND;TZID=America/Detroit:20220911T113000
DTSTAMP:20260423T214930
CREATED:20220831T185052Z
LAST-MODIFIED:20220831T185052Z
UID:10002199-1662890400-1662895800@stvincentferrer.net
SUMMARY:Coffee and Donuts
DESCRIPTION:
URL:https://stvincentferrer.net/event/coffee-and-donuts-11/
LOCATION:Church Hall\, 28353 Herbert\, Madison Heights\, MI\, 48071
CATEGORIES:Christian Service
ATTACH;FMTTYPE=image/jpeg:https://stvincentferrer.net/wp-content/uploads/2017/03/coffee-and-donuts-clipart-coffeedonut.jpg
GEO:42.4992176;-83.0971204
X-APPLE-STRUCTURED-LOCATION;VALUE=URI;X-ADDRESS=Church Hall 28353 Herbert Madison Heights MI 48071;X-APPLE-RADIUS=500;X-TITLE=28353 Herbert:geo:-83.0971204,42.4992176
END:VEVENT
BEGIN:VEVENT
DTSTART;TZID=America/Detroit:20220814T100000
DTEND;TZID=America/Detroit:20220814T113000
DTSTAMP:20260423T214930
CREATED:20220718T160407Z
LAST-MODIFIED:20220718T160407Z
UID:10002183-1660471200-1660476600@stvincentferrer.net
SUMMARY:Coffee and Donuts -Sunday August 14
DESCRIPTION:
URL:https://stvincentferrer.net/event/coffee-and-donuts-sunday-august-14/
LOCATION:Church Hall\, 28353 Herbert\, Madison Heights\, MI\, 48071
ATTACH;FMTTYPE=image/jpeg:https://stvincentferrer.net/wp-content/uploads/2017/03/coffee-and-donuts-clipart-coffeedonut.jpg
GEO:42.4992176;-83.0971204
X-APPLE-STRUCTURED-LOCATION;VALUE=URI;X-ADDRESS=Church Hall 28353 Herbert Madison Heights MI 48071;X-APPLE-RADIUS=500;X-TITLE=28353 Herbert:geo:-83.0971204,42.4992176
END:VEVENT
BEGIN:VEVENT
DTSTART;TZID=America/Detroit:20220710T100000
DTEND;TZID=America/Detroit:20220710T110000
DTSTAMP:20260423T214930
CREATED:20220706T150930Z
LAST-MODIFIED:20220706T150930Z
UID:10002182-1657447200-1657450800@stvincentferrer.net
SUMMARY:Coffee and Donuts
DESCRIPTION:
URL:https://stvincentferrer.net/event/coffee-and-donuts-9/
LOCATION:Church Hall\, 28353 Herbert\, Madison Heights\, MI\, 48071
CATEGORIES:Christian Service,Miscellaneous
ATTACH;FMTTYPE=image/jpeg:https://stvincentferrer.net/wp-content/uploads/2017/03/coffee-and-donuts-clipart-coffeedonut.jpg
GEO:42.4992176;-83.0971204
X-APPLE-STRUCTURED-LOCATION;VALUE=URI;X-ADDRESS=Church Hall 28353 Herbert Madison Heights MI 48071;X-APPLE-RADIUS=500;X-TITLE=28353 Herbert:geo:-83.0971204,42.4992176
END:VEVENT
BEGIN:VEVENT
DTSTART;TZID=America/Detroit:20220612T100000
DTEND;TZID=America/Detroit:20220612T110000
DTSTAMP:20260423T214930
CREATED:20220606T190907Z
LAST-MODIFIED:20220606T190907Z
UID:10002166-1655028000-1655031600@stvincentferrer.net
SUMMARY:Coffee and Donuts
DESCRIPTION:
URL:https://stvincentferrer.net/event/coffee-and-donuts-8/
LOCATION:Church Hall\, 28353 Herbert\, Madison Heights\, MI\, 48071
CATEGORIES:Christian Service
ATTACH;FMTTYPE=image/jpeg:https://stvincentferrer.net/wp-content/uploads/2017/03/coffee-and-donuts-clipart-coffeedonut.jpg
GEO:42.4992176;-83.0971204
X-APPLE-STRUCTURED-LOCATION;VALUE=URI;X-ADDRESS=Church Hall 28353 Herbert Madison Heights MI 48071;X-APPLE-RADIUS=500;X-TITLE=28353 Herbert:geo:-83.0971204,42.4992176
END:VEVENT
BEGIN:VEVENT
DTSTART;TZID=America/Detroit:20220515T100000
DTEND;TZID=America/Detroit:20220515T110000
DTSTAMP:20260423T214930
CREATED:20220421T163343Z
LAST-MODIFIED:20220421T163343Z
UID:10002153-1652608800-1652612400@stvincentferrer.net
SUMMARY:Coffee and Donuts
DESCRIPTION:
URL:https://stvincentferrer.net/event/coffee-and-donuts-7/
LOCATION:Church Hall\, 28353 Herbert\, Madison Heights\, MI\, 48071
CATEGORIES:Christian Service,Miscellaneous
ATTACH;FMTTYPE=image/jpeg:https://stvincentferrer.net/wp-content/uploads/2017/03/coffee-and-donuts-clipart-coffeedonut.jpg
GEO:42.4992176;-83.0971204
X-APPLE-STRUCTURED-LOCATION;VALUE=URI;X-ADDRESS=Church Hall 28353 Herbert Madison Heights MI 48071;X-APPLE-RADIUS=500;X-TITLE=28353 Herbert:geo:-83.0971204,42.4992176
END:VEVENT
BEGIN:VEVENT
DTSTART;TZID=America/Detroit:20220410T100000
DTEND;TZID=America/Detroit:20220410T110000
DTSTAMP:20260423T214930
CREATED:20220302T142147Z
LAST-MODIFIED:20220321T160649Z
UID:10002129-1649584800-1649588400@stvincentferrer.net
SUMMARY:Coffee and Donuts
DESCRIPTION:Join us for Coffee\, Donuts and fellowship.
URL:https://stvincentferrer.net/event/coffee-and-donuts-6/
LOCATION:Church Hall\, 28353 Herbert\, Madison Heights\, MI\, 48071
CATEGORIES:Christian Service
ATTACH;FMTTYPE=image/jpeg:https://stvincentferrer.net/wp-content/uploads/2017/03/coffee-and-donuts-clipart-coffeedonut.jpg
GEO:42.4992176;-83.0971204
X-APPLE-STRUCTURED-LOCATION;VALUE=URI;X-ADDRESS=Church Hall 28353 Herbert Madison Heights MI 48071;X-APPLE-RADIUS=500;X-TITLE=28353 Herbert:geo:-83.0971204,42.4992176
END:VEVENT
BEGIN:VEVENT
DTSTART;TZID=America/Detroit:20220313T090000
DTEND;TZID=America/Detroit:20220313T100000
DTSTAMP:20260423T214930
CREATED:20220209T202054Z
LAST-MODIFIED:20220209T202054Z
UID:10002120-1647162000-1647165600@stvincentferrer.net
SUMMARY:Coffee and Donuts after Mass
DESCRIPTION:Join us for coffee and Donuts and fellowship.
URL:https://stvincentferrer.net/event/coffee-and-donuts-after-mass/
LOCATION:Church Hall\, 28353 Herbert\, Madison Heights\, MI\, 48071
CATEGORIES:Christian Service,Miscellaneous
ATTACH;FMTTYPE=image/jpeg:https://stvincentferrer.net/wp-content/uploads/2017/03/coffee-and-donuts-clipart-coffeedonut.jpg
GEO:42.4992176;-83.0971204
X-APPLE-STRUCTURED-LOCATION;VALUE=URI;X-ADDRESS=Church Hall 28353 Herbert Madison Heights MI 48071;X-APPLE-RADIUS=500;X-TITLE=28353 Herbert:geo:-83.0971204,42.4992176
END:VEVENT
BEGIN:VEVENT
DTSTART;TZID=America/Detroit:20220213T100000
DTEND;TZID=America/Detroit:20220213T113000
DTSTAMP:20260423T214930
CREATED:20220213T185328Z
LAST-MODIFIED:20220113T193903Z
UID:10002124-1644746400-1644751800@stvincentferrer.net
SUMMARY:Coffee and Donuts
DESCRIPTION:Join us for Coffee and Donuts after service in the hall.
URL:https://stvincentferrer.net/event/coffee-and-donuts-4/
LOCATION:Church Hall\, 28353 Herbert\, Madison Heights\, MI\, 48071
CATEGORIES:Christian Service,Miscellaneous
ATTACH;FMTTYPE=image/jpeg:https://stvincentferrer.net/wp-content/uploads/2017/03/coffee-and-donuts-clipart-coffeedonut.jpg
GEO:42.4992176;-83.0971204
X-APPLE-STRUCTURED-LOCATION;VALUE=URI;X-ADDRESS=Church Hall 28353 Herbert Madison Heights MI 48071;X-APPLE-RADIUS=500;X-TITLE=28353 Herbert:geo:-83.0971204,42.4992176
END:VEVENT
BEGIN:VEVENT
DTSTART;TZID=America/Detroit:20220109T100000
DTEND;TZID=America/Detroit:20220109T110000
DTSTAMP:20260423T214930
CREATED:20211215T193452Z
LAST-MODIFIED:20211215T193452Z
UID:10002096-1641722400-1641726000@stvincentferrer.net
SUMMARY:Coffee and Donuts
DESCRIPTION:Please join for coffee and donuts after mass. \n 
URL:https://stvincentferrer.net/event/coffee-and-donuts-3/
LOCATION:Church Hall\, 28353 Herbert\, Madison Heights\, MI\, 48071
CATEGORIES:Christian Service,Miscellaneous
ATTACH;FMTTYPE=image/jpeg:https://stvincentferrer.net/wp-content/uploads/2017/03/coffee-and-donuts-clipart-coffeedonut.jpg
GEO:42.4992176;-83.0971204
X-APPLE-STRUCTURED-LOCATION;VALUE=URI;X-ADDRESS=Church Hall 28353 Herbert Madison Heights MI 48071;X-APPLE-RADIUS=500;X-TITLE=28353 Herbert:geo:-83.0971204,42.4992176
END:VEVENT
BEGIN:VEVENT
DTSTART;TZID=America/Detroit:20210927T190000
DTEND;TZID=America/Detroit:20210927T203000
DTSTAMP:20260423T214930
CREATED:20210805T193022Z
LAST-MODIFIED:20210908T171644Z
UID:10001669-1632769200-1632774600@stvincentferrer.net
SUMMARY:Faith Formation Classes Start - Zoom on line
DESCRIPTION:
URL:https://stvincentferrer.net/event/faith-formation-classes-start-zoom-on-line/
LOCATION:Zoom class\, MI\, United States
CATEGORIES:Youth Faith Formation
ATTACH;FMTTYPE=image/jpeg:https://stvincentferrer.net/wp-content/uploads/2017/08/August.jpg
GEO:44.3148443;-85.6023643
END:VEVENT
END:VCALENDAR