BEGIN:VCALENDAR
VERSION:2.0
PRODID:-//St. Vincent Ferrer Catholic Church - ECPv6.15.20//NONSGML v1.0//EN
CALSCALE:GREGORIAN
METHOD:PUBLISH
X-ORIGINAL-URL:https://stvincentferrer.net
X-WR-CALDESC:Events for St. Vincent Ferrer Catholic Church
REFRESH-INTERVAL;VALUE=DURATION:PT1H
X-Robots-Tag:noindex
X-PUBLISHED-TTL:PT1H
BEGIN:VTIMEZONE
TZID:America/Detroit
BEGIN:DAYLIGHT
TZOFFSETFROM:-0500
TZOFFSETTO:-0400
TZNAME:EDT
DTSTART:20150308T070000
END:DAYLIGHT
BEGIN:STANDARD
TZOFFSETFROM:-0400
TZOFFSETTO:-0500
TZNAME:EST
DTSTART:20151101T060000
END:STANDARD
BEGIN:DAYLIGHT
TZOFFSETFROM:-0500
TZOFFSETTO:-0400
TZNAME:EDT
DTSTART:20160313T070000
END:DAYLIGHT
BEGIN:STANDARD
TZOFFSETFROM:-0400
TZOFFSETTO:-0500
TZNAME:EST
DTSTART:20161106T060000
END:STANDARD
BEGIN:DAYLIGHT
TZOFFSETFROM:-0500
TZOFFSETTO:-0400
TZNAME:EDT
DTSTART:20170312T070000
END:DAYLIGHT
BEGIN:STANDARD
TZOFFSETFROM:-0400
TZOFFSETTO:-0500
TZNAME:EST
DTSTART:20171105T060000
END:STANDARD
BEGIN:DAYLIGHT
TZOFFSETFROM:-0500
TZOFFSETTO:-0400
TZNAME:EDT
DTSTART:20180311T070000
END:DAYLIGHT
BEGIN:STANDARD
TZOFFSETFROM:-0400
TZOFFSETTO:-0500
TZNAME:EST
DTSTART:20181104T060000
END:STANDARD
END:VTIMEZONE
BEGIN:VEVENT
DTSTART;TZID=America/Detroit:20170730T080000
DTEND;TZID=America/Detroit:20170730T090000
DTSTAMP:20260425T130210
CREATED:20170328T181427Z
LAST-MODIFIED:20171206T160339Z
UID:10000274-1501401600-1501405200@stvincentferrer.net
SUMMARY:Mass
DESCRIPTION:Weekly Mass – Father John Esper Presiding (in English)
URL:https://stvincentferrer.net/event/mass/2017-07-30/
LOCATION:St. Vincent Ferrer Church\, 28353 Herbert\, Madison Heights\, MI\, 48071
CATEGORIES:Mass,Worship
GEO:42.4992176;-83.0971204
X-APPLE-STRUCTURED-LOCATION;VALUE=URI;X-ADDRESS=St. Vincent Ferrer Church 28353 Herbert Madison Heights MI 48071;X-APPLE-RADIUS=500;X-TITLE=28353 Herbert:geo:-83.0971204,42.4992176
END:VEVENT
BEGIN:VEVENT
DTSTART;TZID=America/Detroit:20170723T080000
DTEND;TZID=America/Detroit:20170723T090000
DTSTAMP:20260425T130210
CREATED:20170328T181427Z
LAST-MODIFIED:20171206T160339Z
UID:10000273-1500796800-1500800400@stvincentferrer.net
SUMMARY:Mass
DESCRIPTION:Weekly Mass – Father John Esper Presiding (in English)
URL:https://stvincentferrer.net/event/mass/2017-07-23/
LOCATION:St. Vincent Ferrer Church\, 28353 Herbert\, Madison Heights\, MI\, 48071
CATEGORIES:Mass,Worship
GEO:42.4992176;-83.0971204
X-APPLE-STRUCTURED-LOCATION;VALUE=URI;X-ADDRESS=St. Vincent Ferrer Church 28353 Herbert Madison Heights MI 48071;X-APPLE-RADIUS=500;X-TITLE=28353 Herbert:geo:-83.0971204,42.4992176
END:VEVENT
BEGIN:VEVENT
DTSTART;TZID=America/Detroit:20170716T080000
DTEND;TZID=America/Detroit:20170716T090000
DTSTAMP:20260425T130210
CREATED:20170328T181427Z
LAST-MODIFIED:20171206T160339Z
UID:10000272-1500192000-1500195600@stvincentferrer.net
SUMMARY:Mass
DESCRIPTION:Weekly Mass – Father John Esper Presiding (in English)
URL:https://stvincentferrer.net/event/mass/2017-07-16/
LOCATION:St. Vincent Ferrer Church\, 28353 Herbert\, Madison Heights\, MI\, 48071
CATEGORIES:Mass,Worship
GEO:42.4992176;-83.0971204
X-APPLE-STRUCTURED-LOCATION;VALUE=URI;X-ADDRESS=St. Vincent Ferrer Church 28353 Herbert Madison Heights MI 48071;X-APPLE-RADIUS=500;X-TITLE=28353 Herbert:geo:-83.0971204,42.4992176
END:VEVENT
BEGIN:VEVENT
DTSTART;TZID=America/Detroit:20170709T080000
DTEND;TZID=America/Detroit:20170709T090000
DTSTAMP:20260425T130210
CREATED:20170328T181427Z
LAST-MODIFIED:20171206T160339Z
UID:10000271-1499587200-1499590800@stvincentferrer.net
SUMMARY:Mass
DESCRIPTION:Weekly Mass – Father John Esper Presiding (in English)
URL:https://stvincentferrer.net/event/mass/2017-07-09/
LOCATION:St. Vincent Ferrer Church\, 28353 Herbert\, Madison Heights\, MI\, 48071
CATEGORIES:Mass,Worship
GEO:42.4992176;-83.0971204
X-APPLE-STRUCTURED-LOCATION;VALUE=URI;X-ADDRESS=St. Vincent Ferrer Church 28353 Herbert Madison Heights MI 48071;X-APPLE-RADIUS=500;X-TITLE=28353 Herbert:geo:-83.0971204,42.4992176
END:VEVENT
BEGIN:VEVENT
DTSTART;TZID=America/Detroit:20170702T080000
DTEND;TZID=America/Detroit:20170702T090000
DTSTAMP:20260425T130210
CREATED:20170328T181427Z
LAST-MODIFIED:20171206T160339Z
UID:10000270-1498982400-1498986000@stvincentferrer.net
SUMMARY:Mass
DESCRIPTION:Weekly Mass – Father John Esper Presiding (in English)
URL:https://stvincentferrer.net/event/mass/2017-07-02/
LOCATION:St. Vincent Ferrer Church\, 28353 Herbert\, Madison Heights\, MI\, 48071
CATEGORIES:Mass,Worship
GEO:42.4992176;-83.0971204
X-APPLE-STRUCTURED-LOCATION;VALUE=URI;X-ADDRESS=St. Vincent Ferrer Church 28353 Herbert Madison Heights MI 48071;X-APPLE-RADIUS=500;X-TITLE=28353 Herbert:geo:-83.0971204,42.4992176
END:VEVENT
BEGIN:VEVENT
DTSTART;TZID=America/Detroit:20170625T080000
DTEND;TZID=America/Detroit:20170625T090000
DTSTAMP:20260425T130210
CREATED:20170328T181427Z
LAST-MODIFIED:20171206T160339Z
UID:10000269-1498377600-1498381200@stvincentferrer.net
SUMMARY:Mass
DESCRIPTION:Weekly Mass – Father John Esper Presiding (in English)
URL:https://stvincentferrer.net/event/mass/2017-06-25/
LOCATION:St. Vincent Ferrer Church\, 28353 Herbert\, Madison Heights\, MI\, 48071
CATEGORIES:Mass,Worship
GEO:42.4992176;-83.0971204
X-APPLE-STRUCTURED-LOCATION;VALUE=URI;X-ADDRESS=St. Vincent Ferrer Church 28353 Herbert Madison Heights MI 48071;X-APPLE-RADIUS=500;X-TITLE=28353 Herbert:geo:-83.0971204,42.4992176
END:VEVENT
BEGIN:VEVENT
DTSTART;TZID=America/Detroit:20170618T080000
DTEND;TZID=America/Detroit:20170618T090000
DTSTAMP:20260425T130210
CREATED:20170328T181427Z
LAST-MODIFIED:20171206T160339Z
UID:10000268-1497772800-1497776400@stvincentferrer.net
SUMMARY:Mass
DESCRIPTION:Weekly Mass – Father John Esper Presiding (in English)
URL:https://stvincentferrer.net/event/mass/2017-06-18/
LOCATION:St. Vincent Ferrer Church\, 28353 Herbert\, Madison Heights\, MI\, 48071
CATEGORIES:Mass,Worship
GEO:42.4992176;-83.0971204
X-APPLE-STRUCTURED-LOCATION;VALUE=URI;X-ADDRESS=St. Vincent Ferrer Church 28353 Herbert Madison Heights MI 48071;X-APPLE-RADIUS=500;X-TITLE=28353 Herbert:geo:-83.0971204,42.4992176
END:VEVENT
BEGIN:VEVENT
DTSTART;TZID=America/Detroit:20170611T080000
DTEND;TZID=America/Detroit:20170611T090000
DTSTAMP:20260425T130210
CREATED:20170328T181427Z
LAST-MODIFIED:20171206T160339Z
UID:10000267-1497168000-1497171600@stvincentferrer.net
SUMMARY:Mass
DESCRIPTION:Weekly Mass – Father John Esper Presiding (in English)
URL:https://stvincentferrer.net/event/mass/2017-06-11/
LOCATION:St. Vincent Ferrer Church\, 28353 Herbert\, Madison Heights\, MI\, 48071
CATEGORIES:Mass,Worship
GEO:42.4992176;-83.0971204
X-APPLE-STRUCTURED-LOCATION;VALUE=URI;X-ADDRESS=St. Vincent Ferrer Church 28353 Herbert Madison Heights MI 48071;X-APPLE-RADIUS=500;X-TITLE=28353 Herbert:geo:-83.0971204,42.4992176
END:VEVENT
BEGIN:VEVENT
DTSTART;TZID=America/Detroit:20170610T160000
DTEND;TZID=America/Detroit:20170610T170000
DTSTAMP:20260425T130210
CREATED:20170328T181427Z
LAST-MODIFIED:20170608T192227Z
UID:10000404-1497110400-1497114000@stvincentferrer.net
SUMMARY:Fr. Craig's Mass of Thanksgiving
DESCRIPTION:Newly ordained Fr. Craig Marion will celebrate a mass of Thanksgiving.  The parish has prayed and supported Fr. Craig through the seminary and we gather today to congratulate and bless him in his vocation.
URL:https://stvincentferrer.net/event/mass-2017-06-10/
LOCATION:St. Vincent Ferrer Church\, 28353 Herbert\, Madison Heights\, MI\, 48071
CATEGORIES:Mass,Worship
GEO:42.4992176;-83.0971204
X-APPLE-STRUCTURED-LOCATION;VALUE=URI;X-ADDRESS=St. Vincent Ferrer Church 28353 Herbert Madison Heights MI 48071;X-APPLE-RADIUS=500;X-TITLE=28353 Herbert:geo:-83.0971204,42.4992176
END:VEVENT
BEGIN:VEVENT
DTSTART;TZID=America/Detroit:20170604T080000
DTEND;TZID=America/Detroit:20170604T090000
DTSTAMP:20260425T130210
CREATED:20170328T181427Z
LAST-MODIFIED:20171206T160339Z
UID:10000266-1496563200-1496566800@stvincentferrer.net
SUMMARY:Mass
DESCRIPTION:Weekly Mass – Father John Esper Presiding (in English)
URL:https://stvincentferrer.net/event/mass/2017-06-04/
LOCATION:St. Vincent Ferrer Church\, 28353 Herbert\, Madison Heights\, MI\, 48071
CATEGORIES:Mass,Worship
GEO:42.4992176;-83.0971204
X-APPLE-STRUCTURED-LOCATION;VALUE=URI;X-ADDRESS=St. Vincent Ferrer Church 28353 Herbert Madison Heights MI 48071;X-APPLE-RADIUS=500;X-TITLE=28353 Herbert:geo:-83.0971204,42.4992176
END:VEVENT
BEGIN:VEVENT
DTSTART;TZID=America/Detroit:20170528T080000
DTEND;TZID=America/Detroit:20170528T090000
DTSTAMP:20260425T130210
CREATED:20170328T181427Z
LAST-MODIFIED:20171206T160339Z
UID:10000265-1495958400-1495962000@stvincentferrer.net
SUMMARY:Mass
DESCRIPTION:Weekly Mass – Father John Esper Presiding (in English)
URL:https://stvincentferrer.net/event/mass/2017-05-28/
LOCATION:St. Vincent Ferrer Church\, 28353 Herbert\, Madison Heights\, MI\, 48071
CATEGORIES:Mass,Worship
GEO:42.4992176;-83.0971204
X-APPLE-STRUCTURED-LOCATION;VALUE=URI;X-ADDRESS=St. Vincent Ferrer Church 28353 Herbert Madison Heights MI 48071;X-APPLE-RADIUS=500;X-TITLE=28353 Herbert:geo:-83.0971204,42.4992176
END:VEVENT
BEGIN:VEVENT
DTSTART;TZID=America/Detroit:20170521T080000
DTEND;TZID=America/Detroit:20170521T090000
DTSTAMP:20260425T130210
CREATED:20170328T181427Z
LAST-MODIFIED:20171206T160339Z
UID:10000264-1495353600-1495357200@stvincentferrer.net
SUMMARY:Mass
DESCRIPTION:Weekly Mass – Father John Esper Presiding (in English)
URL:https://stvincentferrer.net/event/mass/2017-05-21/
LOCATION:St. Vincent Ferrer Church\, 28353 Herbert\, Madison Heights\, MI\, 48071
CATEGORIES:Mass,Worship
GEO:42.4992176;-83.0971204
X-APPLE-STRUCTURED-LOCATION;VALUE=URI;X-ADDRESS=St. Vincent Ferrer Church 28353 Herbert Madison Heights MI 48071;X-APPLE-RADIUS=500;X-TITLE=28353 Herbert:geo:-83.0971204,42.4992176
END:VEVENT
BEGIN:VEVENT
DTSTART;TZID=America/Detroit:20170514T080000
DTEND;TZID=America/Detroit:20170514T090000
DTSTAMP:20260425T130210
CREATED:20170328T181427Z
LAST-MODIFIED:20171206T160339Z
UID:10000263-1494748800-1494752400@stvincentferrer.net
SUMMARY:Mass
DESCRIPTION:Weekly Mass – Father John Esper Presiding (in English)
URL:https://stvincentferrer.net/event/mass/2017-05-14/
LOCATION:St. Vincent Ferrer Church\, 28353 Herbert\, Madison Heights\, MI\, 48071
CATEGORIES:Mass,Worship
GEO:42.4992176;-83.0971204
X-APPLE-STRUCTURED-LOCATION;VALUE=URI;X-ADDRESS=St. Vincent Ferrer Church 28353 Herbert Madison Heights MI 48071;X-APPLE-RADIUS=500;X-TITLE=28353 Herbert:geo:-83.0971204,42.4992176
END:VEVENT
BEGIN:VEVENT
DTSTART;TZID=America/Detroit:20170507T080000
DTEND;TZID=America/Detroit:20170507T090000
DTSTAMP:20260425T130210
CREATED:20170328T181427Z
LAST-MODIFIED:20171206T160339Z
UID:10000262-1494144000-1494147600@stvincentferrer.net
SUMMARY:Mass
DESCRIPTION:Weekly Mass – Father John Esper Presiding (in English)
URL:https://stvincentferrer.net/event/mass/2017-05-07/
LOCATION:St. Vincent Ferrer Church\, 28353 Herbert\, Madison Heights\, MI\, 48071
CATEGORIES:Mass,Worship
GEO:42.4992176;-83.0971204
X-APPLE-STRUCTURED-LOCATION;VALUE=URI;X-ADDRESS=St. Vincent Ferrer Church 28353 Herbert Madison Heights MI 48071;X-APPLE-RADIUS=500;X-TITLE=28353 Herbert:geo:-83.0971204,42.4992176
END:VEVENT
BEGIN:VEVENT
DTSTART;TZID=America/Detroit:20170430T080000
DTEND;TZID=America/Detroit:20170430T090000
DTSTAMP:20260425T130210
CREATED:20170328T181427Z
LAST-MODIFIED:20171206T160339Z
UID:10000261-1493539200-1493542800@stvincentferrer.net
SUMMARY:Mass
DESCRIPTION:Weekly Mass – Father John Esper Presiding (in English)
URL:https://stvincentferrer.net/event/mass/2017-04-30/
LOCATION:St. Vincent Ferrer Church\, 28353 Herbert\, Madison Heights\, MI\, 48071
CATEGORIES:Mass,Worship
GEO:42.4992176;-83.0971204
X-APPLE-STRUCTURED-LOCATION;VALUE=URI;X-ADDRESS=St. Vincent Ferrer Church 28353 Herbert Madison Heights MI 48071;X-APPLE-RADIUS=500;X-TITLE=28353 Herbert:geo:-83.0971204,42.4992176
END:VEVENT
BEGIN:VEVENT
DTSTART;TZID=America/Detroit:20170429T160000
DTEND;TZID=America/Detroit:20170429T170000
DTSTAMP:20260425T130210
CREATED:20170328T181427Z
LAST-MODIFIED:20170414T140534Z
UID:10000402-1493481600-1493485200@stvincentferrer.net
SUMMARY:Mass
DESCRIPTION:Weekly Mass – Father John Esper Presiding (in English)
URL:https://stvincentferrer.net/event/mass-2017-04-29/
LOCATION:St. Vincent Ferrer Church\, 28353 Herbert\, Madison Heights\, MI\, 48071
CATEGORIES:Mass,Worship
GEO:42.4992176;-83.0971204
X-APPLE-STRUCTURED-LOCATION;VALUE=URI;X-ADDRESS=St. Vincent Ferrer Church 28353 Herbert Madison Heights MI 48071;X-APPLE-RADIUS=500;X-TITLE=28353 Herbert:geo:-83.0971204,42.4992176
END:VEVENT
BEGIN:VEVENT
DTSTART;TZID=America/Detroit:20170423T080000
DTEND;TZID=America/Detroit:20170423T090000
DTSTAMP:20260425T130210
CREATED:20170328T181427Z
LAST-MODIFIED:20171206T160339Z
UID:10000260-1492934400-1492938000@stvincentferrer.net
SUMMARY:Mass
DESCRIPTION:Weekly Mass – Father John Esper Presiding (in English)
URL:https://stvincentferrer.net/event/mass/2017-04-23/
LOCATION:St. Vincent Ferrer Church\, 28353 Herbert\, Madison Heights\, MI\, 48071
CATEGORIES:Mass,Worship
GEO:42.4992176;-83.0971204
X-APPLE-STRUCTURED-LOCATION;VALUE=URI;X-ADDRESS=St. Vincent Ferrer Church 28353 Herbert Madison Heights MI 48071;X-APPLE-RADIUS=500;X-TITLE=28353 Herbert:geo:-83.0971204,42.4992176
END:VEVENT
BEGIN:VEVENT
DTSTART;TZID=America/Detroit:20170416T080000
DTEND;TZID=America/Detroit:20170416T090000
DTSTAMP:20260425T130210
CREATED:20170328T181427Z
LAST-MODIFIED:20171206T160339Z
UID:10000259-1492329600-1492333200@stvincentferrer.net
SUMMARY:Mass
DESCRIPTION:Weekly Mass – Father John Esper Presiding (in English)
URL:https://stvincentferrer.net/event/mass/2017-04-16/
LOCATION:St. Vincent Ferrer Church\, 28353 Herbert\, Madison Heights\, MI\, 48071
CATEGORIES:Mass,Worship
GEO:42.4992176;-83.0971204
X-APPLE-STRUCTURED-LOCATION;VALUE=URI;X-ADDRESS=St. Vincent Ferrer Church 28353 Herbert Madison Heights MI 48071;X-APPLE-RADIUS=500;X-TITLE=28353 Herbert:geo:-83.0971204,42.4992176
END:VEVENT
BEGIN:VEVENT
DTSTART;TZID=America/Detroit:20170416T080000
DTEND;TZID=America/Detroit:20170416T090000
DTSTAMP:20260425T130210
CREATED:20170325T181427Z
LAST-MODIFIED:20170327T183515Z
UID:10000195-1492329600-1492333200@stvincentferrer.net
SUMMARY:Mass
DESCRIPTION:Weekly Mass – Father John Esper Presiding (in English)
URL:https://stvincentferrer.net/event/mass-2017-04-16/
LOCATION:St. Vincent Ferrer Church\, 28353 Herbert\, Madison Heights\, MI\, 48071
CATEGORIES:Mass,Worship
GEO:42.4992176;-83.0971204
X-APPLE-STRUCTURED-LOCATION;VALUE=URI;X-ADDRESS=St. Vincent Ferrer Church 28353 Herbert Madison Heights MI 48071;X-APPLE-RADIUS=500;X-TITLE=28353 Herbert:geo:-83.0971204,42.4992176
END:VEVENT
BEGIN:VEVENT
DTSTART;TZID=America/Detroit:20170415T200000
DTEND;TZID=America/Detroit:20170415T223000
DTSTAMP:20260425T130210
CREATED:20170325T181427Z
LAST-MODIFIED:20170328T165217Z
UID:10000196-1492286400-1492295400@stvincentferrer.net
SUMMARY:Easter Vigil Mass
DESCRIPTION:Weekly Mass – Father John Esper Presiding (in English)
URL:https://stvincentferrer.net/event/mass-2017-04-15/
LOCATION:St. Vincent Ferrer Church\, 28353 Herbert\, Madison Heights\, MI\, 48071
CATEGORIES:Mass,Worship
GEO:42.4992176;-83.0971204
X-APPLE-STRUCTURED-LOCATION;VALUE=URI;X-ADDRESS=St. Vincent Ferrer Church 28353 Herbert Madison Heights MI 48071;X-APPLE-RADIUS=500;X-TITLE=28353 Herbert:geo:-83.0971204,42.4992176
END:VEVENT
BEGIN:VEVENT
DTSTART;TZID=America/Detroit:20170409T080000
DTEND;TZID=America/Detroit:20170409T090000
DTSTAMP:20260425T130210
CREATED:20170328T181427Z
LAST-MODIFIED:20171206T160339Z
UID:10000258-1491724800-1491728400@stvincentferrer.net
SUMMARY:Mass
DESCRIPTION:Weekly Mass – Father John Esper Presiding (in English)
URL:https://stvincentferrer.net/event/mass/2017-04-09/
LOCATION:St. Vincent Ferrer Church\, 28353 Herbert\, Madison Heights\, MI\, 48071
CATEGORIES:Mass,Worship
GEO:42.4992176;-83.0971204
X-APPLE-STRUCTURED-LOCATION;VALUE=URI;X-ADDRESS=St. Vincent Ferrer Church 28353 Herbert Madison Heights MI 48071;X-APPLE-RADIUS=500;X-TITLE=28353 Herbert:geo:-83.0971204,42.4992176
END:VEVENT
BEGIN:VEVENT
DTSTART;TZID=America/Detroit:20170402T080000
DTEND;TZID=America/Detroit:20170402T090000
DTSTAMP:20260425T130210
CREATED:20170328T181427Z
LAST-MODIFIED:20171206T160339Z
UID:10000257-1491120000-1491123600@stvincentferrer.net
SUMMARY:Mass
DESCRIPTION:Weekly Mass – Father John Esper Presiding (in English)
URL:https://stvincentferrer.net/event/mass/2017-04-02/
LOCATION:St. Vincent Ferrer Church\, 28353 Herbert\, Madison Heights\, MI\, 48071
CATEGORIES:Mass,Worship
GEO:42.4992176;-83.0971204
X-APPLE-STRUCTURED-LOCATION;VALUE=URI;X-ADDRESS=St. Vincent Ferrer Church 28353 Herbert Madison Heights MI 48071;X-APPLE-RADIUS=500;X-TITLE=28353 Herbert:geo:-83.0971204,42.4992176
END:VEVENT
BEGIN:VEVENT
DTSTART;TZID=America/Detroit:20170319T080000
DTEND;TZID=America/Detroit:20170319T090000
DTSTAMP:20260425T130210
CREATED:20170328T181427Z
LAST-MODIFIED:20171206T160339Z
UID:10000256-1489910400-1489914000@stvincentferrer.net
SUMMARY:Mass
DESCRIPTION:Weekly Mass – Father John Esper Presiding (in English)
URL:https://stvincentferrer.net/event/mass/2017-03-19/
LOCATION:St. Vincent Ferrer Church\, 28353 Herbert\, Madison Heights\, MI\, 48071
CATEGORIES:Mass,Worship
GEO:42.4992176;-83.0971204
X-APPLE-STRUCTURED-LOCATION;VALUE=URI;X-ADDRESS=St. Vincent Ferrer Church 28353 Herbert Madison Heights MI 48071;X-APPLE-RADIUS=500;X-TITLE=28353 Herbert:geo:-83.0971204,42.4992176
END:VEVENT
BEGIN:VEVENT
DTSTART;TZID=America/Detroit:20170312T080000
DTEND;TZID=America/Detroit:20170312T090000
DTSTAMP:20260425T130210
CREATED:20170328T181427Z
LAST-MODIFIED:20171206T160339Z
UID:10000255-1489305600-1489309200@stvincentferrer.net
SUMMARY:Mass
DESCRIPTION:Weekly Mass – Father John Esper Presiding (in English)
URL:https://stvincentferrer.net/event/mass/2017-03-12/
LOCATION:St. Vincent Ferrer Church\, 28353 Herbert\, Madison Heights\, MI\, 48071
CATEGORIES:Mass,Worship
GEO:42.4992176;-83.0971204
X-APPLE-STRUCTURED-LOCATION;VALUE=URI;X-ADDRESS=St. Vincent Ferrer Church 28353 Herbert Madison Heights MI 48071;X-APPLE-RADIUS=500;X-TITLE=28353 Herbert:geo:-83.0971204,42.4992176
END:VEVENT
BEGIN:VEVENT
DTSTART;TZID=America/Detroit:20170305T080000
DTEND;TZID=America/Detroit:20170305T090000
DTSTAMP:20260425T130210
CREATED:20170328T181427Z
LAST-MODIFIED:20171206T160339Z
UID:10000254-1488700800-1488704400@stvincentferrer.net
SUMMARY:Mass
DESCRIPTION:Weekly Mass – Father John Esper Presiding (in English)
URL:https://stvincentferrer.net/event/mass/2017-03-05/
LOCATION:St. Vincent Ferrer Church\, 28353 Herbert\, Madison Heights\, MI\, 48071
CATEGORIES:Mass,Worship
GEO:42.4992176;-83.0971204
X-APPLE-STRUCTURED-LOCATION;VALUE=URI;X-ADDRESS=St. Vincent Ferrer Church 28353 Herbert Madison Heights MI 48071;X-APPLE-RADIUS=500;X-TITLE=28353 Herbert:geo:-83.0971204,42.4992176
END:VEVENT
BEGIN:VEVENT
DTSTART;TZID=America/Detroit:20170226T080000
DTEND;TZID=America/Detroit:20170226T090000
DTSTAMP:20260425T130210
CREATED:20170328T181427Z
LAST-MODIFIED:20171206T160339Z
UID:10000253-1488096000-1488099600@stvincentferrer.net
SUMMARY:Mass
DESCRIPTION:Weekly Mass – Father John Esper Presiding (in English)
URL:https://stvincentferrer.net/event/mass/2017-02-26/
LOCATION:St. Vincent Ferrer Church\, 28353 Herbert\, Madison Heights\, MI\, 48071
CATEGORIES:Mass,Worship
GEO:42.4992176;-83.0971204
X-APPLE-STRUCTURED-LOCATION;VALUE=URI;X-ADDRESS=St. Vincent Ferrer Church 28353 Herbert Madison Heights MI 48071;X-APPLE-RADIUS=500;X-TITLE=28353 Herbert:geo:-83.0971204,42.4992176
END:VEVENT
BEGIN:VEVENT
DTSTART;TZID=America/Detroit:20161231T160000
DTEND;TZID=America/Detroit:20161231T170000
DTSTAMP:20260425T130210
CREATED:20161228T114339Z
LAST-MODIFIED:20161228T114553Z
UID:10000036-1483200000-1483203600@stvincentferrer.net
SUMMARY:New Years Eve Mass
DESCRIPTION:
URL:https://stvincentferrer.net/event/holy-day-masses-for-mary-mother-of-god/
LOCATION:St. Vincent Ferrer Church\, 28353 Herbert\, Madison Heights\, MI\, 48071
CATEGORIES:Worship
GEO:42.4992176;-83.0971204
X-APPLE-STRUCTURED-LOCATION;VALUE=URI;X-ADDRESS=St. Vincent Ferrer Church 28353 Herbert Madison Heights MI 48071;X-APPLE-RADIUS=500;X-TITLE=28353 Herbert:geo:-83.0971204,42.4992176
END:VEVENT
END:VCALENDAR