BEGIN:VCALENDAR
VERSION:2.0
PRODID:-//St. Vincent Ferrer Catholic Church - ECPv6.15.20//NONSGML v1.0//EN
CALSCALE:GREGORIAN
METHOD:PUBLISH
X-WR-CALNAME:St. Vincent Ferrer Catholic Church
X-ORIGINAL-URL:https://stvincentferrer.net
X-WR-CALDESC:Events for St. Vincent Ferrer Catholic Church
REFRESH-INTERVAL;VALUE=DURATION:PT1H
X-Robots-Tag:noindex
X-PUBLISHED-TTL:PT1H
BEGIN:VTIMEZONE
TZID:America/Detroit
BEGIN:DAYLIGHT
TZOFFSETFROM:-0500
TZOFFSETTO:-0400
TZNAME:EDT
DTSTART:20210314T070000
END:DAYLIGHT
BEGIN:STANDARD
TZOFFSETFROM:-0400
TZOFFSETTO:-0500
TZNAME:EST
DTSTART:20211107T060000
END:STANDARD
BEGIN:DAYLIGHT
TZOFFSETFROM:-0500
TZOFFSETTO:-0400
TZNAME:EDT
DTSTART:20220313T070000
END:DAYLIGHT
BEGIN:STANDARD
TZOFFSETFROM:-0400
TZOFFSETTO:-0500
TZNAME:EST
DTSTART:20221106T060000
END:STANDARD
BEGIN:DAYLIGHT
TZOFFSETFROM:-0500
TZOFFSETTO:-0400
TZNAME:EDT
DTSTART:20230312T070000
END:DAYLIGHT
BEGIN:STANDARD
TZOFFSETFROM:-0400
TZOFFSETTO:-0500
TZNAME:EST
DTSTART:20231105T060000
END:STANDARD
BEGIN:DAYLIGHT
TZOFFSETFROM:-0500
TZOFFSETTO:-0400
TZNAME:EDT
DTSTART:20240310T070000
END:DAYLIGHT
BEGIN:STANDARD
TZOFFSETFROM:-0400
TZOFFSETTO:-0500
TZNAME:EST
DTSTART:20241103T060000
END:STANDARD
END:VTIMEZONE
BEGIN:VEVENT
DTSTART;TZID=America/Detroit:20230128T160000
DTEND;TZID=America/Detroit:20230128T170000
DTSTAMP:20260424T215729
CREATED:20230116T190602Z
LAST-MODIFIED:20230116T191138Z
UID:10003345-1674921600-1674925200@stvincentferrer.net
SUMMARY:Healing Mass 4pm
DESCRIPTION:
URL:https://stvincentferrer.net/event/healing-mass-4pm-11-2/
LOCATION:St. Vincent Ferrer Church\, 28353 Herbert\, Madison Heights\, MI\, 48071
CATEGORIES:Special Mass
ATTACH;FMTTYPE=image/jpeg:https://stvincentferrer.net/wp-content/uploads/2021/12/healing.jpeg
GEO:42.4992176;-83.0971204
X-APPLE-STRUCTURED-LOCATION;VALUE=URI;X-ADDRESS=St. Vincent Ferrer Church 28353 Herbert Madison Heights MI 48071;X-APPLE-RADIUS=500;X-TITLE=28353 Herbert:geo:-83.0971204,42.4992176
END:VEVENT
BEGIN:VEVENT
DTSTART;TZID=America/Detroit:20230125T190000
DTEND;TZID=America/Detroit:20230125T203000
DTSTAMP:20260424T215730
CREATED:20221209T163229Z
LAST-MODIFIED:20221209T163229Z
UID:10002305-1674673200-1674678600@stvincentferrer.net
SUMMARY:Intergenerational Healing Mass 7pm
DESCRIPTION:
URL:https://stvincentferrer.net/event/intergenerational-healing-mass-7pm-2/
LOCATION:St. Vincent Ferrer Church\, 28353 Herbert\, Madison Heights\, MI\, 48071
CATEGORIES:Healing Ministry,Special Mass
ATTACH;FMTTYPE=image/jpeg:https://stvincentferrer.net/wp-content/uploads/2022/11/healing-mass.jpg
GEO:42.4992176;-83.0971204
X-APPLE-STRUCTURED-LOCATION;VALUE=URI;X-ADDRESS=St. Vincent Ferrer Church 28353 Herbert Madison Heights MI 48071;X-APPLE-RADIUS=500;X-TITLE=28353 Herbert:geo:-83.0971204,42.4992176
END:VEVENT
BEGIN:VEVENT
DTSTART;TZID=America/Detroit:20230101T090000
DTEND;TZID=America/Detroit:20230101T100000
DTSTAMP:20260424T215730
CREATED:20221208T174342Z
LAST-MODIFIED:20221208T174342Z
UID:10002304-1672563600-1672567200@stvincentferrer.net
SUMMARY:Mary\, Mother of God Mass 9am
DESCRIPTION:
URL:https://stvincentferrer.net/event/mary-mother-of-god-mass-9am/
LOCATION:St. Vincent Ferrer Church\, 28353 Herbert\, Madison Heights\, MI\, 48071
CATEGORIES:Mass
ATTACH;FMTTYPE=image/jpeg:https://stvincentferrer.net/wp-content/uploads/2021/11/mary-mother-of-God.jpeg
GEO:42.4992176;-83.0971204
X-APPLE-STRUCTURED-LOCATION;VALUE=URI;X-ADDRESS=St. Vincent Ferrer Church 28353 Herbert Madison Heights MI 48071;X-APPLE-RADIUS=500;X-TITLE=28353 Herbert:geo:-83.0971204,42.4992176
END:VEVENT
BEGIN:VEVENT
DTSTART;TZID=America/Detroit:20221225T090000
DTEND;TZID=America/Detroit:20221225T100000
DTSTAMP:20260424T215730
CREATED:20221130T184157Z
LAST-MODIFIED:20221130T184157Z
UID:10002298-1671958800-1671962400@stvincentferrer.net
SUMMARY:Christmas Day Mass 9am
DESCRIPTION:
URL:https://stvincentferrer.net/event/christmas-day-mass-9am-2/
LOCATION:St. Vincent Ferrer Church\, 28353 Herbert\, Madison Heights\, MI\, 48071
CATEGORIES:Special Mass,Worship
GEO:42.4992176;-83.0971204
X-APPLE-STRUCTURED-LOCATION;VALUE=URI;X-ADDRESS=St. Vincent Ferrer Church 28353 Herbert Madison Heights MI 48071;X-APPLE-RADIUS=500;X-TITLE=28353 Herbert:geo:-83.0971204,42.4992176
END:VEVENT
BEGIN:VEVENT
DTSTART;TZID=America/Detroit:20221214T190000
DTEND;TZID=America/Detroit:20221214T200000
DTSTAMP:20260424T215730
CREATED:20221117T194219Z
LAST-MODIFIED:20221117T194219Z
UID:10002295-1671044400-1671048000@stvincentferrer.net
SUMMARY:Communal Penance 7pm
DESCRIPTION:Communal Penance will be at 7pm on Wednesday December 14th.
URL:https://stvincentferrer.net/event/communal-penance-7pm-3/
LOCATION:St. Vincent Ferrer Church\, 28353 Herbert\, Madison Heights\, MI\, 48071
CATEGORIES:Mass,Worship
ATTACH;FMTTYPE=image/jpeg:https://stvincentferrer.net/wp-content/uploads/2022/11/penance-service.jpg
GEO:42.4992176;-83.0971204
X-APPLE-STRUCTURED-LOCATION;VALUE=URI;X-ADDRESS=St. Vincent Ferrer Church 28353 Herbert Madison Heights MI 48071;X-APPLE-RADIUS=500;X-TITLE=28353 Herbert:geo:-83.0971204,42.4992176
END:VEVENT
BEGIN:VEVENT
DTSTART;TZID=America/Detroit:20221210T190000
DTEND;TZID=America/Detroit:20221210T210000
DTSTAMP:20260424T215730
CREATED:20221116T194216Z
LAST-MODIFIED:20221116T194216Z
UID:10002293-1670698800-1670706000@stvincentferrer.net
SUMMARY:More Love than Skill: a Saint and his Fiddle 7:00 pm
DESCRIPTION:A One-Frier Musical\, By Br. Al Mascia\, OFM inspired by the life of the Blessed Solanus Casey\, OFM Cap. \nFree will offering. \nDoors open to general public at 6:30pm \nFollowing Parish Dinner for Fr. John’s 39th Anniversary.
URL:https://stvincentferrer.net/event/more-love-than-skill-a-saint-and-his-fiddle-700-pm/
LOCATION:St. Vincent Ferrer Church\, 28353 Herbert\, Madison Heights\, MI\, 48071
CATEGORIES:Miscellaneous,Music
GEO:42.4992176;-83.0971204
X-APPLE-STRUCTURED-LOCATION;VALUE=URI;X-ADDRESS=St. Vincent Ferrer Church 28353 Herbert Madison Heights MI 48071;X-APPLE-RADIUS=500;X-TITLE=28353 Herbert:geo:-83.0971204,42.4992176
END:VEVENT
BEGIN:VEVENT
DTSTART;TZID=America/Detroit:20221210T173000
DTEND;TZID=America/Detroit:20221210T190000
DTSTAMP:20260424T215730
CREATED:20221116T193147Z
LAST-MODIFIED:20221116T193155Z
UID:10002292-1670693400-1670698800@stvincentferrer.net
SUMMARY:Father John's 39th Anniversary Dinner 5:30 pm
DESCRIPTION:Dinner tickets 25.00 per person. \n 
URL:https://stvincentferrer.net/event/father-johns-39th-anniversary-dinner-530-pm/
LOCATION:Hall Administration Building\, 28353 Herbert\, Madison Heights\, MI\, 48071
ATTACH;FMTTYPE=image/jpeg:https://stvincentferrer.net/wp-content/uploads/2018/01/Christmas-mass-e1514826703148.jpg
GEO:42.4992176;-83.0971204
X-APPLE-STRUCTURED-LOCATION;VALUE=URI;X-ADDRESS=Hall Administration Building 28353 Herbert Madison Heights MI 48071;X-APPLE-RADIUS=500;X-TITLE=28353 Herbert:geo:-83.0971204,42.4992176
END:VEVENT
BEGIN:VEVENT
DTSTART;TZID=America/Detroit:20221208T080000
DTEND;TZID=America/Detroit:20221208T090000
DTSTAMP:20260424T215730
CREATED:20221116T192100Z
LAST-MODIFIED:20221116T192100Z
UID:10002291-1670486400-1670490000@stvincentferrer.net
SUMMARY:Immaculate Conception 8am Mass
DESCRIPTION:
URL:https://stvincentferrer.net/event/immaculate-conception-8am-mass/
LOCATION:St. Vincent Ferrer Church\, 28353 Herbert\, Madison Heights\, MI\, 48071
CATEGORIES:Special Mass,Worship
GEO:42.4992176;-83.0971204
X-APPLE-STRUCTURED-LOCATION;VALUE=URI;X-ADDRESS=St. Vincent Ferrer Church 28353 Herbert Madison Heights MI 48071;X-APPLE-RADIUS=500;X-TITLE=28353 Herbert:geo:-83.0971204,42.4992176
END:VEVENT
BEGIN:VEVENT
DTSTART;TZID=America/Detroit:20221207T190000
DTEND;TZID=America/Detroit:20221207T200000
DTSTAMP:20260424T215730
CREATED:20221116T183447Z
LAST-MODIFIED:20221116T183535Z
UID:10002290-1670439600-1670443200@stvincentferrer.net
SUMMARY:Immaculate Conception Vigil 7pm
DESCRIPTION:
URL:https://stvincentferrer.net/event/immaculate-conception-vigil-7pm-2/
LOCATION:St. Vincent Ferrer Church\, 28353 Herbert\, Madison Heights\, MI\, 48071
CATEGORIES:Special Mass,Worship
ATTACH;FMTTYPE=image/jpeg:https://stvincentferrer.net/wp-content/uploads/2020/11/Immaculate-Concept.jpg
GEO:42.4992176;-83.0971204
X-APPLE-STRUCTURED-LOCATION;VALUE=URI;X-ADDRESS=St. Vincent Ferrer Church 28353 Herbert Madison Heights MI 48071;X-APPLE-RADIUS=500;X-TITLE=28353 Herbert:geo:-83.0971204,42.4992176
END:VEVENT
BEGIN:VEVENT
DTSTART;TZID=America/Detroit:20221127T090000
DTEND;TZID=America/Detroit:20221127T100000
DTSTAMP:20260424T215730
CREATED:20221116T181910Z
LAST-MODIFIED:20221116T181910Z
UID:10002286-1669539600-1669543200@stvincentferrer.net
SUMMARY:Advent Begins November 27th
DESCRIPTION:
URL:https://stvincentferrer.net/event/advent-begins-november-27th/
LOCATION:St. Vincent Ferrer Church\, 28353 Herbert\, Madison Heights\, MI\, 48071
GEO:42.4992176;-83.0971204
X-APPLE-STRUCTURED-LOCATION;VALUE=URI;X-ADDRESS=St. Vincent Ferrer Church 28353 Herbert Madison Heights MI 48071;X-APPLE-RADIUS=500;X-TITLE=28353 Herbert:geo:-83.0971204,42.4992176
END:VEVENT
BEGIN:VEVENT
DTSTART;TZID=America/Detroit:20221126T090000
DTEND;TZID=America/Detroit:20221126T100000
DTSTAMP:20260424T215730
CREATED:20221116T182926Z
LAST-MODIFIED:20221116T182926Z
UID:10002289-1669453200-1669456800@stvincentferrer.net
SUMMARY:Healing Mass 4pm
DESCRIPTION:
URL:https://stvincentferrer.net/event/healing-mass-4pm-9/
LOCATION:St. Vincent Ferrer Church\, 28353 Herbert\, Madison Heights\, MI\, 48071
CATEGORIES:Healing Ministry,Special Mass,Worship
GEO:42.4992176;-83.0971204
X-APPLE-STRUCTURED-LOCATION;VALUE=URI;X-ADDRESS=St. Vincent Ferrer Church 28353 Herbert Madison Heights MI 48071;X-APPLE-RADIUS=500;X-TITLE=28353 Herbert:geo:-83.0971204,42.4992176
END:VEVENT
BEGIN:VEVENT
DTSTART;TZID=America/Detroit:20221124T090000
DTEND;TZID=America/Detroit:20221124T100000
DTSTAMP:20260424T215730
CREATED:20221116T182722Z
LAST-MODIFIED:20221116T182722Z
UID:10002288-1669280400-1669284000@stvincentferrer.net
SUMMARY:Thanksgiving Mass 9am
DESCRIPTION:Thanksgiving  Mass 9am
URL:https://stvincentferrer.net/event/thanksgiving-mass-9am-3/
LOCATION:St. Vincent Ferrer Church\, 28353 Herbert\, Madison Heights\, MI\, 48071
CATEGORIES:Worship
ATTACH;FMTTYPE=image/jpeg:https://stvincentferrer.net/wp-content/uploads/2021/10/thanks-lord.jpeg
GEO:42.4992176;-83.0971204
X-APPLE-STRUCTURED-LOCATION;VALUE=URI;X-ADDRESS=St. Vincent Ferrer Church 28353 Herbert Madison Heights MI 48071;X-APPLE-RADIUS=500;X-TITLE=28353 Herbert:geo:-83.0971204,42.4992176
END:VEVENT
BEGIN:VEVENT
DTSTART;TZID=America/Detroit:20221120T090000
DTEND;TZID=America/Detroit:20221120T100000
DTSTAMP:20260424T215730
CREATED:20221116T182415Z
LAST-MODIFIED:20221116T182415Z
UID:10002287-1668934800-1668938400@stvincentferrer.net
SUMMARY:Christ The King
DESCRIPTION:
URL:https://stvincentferrer.net/event/christ-the-king/
LOCATION:St. Vincent Ferrer Church\, 28353 Herbert\, Madison Heights\, MI\, 48071
CATEGORIES:Worship
GEO:42.4992176;-83.0971204
X-APPLE-STRUCTURED-LOCATION;VALUE=URI;X-ADDRESS=St. Vincent Ferrer Church 28353 Herbert Madison Heights MI 48071;X-APPLE-RADIUS=500;X-TITLE=28353 Herbert:geo:-83.0971204,42.4992176
END:VEVENT
BEGIN:VEVENT
DTSTART;TZID=America/Detroit:20220914T190000
DTEND;TZID=America/Detroit:20220914T210000
DTSTAMP:20260424T215730
CREATED:20220705T151120Z
LAST-MODIFIED:20220705T151539Z
UID:10002181-1663182000-1663189200@stvincentferrer.net
SUMMARY:Intergenerational Healing Mass 9/14/2022
DESCRIPTION:We will pray to God asking Him to enter into the lives of our families: past\, present and future for healing.
URL:https://stvincentferrer.net/event/intergenerational-mass-9-14-2022/
LOCATION:St. Vincent Ferrer Church\, 28353 Herbert\, Madison Heights\, MI\, 48071
CATEGORIES:Healing Ministry,Worship
ATTACH;FMTTYPE=image/jpeg:https://stvincentferrer.net/wp-content/uploads/2021/12/healing.jpeg
GEO:42.4992176;-83.0971204
X-APPLE-STRUCTURED-LOCATION;VALUE=URI;X-ADDRESS=St. Vincent Ferrer Church 28353 Herbert Madison Heights MI 48071;X-APPLE-RADIUS=500;X-TITLE=28353 Herbert:geo:-83.0971204,42.4992176
END:VEVENT
BEGIN:VEVENT
DTSTART;TZID=America/Detroit:20220827T160000
DTEND;TZID=America/Detroit:20220827T170000
DTSTAMP:20260424T215730
CREATED:20220718T160832Z
LAST-MODIFIED:20220718T160846Z
UID:10002184-1661616000-1661619600@stvincentferrer.net
SUMMARY:Healing Mass 4pm
DESCRIPTION:
URL:https://stvincentferrer.net/event/healing-mass-4pm-7/
LOCATION:St. Vincent Ferrer Church\, 28353 Herbert\, Madison Heights\, MI\, 48071
CATEGORIES:Healing Ministry,Miscellaneous,Special Mass
ATTACH;FMTTYPE=image/jpeg:https://stvincentferrer.net/wp-content/uploads/2021/12/healing.jpeg
GEO:42.4992176;-83.0971204
X-APPLE-STRUCTURED-LOCATION;VALUE=URI;X-ADDRESS=St. Vincent Ferrer Church 28353 Herbert Madison Heights MI 48071;X-APPLE-RADIUS=500;X-TITLE=28353 Herbert:geo:-83.0971204,42.4992176
END:VEVENT
BEGIN:VEVENT
DTSTART;TZID=America/Detroit:20220730T160000
DTEND;TZID=America/Detroit:20220730T170000
DTSTAMP:20260424T215730
CREATED:20220615T174202Z
LAST-MODIFIED:20220615T174202Z
UID:10002176-1659196800-1659200400@stvincentferrer.net
SUMMARY:Healing Mass - 4pm
DESCRIPTION:
URL:https://stvincentferrer.net/event/healing-mass-4pm-6/
LOCATION:St. Vincent Ferrer Church\, 28353 Herbert\, Madison Heights\, MI\, 48071
CATEGORIES:Healing Ministry,Mass,Worship
GEO:42.4992176;-83.0971204
X-APPLE-STRUCTURED-LOCATION;VALUE=URI;X-ADDRESS=St. Vincent Ferrer Church 28353 Herbert Madison Heights MI 48071;X-APPLE-RADIUS=500;X-TITLE=28353 Herbert:geo:-83.0971204,42.4992176
END:VEVENT
BEGIN:VEVENT
DTSTART;TZID=America/Detroit:20220704T090000
DTEND;TZID=America/Detroit:20220704T100000
DTSTAMP:20260424T215730
CREATED:20220615T164430Z
LAST-MODIFIED:20220615T164430Z
UID:10002171-1656925200-1656928800@stvincentferrer.net
SUMMARY:Independence Day Mass at 9am
DESCRIPTION:
URL:https://stvincentferrer.net/event/independence-day-mass-at-9am/
LOCATION:St. Vincent Ferrer Church\, 28353 Herbert\, Madison Heights\, MI\, 48071
CATEGORIES:Worship
ATTACH;FMTTYPE=image/jpeg:https://stvincentferrer.net/wp-content/uploads/2017/06/4h-of-July.jpg
GEO:42.4992176;-83.0971204
X-APPLE-STRUCTURED-LOCATION;VALUE=URI;X-ADDRESS=St. Vincent Ferrer Church 28353 Herbert Madison Heights MI 48071;X-APPLE-RADIUS=500;X-TITLE=28353 Herbert:geo:-83.0971204,42.4992176
END:VEVENT
BEGIN:VEVENT
DTSTART;TZID=America/Detroit:20220625T160000
DTEND;TZID=America/Detroit:20220625T170000
DTSTAMP:20260424T215730
CREATED:20220525T194452Z
LAST-MODIFIED:20220525T194452Z
UID:10002159-1656172800-1656176400@stvincentferrer.net
SUMMARY:Healing Mass 4pm
DESCRIPTION:Healing Mass will be at 4pm.
URL:https://stvincentferrer.net/event/healing-mass-4pm-4/
LOCATION:St. Vincent Ferrer Church\, 28353 Herbert\, Madison Heights\, MI\, 48071
CATEGORIES:Healing Ministry,Worship
ATTACH;FMTTYPE=image/jpeg:https://stvincentferrer.net/wp-content/uploads/2021/12/healing.jpeg
GEO:42.4992176;-83.0971204
X-APPLE-STRUCTURED-LOCATION;VALUE=URI;X-ADDRESS=St. Vincent Ferrer Church 28353 Herbert Madison Heights MI 48071;X-APPLE-RADIUS=500;X-TITLE=28353 Herbert:geo:-83.0971204,42.4992176
END:VEVENT
BEGIN:VEVENT
DTSTART;TZID=America/Detroit:20220608T190000
DTEND;TZID=America/Detroit:20220608T213000
DTSTAMP:20260424T215730
CREATED:20220517T150611Z
LAST-MODIFIED:20220517T150611Z
UID:10002158-1654714800-1654723800@stvincentferrer.net
SUMMARY:PENTECOST PRAISE & WORSHIP
DESCRIPTION:PENTECOST PRAISE & WORSHIP\nJune 8th\n7:00pm\nin church \nFollowed by\nWine & Cheese Afterglow\non the Admin Building Patio
URL:https://stvincentferrer.net/event/pentecost-praise-worship/
LOCATION:St. Vincent Ferrer Church\, 28353 Herbert\, Madison Heights\, MI\, 48071
CATEGORIES:Miscellaneous,Music,Worship
ATTACH;FMTTYPE=image/png:https://stvincentferrer.net/wp-content/uploads/2021/08/wine-and-cheese.png
GEO:42.4992176;-83.0971204
X-APPLE-STRUCTURED-LOCATION;VALUE=URI;X-ADDRESS=St. Vincent Ferrer Church 28353 Herbert Madison Heights MI 48071;X-APPLE-RADIUS=500;X-TITLE=28353 Herbert:geo:-83.0971204,42.4992176
END:VEVENT
BEGIN:VEVENT
DTSTART;TZID=America/Detroit:20220605T090000
DTEND;TZID=America/Detroit:20220605T100000
DTSTAMP:20260424T215730
CREATED:20220526T193509Z
LAST-MODIFIED:20220526T193509Z
UID:10002164-1654419600-1654423200@stvincentferrer.net
SUMMARY:Pentecost Mass 9am
DESCRIPTION:
URL:https://stvincentferrer.net/event/pentecost-mass-9am/
LOCATION:St. Vincent Ferrer Church\, 28353 Herbert\, Madison Heights\, MI\, 48071
CATEGORIES:Worship
ATTACH;FMTTYPE=image/jpeg:https://stvincentferrer.net/wp-content/uploads/2021/04/sunday-pentecost.jpeg
GEO:42.4992176;-83.0971204
X-APPLE-STRUCTURED-LOCATION;VALUE=URI;X-ADDRESS=St. Vincent Ferrer Church 28353 Herbert Madison Heights MI 48071;X-APPLE-RADIUS=500;X-TITLE=28353 Herbert:geo:-83.0971204,42.4992176
END:VEVENT
BEGIN:VEVENT
DTSTART;TZID=America/Detroit:20220530T080000
DTEND;TZID=America/Detroit:20220530T090000
DTSTAMP:20260424T215730
CREATED:20220421T164409Z
LAST-MODIFIED:20220421T164409Z
UID:10002155-1653897600-1653901200@stvincentferrer.net
SUMMARY:Memorial Day May 30th\, 2022
DESCRIPTION:Memorial Day is a day of Remembrance
URL:https://stvincentferrer.net/event/memorial-day-may-30th-2022/
LOCATION:St. Vincent Ferrer Church\, 28353 Herbert\, Madison Heights\, MI\, 48071
CATEGORIES:Miscellaneous,Worship
ATTACH;FMTTYPE=image/jpeg:https://stvincentferrer.net/wp-content/uploads/2021/04/crossmemorialday.jpeg
GEO:42.4992176;-83.0971204
X-APPLE-STRUCTURED-LOCATION;VALUE=URI;X-ADDRESS=St. Vincent Ferrer Church 28353 Herbert Madison Heights MI 48071;X-APPLE-RADIUS=500;X-TITLE=28353 Herbert:geo:-83.0971204,42.4992176
END:VEVENT
BEGIN:VEVENT
DTSTART;TZID=America/Detroit:20220529T090000
DTEND;TZID=America/Detroit:20220529T100000
DTSTAMP:20260424T215730
CREATED:20220526T192722Z
LAST-MODIFIED:20220526T192722Z
UID:10002162-1653814800-1653818400@stvincentferrer.net
SUMMARY:Ascension 9am Mass
DESCRIPTION:
URL:https://stvincentferrer.net/event/ascension-9am-mass/
LOCATION:St. Vincent Ferrer Church\, 28353 Herbert\, Madison Heights\, MI\, 48071
CATEGORIES:Worship
ATTACH;FMTTYPE=image/jpeg:https://stvincentferrer.net/wp-content/uploads/2021/05/Ascension.jpg
GEO:42.4992176;-83.0971204
X-APPLE-STRUCTURED-LOCATION;VALUE=URI;X-ADDRESS=St. Vincent Ferrer Church 28353 Herbert Madison Heights MI 48071;X-APPLE-RADIUS=500;X-TITLE=28353 Herbert:geo:-83.0971204,42.4992176
END:VEVENT
BEGIN:VEVENT
DTSTART;TZID=America/Detroit:20220528T160000
DTEND;TZID=America/Detroit:20220528T170000
DTSTAMP:20260424T215730
CREATED:20220526T193036Z
LAST-MODIFIED:20220526T193036Z
UID:10002163-1653753600-1653757200@stvincentferrer.net
SUMMARY:Healing Mass 4pm
DESCRIPTION:
URL:https://stvincentferrer.net/event/healing-mass-4pm-5/
LOCATION:St. Vincent Ferrer Church\, 28353 Herbert\, Madison Heights\, MI\, 48071
CATEGORIES:Healing Ministry,Worship
ATTACH;FMTTYPE=image/jpeg:https://stvincentferrer.net/wp-content/uploads/2021/12/healing.jpeg
GEO:42.4992176;-83.0971204
X-APPLE-STRUCTURED-LOCATION;VALUE=URI;X-ADDRESS=St. Vincent Ferrer Church 28353 Herbert Madison Heights MI 48071;X-APPLE-RADIUS=500;X-TITLE=28353 Herbert:geo:-83.0971204,42.4992176
END:VEVENT
BEGIN:VEVENT
DTSTART;TZID=America/Detroit:20220508T090000
DTEND;TZID=America/Detroit:20220508T100000
DTSTAMP:20260424T215730
CREATED:20220412T132138Z
LAST-MODIFIED:20220412T132138Z
UID:10002150-1652000400-1652004000@stvincentferrer.net
SUMMARY:Mother's Day Mass 9am
DESCRIPTION:
URL:https://stvincentferrer.net/event/mothers-day-mass-9am/
LOCATION:St. Vincent Ferrer Church\, 28353 Herbert\, Madison Heights\, MI\, 48071
CATEGORIES:Mass,Worship
ATTACH;FMTTYPE=image/jpeg:https://stvincentferrer.net/wp-content/uploads/2021/11/mary-mother-of-God.jpeg
GEO:42.4992176;-83.0971204
X-APPLE-STRUCTURED-LOCATION;VALUE=URI;X-ADDRESS=St. Vincent Ferrer Church 28353 Herbert Madison Heights MI 48071;X-APPLE-RADIUS=500;X-TITLE=28353 Herbert:geo:-83.0971204,42.4992176
END:VEVENT
BEGIN:VEVENT
DTSTART;TZID=America/Detroit:20220416T110000
DTEND;TZID=America/Detroit:20220416T120000
DTSTAMP:20260424T215730
CREATED:20220302T193943Z
LAST-MODIFIED:20220302T193943Z
UID:10002139-1650106800-1650110400@stvincentferrer.net
SUMMARY:Food Blessing 11am
DESCRIPTION:Bring your basket to be blessed at 11am.
URL:https://stvincentferrer.net/event/food-blessing-11am/
LOCATION:St. Vincent Ferrer Church\, 28353 Herbert\, Madison Heights\, MI\, 48071
CATEGORIES:Miscellaneous
ATTACH;FMTTYPE=image/jpeg:https://stvincentferrer.net/wp-content/uploads/2021/03/easter-food.jpeg
GEO:42.4992176;-83.0971204
X-APPLE-STRUCTURED-LOCATION;VALUE=URI;X-ADDRESS=St. Vincent Ferrer Church 28353 Herbert Madison Heights MI 48071;X-APPLE-RADIUS=500;X-TITLE=28353 Herbert:geo:-83.0971204,42.4992176
END:VEVENT
BEGIN:VEVENT
DTSTART;TZID=America/Detroit:20220415T123000
DTEND;TZID=America/Detroit:20220415T140000
DTSTAMP:20260424T215730
CREATED:20220302T194919Z
LAST-MODIFIED:20220302T195147Z
UID:10002141-1650025800-1650031200@stvincentferrer.net
SUMMARY:Good Friday Stations 12:30 - Liturgy 1pm
DESCRIPTION:  \nLiturgy 1:00pm
URL:https://stvincentferrer.net/event/good-friday-stations-1230-liturgy-1pm/
LOCATION:St. Vincent Ferrer Church\, 28353 Herbert\, Madison Heights\, MI\, 48071
CATEGORIES:Mass,Worship
ATTACH;FMTTYPE=image/jpeg:https://stvincentferrer.net/wp-content/uploads/2022/03/Good-Friday.jpg
GEO:42.4992176;-83.0971204
X-APPLE-STRUCTURED-LOCATION;VALUE=URI;X-ADDRESS=St. Vincent Ferrer Church 28353 Herbert Madison Heights MI 48071;X-APPLE-RADIUS=500;X-TITLE=28353 Herbert:geo:-83.0971204,42.4992176
END:VEVENT
BEGIN:VEVENT
DTSTART;TZID=America/Detroit:20220414T190000
DTEND;TZID=America/Detroit:20220414T210000
DTSTAMP:20260424T215730
CREATED:20220302T193554Z
LAST-MODIFIED:20220302T193554Z
UID:10002138-1649962800-1649970000@stvincentferrer.net
SUMMARY:Holy Thursday Mass - 7pm
DESCRIPTION:Adoration follows Mass until 9pm
URL:https://stvincentferrer.net/event/holy-thursday-mass-7pm/
LOCATION:St. Vincent Ferrer Church\, 28353 Herbert\, Madison Heights\, MI\, 48071
CATEGORIES:Mass,Worship
ATTACH;FMTTYPE=image/jpeg:https://stvincentferrer.net/wp-content/uploads/2022/03/Holy-Thursday.jpg
GEO:42.4992176;-83.0971204
X-APPLE-STRUCTURED-LOCATION;VALUE=URI;X-ADDRESS=St. Vincent Ferrer Church 28353 Herbert Madison Heights MI 48071;X-APPLE-RADIUS=500;X-TITLE=28353 Herbert:geo:-83.0971204,42.4992176
END:VEVENT
BEGIN:VEVENT
DTSTART;TZID=America/Detroit:20220410T090000
DTEND;TZID=America/Detroit:20220410T100000
DTSTAMP:20260424T215730
CREATED:20220302T191943Z
LAST-MODIFIED:20220302T191943Z
UID:10002137-1649581200-1649584800@stvincentferrer.net
SUMMARY:Palm Sunday 9am
DESCRIPTION:
URL:https://stvincentferrer.net/event/palm-sunday-9am/
LOCATION:St. Vincent Ferrer Church\, 28353 Herbert\, Madison Heights\, MI\, 48071
CATEGORIES:Mass,Worship
ATTACH;FMTTYPE=image/jpeg:https://stvincentferrer.net/wp-content/uploads/2022/03/palm-sunday.jpg
GEO:42.4992176;-83.0971204
X-APPLE-STRUCTURED-LOCATION;VALUE=URI;X-ADDRESS=St. Vincent Ferrer Church 28353 Herbert Madison Heights MI 48071;X-APPLE-RADIUS=500;X-TITLE=28353 Herbert:geo:-83.0971204,42.4992176
END:VEVENT
BEGIN:VEVENT
DTSTART;TZID=America/Detroit:20220330T190000
DTEND;TZID=America/Detroit:20220330T200000
DTSTAMP:20260424T215730
CREATED:20220302T162214Z
LAST-MODIFIED:20220302T162521Z
UID:10002132-1648666800-1648670400@stvincentferrer.net
SUMMARY:FR. JOHN’S REFLECTION SERIES 7pm
DESCRIPTION:FR. JOHN’S REFLECTION SERIES\n\n\nFR. JOHN’S REFLECTION SERIES \nDeepening Our Trust and Acceptance of Divine Love  – in person attendance at 7pm on Wednesdays March 9\,16\,23\,30.
URL:https://stvincentferrer.net/event/fr-johns-reflection-series-7pm-2/
LOCATION:St. Vincent Ferrer Church\, 28353 Herbert\, Madison Heights\, MI\, 48071
CATEGORIES:Worship
ATTACH;FMTTYPE=image/jpeg:https://stvincentferrer.net/wp-content/uploads/2022/02/lent2022.jpeg
GEO:42.4992176;-83.0971204
X-APPLE-STRUCTURED-LOCATION;VALUE=URI;X-ADDRESS=St. Vincent Ferrer Church 28353 Herbert Madison Heights MI 48071;X-APPLE-RADIUS=500;X-TITLE=28353 Herbert:geo:-83.0971204,42.4992176
END:VEVENT
BEGIN:VEVENT
DTSTART;TZID=America/Detroit:20220326T160000
DTEND;TZID=America/Detroit:20220326T170000
DTSTAMP:20260424T215730
CREATED:20220317T135852Z
LAST-MODIFIED:20220317T135852Z
UID:10002147-1648310400-1648314000@stvincentferrer.net
SUMMARY:Healing Mass 4pm
DESCRIPTION:
URL:https://stvincentferrer.net/event/healing-mass-4pm-3/
LOCATION:St. Vincent Ferrer Church\, 28353 Herbert\, Madison Heights\, MI\, 48071
CATEGORIES:Healing Ministry,Special Mass,Worship
ATTACH;FMTTYPE=image/jpeg:https://stvincentferrer.net/wp-content/uploads/2021/12/healing.jpeg
GEO:42.4992176;-83.0971204
X-APPLE-STRUCTURED-LOCATION;VALUE=URI;X-ADDRESS=St. Vincent Ferrer Church 28353 Herbert Madison Heights MI 48071;X-APPLE-RADIUS=500;X-TITLE=28353 Herbert:geo:-83.0971204,42.4992176
END:VEVENT
END:VCALENDAR