BEGIN:VCALENDAR
VERSION:2.0
PRODID:-//St. Vincent Ferrer Catholic Church - ECPv6.15.20//NONSGML v1.0//EN
CALSCALE:GREGORIAN
METHOD:PUBLISH
X-WR-CALNAME:St. Vincent Ferrer Catholic Church
X-ORIGINAL-URL:https://stvincentferrer.net
X-WR-CALDESC:Events for St. Vincent Ferrer Catholic Church
REFRESH-INTERVAL;VALUE=DURATION:PT1H
X-Robots-Tag:noindex
X-PUBLISHED-TTL:PT1H
BEGIN:VTIMEZONE
TZID:America/Detroit
BEGIN:DAYLIGHT
TZOFFSETFROM:-0500
TZOFFSETTO:-0400
TZNAME:EDT
DTSTART:20160313T070000
END:DAYLIGHT
BEGIN:STANDARD
TZOFFSETFROM:-0400
TZOFFSETTO:-0500
TZNAME:EST
DTSTART:20161106T060000
END:STANDARD
BEGIN:DAYLIGHT
TZOFFSETFROM:-0500
TZOFFSETTO:-0400
TZNAME:EDT
DTSTART:20170312T070000
END:DAYLIGHT
BEGIN:STANDARD
TZOFFSETFROM:-0400
TZOFFSETTO:-0500
TZNAME:EST
DTSTART:20171105T060000
END:STANDARD
BEGIN:DAYLIGHT
TZOFFSETFROM:-0500
TZOFFSETTO:-0400
TZNAME:EDT
DTSTART:20180311T070000
END:DAYLIGHT
BEGIN:STANDARD
TZOFFSETFROM:-0400
TZOFFSETTO:-0500
TZNAME:EST
DTSTART:20181104T060000
END:STANDARD
BEGIN:DAYLIGHT
TZOFFSETFROM:-0500
TZOFFSETTO:-0400
TZNAME:EDT
DTSTART:20190310T070000
END:DAYLIGHT
BEGIN:STANDARD
TZOFFSETFROM:-0400
TZOFFSETTO:-0500
TZNAME:EST
DTSTART:20191103T060000
END:STANDARD
END:VTIMEZONE
BEGIN:VEVENT
DTSTART;TZID=America/Detroit:20180921T183000
DTEND;TZID=America/Detroit:20180923T120000
DTSTAMP:20260424T120608
CREATED:20170321T151420Z
LAST-MODIFIED:20170518T144149Z
UID:10000194-1537554600-1537704000@stvincentferrer.net
SUMMARY:Inner Healing Retreat
DESCRIPTION:There are quiet places in our hearts where we have placed doubts\, memories\, fears and hurts which need the loving hand of Jesus to heal. Receive His embrace during a precious few days of quiet and serenity. It is a place of peace where we can light a path which can lead to freedom\, forgiveness\, healing. God is waiting for you. Retreat is led by Fr. John Esper and Mrs. Deborah Tourville at Manresa Jesuit Retreat house in Bloomfield\, Michigan.  Register at 248-644-4933.  A $40.00 deposit is required.  \n  https://manresa-sj.org/
URL:https://stvincentferrer.net/event/inner-healing-retreat-2018-03-16/2018-09-21/
LOCATION:Manresa Jesuit Retreat House\, 1390 Quarton Road\, Bloomfield Hills\, MI\, 48304\, United States
CATEGORIES:Healing Ministry
ATTACH;FMTTYPE=image/jpeg:https://stvincentferrer.net/wp-content/uploads/2017/03/manresa.jpg
ORGANIZER;CN="Deborah Tourville":MAILTO:debbie@stvincentferrer.net
GEO:42.5602676;-83.2299772
X-APPLE-STRUCTURED-LOCATION;VALUE=URI;X-ADDRESS=Manresa Jesuit Retreat House 1390 Quarton Road Bloomfield Hills MI 48304 United States;X-APPLE-RADIUS=500;X-TITLE=1390 Quarton Road:geo:-83.2299772,42.5602676
END:VEVENT
BEGIN:VEVENT
DTSTART;TZID=America/Detroit:20180316T183000
DTEND;TZID=America/Detroit:20180318T120000
DTSTAMP:20260424T120608
CREATED:20170321T151420Z
LAST-MODIFIED:20170518T144149Z
UID:10000193-1521225000-1521374400@stvincentferrer.net
SUMMARY:Inner Healing Retreat
DESCRIPTION:There are quiet places in our hearts where we have placed doubts\, memories\, fears and hurts which need the loving hand of Jesus to heal. Receive His embrace during a precious few days of quiet and serenity. It is a place of peace where we can light a path which can lead to freedom\, forgiveness\, healing. God is waiting for you. Retreat is led by Fr. John Esper and Mrs. Deborah Tourville at Manresa Jesuit Retreat house in Bloomfield\, Michigan.  Register at 248-644-4933.  A $40.00 deposit is required.  \n  https://manresa-sj.org/
URL:https://stvincentferrer.net/event/inner-healing-retreat-2018-03-16/2018-03-16/
LOCATION:Manresa Jesuit Retreat House\, 1390 Quarton Road\, Bloomfield Hills\, MI\, 48304\, United States
CATEGORIES:Healing Ministry
ATTACH;FMTTYPE=image/jpeg:https://stvincentferrer.net/wp-content/uploads/2017/03/manresa.jpg
ORGANIZER;CN="Deborah Tourville":MAILTO:debbie@stvincentferrer.net
GEO:42.5602676;-83.2299772
X-APPLE-STRUCTURED-LOCATION;VALUE=URI;X-ADDRESS=Manresa Jesuit Retreat House 1390 Quarton Road Bloomfield Hills MI 48304 United States;X-APPLE-RADIUS=500;X-TITLE=1390 Quarton Road:geo:-83.2299772,42.5602676
END:VEVENT
BEGIN:VEVENT
DTSTART;VALUE=DATE:20170922
DTEND;VALUE=DATE:20170925
DTSTAMP:20260424T120608
CREATED:20170321T151420Z
LAST-MODIFIED:20170518T143820Z
UID:10000192-1506038400-1506297599@stvincentferrer.net
SUMMARY:Inner Healing Retreat
DESCRIPTION:There are quiet places in our hearts where we have placed doubts\, memories\, fears and hurts which need the loving hand of Jesus to heal. Receive His embrace during a precious few days of quiet and serenity. It is a place of peace where we can light a path which can lead to freedom\, forgiveness\, healing. God is waiting for you. Retreat is led by Fr. John Esper and Mrs. Deborah Tourville at Manresa Jesuit Retreat house in Bloomfield\, Michigan.  Register at 248-644-4933.  A $40.00 deposit is required.  \n  https://manresa-sj.org/
URL:https://stvincentferrer.net/event/inner-healing-retreat/2017-09-22/
LOCATION:Manresa Jesuit Retreat House\, 1390 Quarton Road\, Bloomfield Hills\, MI\, 48304\, United States
CATEGORIES:Healing Ministry
ATTACH;FMTTYPE=image/jpeg:https://stvincentferrer.net/wp-content/uploads/2017/03/manresa.jpg
ORGANIZER;CN="Deborah Tourville":MAILTO:debbie@stvincentferrer.net
GEO:42.5602676;-83.2299772
X-APPLE-STRUCTURED-LOCATION;VALUE=URI;X-ADDRESS=Manresa Jesuit Retreat House 1390 Quarton Road Bloomfield Hills MI 48304 United States;X-APPLE-RADIUS=500;X-TITLE=1390 Quarton Road:geo:-83.2299772,42.5602676
END:VEVENT
BEGIN:VEVENT
DTSTART;TZID=America/Detroit:20170324T180000
DTEND;TZID=America/Detroit:20170326T120000
DTSTAMP:20260424T120608
CREATED:20170315T160648Z
LAST-MODIFIED:20170324T024810Z
UID:10000061-1490378400-1490529600@stvincentferrer.net
SUMMARY:Healing Retreat
DESCRIPTION:A weekend to immerse yourself in the healing power of God’s Love.  Retreat is led by Fr. John Esper and Deborah Tourville at Manresa Jesuit Retreat house in Bloomfield\, Michigan. \n248-644-4933 for more information
URL:https://stvincentferrer.net/event/healing-retreat/
LOCATION:Manresa Jesuit Retreat House\, 1390 Quarton Road\, Bloomfield Hills\, MI\, 48304\, United States
CATEGORIES:Healing Ministry
ATTACH;FMTTYPE=image/jpeg:https://stvincentferrer.net/wp-content/uploads/2017/03/manresa.jpg
ORGANIZER;CN="Deborah Tourville":MAILTO:debbie@stvincentferrer.net
GEO:42.5602676;-83.2299772
X-APPLE-STRUCTURED-LOCATION;VALUE=URI;X-ADDRESS=Manresa Jesuit Retreat House 1390 Quarton Road Bloomfield Hills MI 48304 United States;X-APPLE-RADIUS=500;X-TITLE=1390 Quarton Road:geo:-83.2299772,42.5602676
END:VEVENT
END:VCALENDAR