BEGIN:VCALENDAR
VERSION:2.0
PRODID:-//St. Vincent Ferrer Catholic Church - ECPv6.15.20//NONSGML v1.0//EN
CALSCALE:GREGORIAN
METHOD:PUBLISH
X-ORIGINAL-URL:https://stvincentferrer.net
X-WR-CALDESC:Events for St. Vincent Ferrer Catholic Church
REFRESH-INTERVAL;VALUE=DURATION:PT1H
X-Robots-Tag:noindex
X-PUBLISHED-TTL:PT1H
BEGIN:VTIMEZONE
TZID:America/Detroit
BEGIN:DAYLIGHT
TZOFFSETFROM:-0500
TZOFFSETTO:-0400
TZNAME:EDT
DTSTART:20250309T070000
END:DAYLIGHT
BEGIN:STANDARD
TZOFFSETFROM:-0400
TZOFFSETTO:-0500
TZNAME:EST
DTSTART:20251102T060000
END:STANDARD
BEGIN:DAYLIGHT
TZOFFSETFROM:-0500
TZOFFSETTO:-0400
TZNAME:EDT
DTSTART:20260308T070000
END:DAYLIGHT
BEGIN:STANDARD
TZOFFSETFROM:-0400
TZOFFSETTO:-0500
TZNAME:EST
DTSTART:20261101T060000
END:STANDARD
BEGIN:DAYLIGHT
TZOFFSETFROM:-0500
TZOFFSETTO:-0400
TZNAME:EDT
DTSTART:20270314T070000
END:DAYLIGHT
BEGIN:STANDARD
TZOFFSETFROM:-0400
TZOFFSETTO:-0500
TZNAME:EST
DTSTART:20271107T060000
END:STANDARD
END:VTIMEZONE
BEGIN:VEVENT
DTSTART;TZID=America/Detroit:20260601T080000
DTEND;TZID=America/Detroit:20260601T090000
DTSTAMP:20260423T144037
CREATED:20251002T171506Z
LAST-MODIFIED:20260331T144134Z
UID:10006701-1780300800-1780304400@stvincentferrer.net
SUMMARY:Daily Mass 8am Monday thru Thursday (livestream)
DESCRIPTION:
URL:https://stvincentferrer.net/event/daily-mass-8am-monday-thru-thursday-livestream-2/2026-06-01/
CATEGORIES:Mass,Music,Worship
ATTACH;FMTTYPE=image/jpeg:https://stvincentferrer.net/wp-content/uploads/2025/02/Daily-Mass-scaled.jpg
END:VEVENT
BEGIN:VEVENT
DTSTART;TZID=America/Detroit:20260602T080000
DTEND;TZID=America/Detroit:20260602T090000
DTSTAMP:20260423T144037
CREATED:20251002T171506Z
LAST-MODIFIED:20260331T144134Z
UID:10006702-1780387200-1780390800@stvincentferrer.net
SUMMARY:Daily Mass 8am Monday thru Thursday (livestream)
DESCRIPTION:
URL:https://stvincentferrer.net/event/daily-mass-8am-monday-thru-thursday-livestream-2/2026-06-02/
CATEGORIES:Mass,Music,Worship
ATTACH;FMTTYPE=image/jpeg:https://stvincentferrer.net/wp-content/uploads/2025/02/Daily-Mass-scaled.jpg
END:VEVENT
BEGIN:VEVENT
DTSTART;TZID=America/Detroit:20260602T090000
DTEND;TZID=America/Detroit:20260602T100000
DTSTAMP:20260423T144037
CREATED:20250520T174349Z
LAST-MODIFIED:20251216T181807Z
UID:10005560-1780390800-1780394400@stvincentferrer.net
SUMMARY:Adoration - Every Tuesday 9am following Mass
DESCRIPTION:
URL:https://stvincentferrer.net/event/adoration-every-tuesday-9am-following-mass-2-2/2026-06-02/
CATEGORIES:Worship
ATTACH;FMTTYPE=image/jpeg:https://stvincentferrer.net/wp-content/uploads/2017/03/Monstrance-1.jpg
END:VEVENT
BEGIN:VEVENT
DTSTART;TZID=America/Detroit:20260603T080000
DTEND;TZID=America/Detroit:20260603T090000
DTSTAMP:20260423T144037
CREATED:20251002T171506Z
LAST-MODIFIED:20260331T144134Z
UID:10006703-1780473600-1780477200@stvincentferrer.net
SUMMARY:Daily Mass 8am Monday thru Thursday (livestream)
DESCRIPTION:
URL:https://stvincentferrer.net/event/daily-mass-8am-monday-thru-thursday-livestream-2/2026-06-03/
CATEGORIES:Mass,Music,Worship
ATTACH;FMTTYPE=image/jpeg:https://stvincentferrer.net/wp-content/uploads/2025/02/Daily-Mass-scaled.jpg
END:VEVENT
BEGIN:VEVENT
DTSTART;TZID=America/Detroit:20260604T080000
DTEND;TZID=America/Detroit:20260604T090000
DTSTAMP:20260423T144037
CREATED:20251002T171506Z
LAST-MODIFIED:20260331T144134Z
UID:10006704-1780560000-1780563600@stvincentferrer.net
SUMMARY:Daily Mass 8am Monday thru Thursday (livestream)
DESCRIPTION:
URL:https://stvincentferrer.net/event/daily-mass-8am-monday-thru-thursday-livestream-2/2026-06-04/
CATEGORIES:Mass,Music,Worship
ATTACH;FMTTYPE=image/jpeg:https://stvincentferrer.net/wp-content/uploads/2025/02/Daily-Mass-scaled.jpg
END:VEVENT
BEGIN:VEVENT
DTSTART;TZID=America/Detroit:20260604T090000
DTEND;TZID=America/Detroit:20260604T093000
DTSTAMP:20260423T144037
CREATED:20250212T200207Z
LAST-MODIFIED:20260331T144257Z
UID:10006102-1780563600-1780565400@stvincentferrer.net
SUMMARY:Rosary - Thursdays following 8am mass ( also Livestream )
DESCRIPTION:
URL:https://stvincentferrer.net/event/rosary-thursdays-following-8am-mass-also-livestream/2026-06-04/
LOCATION:St. Vincent Ferrer Church\, 28353 Herbert\, Madison Heights\, MI\, 48071
CATEGORIES:Miscellaneous,Worship
ATTACH;FMTTYPE=image/jpeg:https://stvincentferrer.net/wp-content/uploads/2022/05/rosary.jpg
GEO:42.4992176;-83.0971204
X-APPLE-STRUCTURED-LOCATION;VALUE=URI;X-ADDRESS=St. Vincent Ferrer Church 28353 Herbert Madison Heights MI 48071;X-APPLE-RADIUS=500;X-TITLE=28353 Herbert:geo:-83.0971204,42.4992176
END:VEVENT
BEGIN:VEVENT
DTSTART;TZID=America/Detroit:20260606T090000
DTEND;TZID=America/Detroit:20260606T110000
DTSTAMP:20260423T144037
CREATED:20240821T191450Z
LAST-MODIFIED:20240821T191450Z
UID:10004960-1780736400-1780743600@stvincentferrer.net
SUMMARY:Men's Fellowship and Scripture Reflection
DESCRIPTION:The men’s fellowship group gathers for a scripture reflection/sharing every other Saturday at 9am in the Faith Formation office of the school building.
URL:https://stvincentferrer.net/event/mens-fellowship-and-scripture-reflection-2-2/2026-06-06/
LOCATION:Faith Formation Office\, 1075 E. Gardenia\, Madison Heights\, MI\, United States
CATEGORIES:Adult Faith Formation
ATTACH;FMTTYPE=image/png:https://stvincentferrer.net/wp-content/uploads/2022/01/Mens-Fellowship-1-1.png
ORGANIZER;CN="Tom Karolski":MAILTO:debbie@stvincentferrer.net
GEO:42.4991272;-83.0960313
X-APPLE-STRUCTURED-LOCATION;VALUE=URI;X-ADDRESS=Faith Formation Office 1075 E. Gardenia Madison Heights MI United States;X-APPLE-RADIUS=500;X-TITLE=1075 E. Gardenia:geo:-83.0960313,42.4991272
END:VEVENT
BEGIN:VEVENT
DTSTART;TZID=America/Detroit:20260607T090000
DTEND;TZID=America/Detroit:20260607T100000
DTSTAMP:20260423T144037
CREATED:20250325T200237Z
LAST-MODIFIED:20251216T181536Z
UID:10008081-1780822800-1780826400@stvincentferrer.net
SUMMARY:Sunday Mass 9:00 am
DESCRIPTION:
URL:https://stvincentferrer.net/event/sunday-mass-900-am/2026-06-07/
LOCATION:St. Vincent Ferrer Church\, 28353 Herbert\, Madison Heights\, MI\, 48071
CATEGORIES:Mass,Worship
GEO:42.4992176;-83.0971204
X-APPLE-STRUCTURED-LOCATION;VALUE=URI;X-ADDRESS=St. Vincent Ferrer Church 28353 Herbert Madison Heights MI 48071;X-APPLE-RADIUS=500;X-TITLE=28353 Herbert:geo:-83.0971204,42.4992176
END:VEVENT
BEGIN:VEVENT
DTSTART;TZID=America/Detroit:20260608T080000
DTEND;TZID=America/Detroit:20260608T090000
DTSTAMP:20260423T144037
CREATED:20251002T171506Z
LAST-MODIFIED:20260331T144134Z
UID:10006707-1780905600-1780909200@stvincentferrer.net
SUMMARY:Daily Mass 8am Monday thru Thursday (livestream)
DESCRIPTION:
URL:https://stvincentferrer.net/event/daily-mass-8am-monday-thru-thursday-livestream-2/2026-06-08/
CATEGORIES:Mass,Music,Worship
ATTACH;FMTTYPE=image/jpeg:https://stvincentferrer.net/wp-content/uploads/2025/02/Daily-Mass-scaled.jpg
END:VEVENT
BEGIN:VEVENT
DTSTART;TZID=America/Detroit:20260609T080000
DTEND;TZID=America/Detroit:20260609T090000
DTSTAMP:20260423T144037
CREATED:20251002T171506Z
LAST-MODIFIED:20260331T144134Z
UID:10006708-1780992000-1780995600@stvincentferrer.net
SUMMARY:Daily Mass 8am Monday thru Thursday (livestream)
DESCRIPTION:
URL:https://stvincentferrer.net/event/daily-mass-8am-monday-thru-thursday-livestream-2/2026-06-09/
CATEGORIES:Mass,Music,Worship
ATTACH;FMTTYPE=image/jpeg:https://stvincentferrer.net/wp-content/uploads/2025/02/Daily-Mass-scaled.jpg
END:VEVENT
BEGIN:VEVENT
DTSTART;TZID=America/Detroit:20260609T090000
DTEND;TZID=America/Detroit:20260609T100000
DTSTAMP:20260423T144037
CREATED:20250520T174349Z
LAST-MODIFIED:20251216T181807Z
UID:10005561-1780995600-1780999200@stvincentferrer.net
SUMMARY:Adoration - Every Tuesday 9am following Mass
DESCRIPTION:
URL:https://stvincentferrer.net/event/adoration-every-tuesday-9am-following-mass-2-2/2026-06-09/
CATEGORIES:Worship
ATTACH;FMTTYPE=image/jpeg:https://stvincentferrer.net/wp-content/uploads/2017/03/Monstrance-1.jpg
END:VEVENT
BEGIN:VEVENT
DTSTART;TZID=America/Detroit:20260610T080000
DTEND;TZID=America/Detroit:20260610T090000
DTSTAMP:20260423T144037
CREATED:20251002T171506Z
LAST-MODIFIED:20260331T144134Z
UID:10006709-1781078400-1781082000@stvincentferrer.net
SUMMARY:Daily Mass 8am Monday thru Thursday (livestream)
DESCRIPTION:
URL:https://stvincentferrer.net/event/daily-mass-8am-monday-thru-thursday-livestream-2/2026-06-10/
CATEGORIES:Mass,Music,Worship
ATTACH;FMTTYPE=image/jpeg:https://stvincentferrer.net/wp-content/uploads/2025/02/Daily-Mass-scaled.jpg
END:VEVENT
BEGIN:VEVENT
DTSTART;TZID=America/Detroit:20260611T080000
DTEND;TZID=America/Detroit:20260611T090000
DTSTAMP:20260423T144037
CREATED:20251002T171506Z
LAST-MODIFIED:20260331T144134Z
UID:10006710-1781164800-1781168400@stvincentferrer.net
SUMMARY:Daily Mass 8am Monday thru Thursday (livestream)
DESCRIPTION:
URL:https://stvincentferrer.net/event/daily-mass-8am-monday-thru-thursday-livestream-2/2026-06-11/
CATEGORIES:Mass,Music,Worship
ATTACH;FMTTYPE=image/jpeg:https://stvincentferrer.net/wp-content/uploads/2025/02/Daily-Mass-scaled.jpg
END:VEVENT
BEGIN:VEVENT
DTSTART;TZID=America/Detroit:20260611T090000
DTEND;TZID=America/Detroit:20260611T093000
DTSTAMP:20260423T144037
CREATED:20250212T200207Z
LAST-MODIFIED:20260331T144257Z
UID:10006103-1781168400-1781170200@stvincentferrer.net
SUMMARY:Rosary - Thursdays following 8am mass ( also Livestream )
DESCRIPTION:
URL:https://stvincentferrer.net/event/rosary-thursdays-following-8am-mass-also-livestream/2026-06-11/
LOCATION:St. Vincent Ferrer Church\, 28353 Herbert\, Madison Heights\, MI\, 48071
CATEGORIES:Miscellaneous,Worship
ATTACH;FMTTYPE=image/jpeg:https://stvincentferrer.net/wp-content/uploads/2022/05/rosary.jpg
GEO:42.4992176;-83.0971204
X-APPLE-STRUCTURED-LOCATION;VALUE=URI;X-ADDRESS=St. Vincent Ferrer Church 28353 Herbert Madison Heights MI 48071;X-APPLE-RADIUS=500;X-TITLE=28353 Herbert:geo:-83.0971204,42.4992176
END:VEVENT
BEGIN:VEVENT
DTSTART;TZID=America/Detroit:20260613T090000
DTEND;TZID=America/Detroit:20260613T110000
DTSTAMP:20260423T144037
CREATED:20251222T192228Z
LAST-MODIFIED:20251222T192416Z
UID:10009020-1781341200-1781348400@stvincentferrer.net
SUMMARY:Women's Sacred Journey
DESCRIPTION:Women’s Sacred Journey\nEvery other Saturday at 9:00am\nFaith Formation Office\nSVF School Bldg.\nWomen’s Sacred Journey group invites all\nwomen to join them in praying and reflecting on\nScripture passages. The gathering is every other\nSaturday. No registration or fee required.
URL:https://stvincentferrer.net/event/womens-sacred-journey-dec-27-2025-january-1024-feb-27/2026-06-13/
LOCATION:Faith Formation Office\, 1075 E. Gardenia\, Madison Heights\, MI\, United States
CATEGORIES:Adult Faith Formation,Christian Service,Miscellaneous
GEO:42.4991272;-83.0960313
X-APPLE-STRUCTURED-LOCATION;VALUE=URI;X-ADDRESS=Faith Formation Office 1075 E. Gardenia Madison Heights MI United States;X-APPLE-RADIUS=500;X-TITLE=1075 E. Gardenia:geo:-83.0960313,42.4991272
END:VEVENT
BEGIN:VEVENT
DTSTART;TZID=America/Detroit:20260614T090000
DTEND;TZID=America/Detroit:20260614T100000
DTSTAMP:20260423T144037
CREATED:20250325T200237Z
LAST-MODIFIED:20251216T181536Z
UID:10008082-1781427600-1781431200@stvincentferrer.net
SUMMARY:Sunday Mass 9:00 am
DESCRIPTION:
URL:https://stvincentferrer.net/event/sunday-mass-900-am/2026-06-14/
LOCATION:St. Vincent Ferrer Church\, 28353 Herbert\, Madison Heights\, MI\, 48071
CATEGORIES:Mass,Worship
GEO:42.4992176;-83.0971204
X-APPLE-STRUCTURED-LOCATION;VALUE=URI;X-ADDRESS=St. Vincent Ferrer Church 28353 Herbert Madison Heights MI 48071;X-APPLE-RADIUS=500;X-TITLE=28353 Herbert:geo:-83.0971204,42.4992176
END:VEVENT
BEGIN:VEVENT
DTSTART;TZID=America/Detroit:20260615T080000
DTEND;TZID=America/Detroit:20260615T090000
DTSTAMP:20260423T144037
CREATED:20251002T171506Z
LAST-MODIFIED:20260331T144134Z
UID:10006713-1781510400-1781514000@stvincentferrer.net
SUMMARY:Daily Mass 8am Monday thru Thursday (livestream)
DESCRIPTION:
URL:https://stvincentferrer.net/event/daily-mass-8am-monday-thru-thursday-livestream-2/2026-06-15/
CATEGORIES:Mass,Music,Worship
ATTACH;FMTTYPE=image/jpeg:https://stvincentferrer.net/wp-content/uploads/2025/02/Daily-Mass-scaled.jpg
END:VEVENT
BEGIN:VEVENT
DTSTART;TZID=America/Detroit:20260616T080000
DTEND;TZID=America/Detroit:20260616T090000
DTSTAMP:20260423T144037
CREATED:20251002T171506Z
LAST-MODIFIED:20260331T144134Z
UID:10006714-1781596800-1781600400@stvincentferrer.net
SUMMARY:Daily Mass 8am Monday thru Thursday (livestream)
DESCRIPTION:
URL:https://stvincentferrer.net/event/daily-mass-8am-monday-thru-thursday-livestream-2/2026-06-16/
CATEGORIES:Mass,Music,Worship
ATTACH;FMTTYPE=image/jpeg:https://stvincentferrer.net/wp-content/uploads/2025/02/Daily-Mass-scaled.jpg
END:VEVENT
BEGIN:VEVENT
DTSTART;TZID=America/Detroit:20260616T090000
DTEND;TZID=America/Detroit:20260616T100000
DTSTAMP:20260423T144037
CREATED:20250520T174349Z
LAST-MODIFIED:20251216T181807Z
UID:10005562-1781600400-1781604000@stvincentferrer.net
SUMMARY:Adoration - Every Tuesday 9am following Mass
DESCRIPTION:
URL:https://stvincentferrer.net/event/adoration-every-tuesday-9am-following-mass-2-2/2026-06-16/
CATEGORIES:Worship
ATTACH;FMTTYPE=image/jpeg:https://stvincentferrer.net/wp-content/uploads/2017/03/Monstrance-1.jpg
END:VEVENT
BEGIN:VEVENT
DTSTART;TZID=America/Detroit:20260617T080000
DTEND;TZID=America/Detroit:20260617T090000
DTSTAMP:20260423T144037
CREATED:20251002T171506Z
LAST-MODIFIED:20260331T144134Z
UID:10006715-1781683200-1781686800@stvincentferrer.net
SUMMARY:Daily Mass 8am Monday thru Thursday (livestream)
DESCRIPTION:
URL:https://stvincentferrer.net/event/daily-mass-8am-monday-thru-thursday-livestream-2/2026-06-17/
CATEGORIES:Mass,Music,Worship
ATTACH;FMTTYPE=image/jpeg:https://stvincentferrer.net/wp-content/uploads/2025/02/Daily-Mass-scaled.jpg
END:VEVENT
BEGIN:VEVENT
DTSTART;TZID=America/Detroit:20260618T080000
DTEND;TZID=America/Detroit:20260618T090000
DTSTAMP:20260423T144037
CREATED:20251002T171506Z
LAST-MODIFIED:20260331T144134Z
UID:10006716-1781769600-1781773200@stvincentferrer.net
SUMMARY:Daily Mass 8am Monday thru Thursday (livestream)
DESCRIPTION:
URL:https://stvincentferrer.net/event/daily-mass-8am-monday-thru-thursday-livestream-2/2026-06-18/
CATEGORIES:Mass,Music,Worship
ATTACH;FMTTYPE=image/jpeg:https://stvincentferrer.net/wp-content/uploads/2025/02/Daily-Mass-scaled.jpg
END:VEVENT
BEGIN:VEVENT
DTSTART;TZID=America/Detroit:20260618T090000
DTEND;TZID=America/Detroit:20260618T093000
DTSTAMP:20260423T144037
CREATED:20250212T200207Z
LAST-MODIFIED:20260331T144257Z
UID:10006104-1781773200-1781775000@stvincentferrer.net
SUMMARY:Rosary - Thursdays following 8am mass ( also Livestream )
DESCRIPTION:
URL:https://stvincentferrer.net/event/rosary-thursdays-following-8am-mass-also-livestream/2026-06-18/
LOCATION:St. Vincent Ferrer Church\, 28353 Herbert\, Madison Heights\, MI\, 48071
CATEGORIES:Miscellaneous,Worship
ATTACH;FMTTYPE=image/jpeg:https://stvincentferrer.net/wp-content/uploads/2022/05/rosary.jpg
GEO:42.4992176;-83.0971204
X-APPLE-STRUCTURED-LOCATION;VALUE=URI;X-ADDRESS=St. Vincent Ferrer Church 28353 Herbert Madison Heights MI 48071;X-APPLE-RADIUS=500;X-TITLE=28353 Herbert:geo:-83.0971204,42.4992176
END:VEVENT
BEGIN:VEVENT
DTSTART;TZID=America/Detroit:20260620T090000
DTEND;TZID=America/Detroit:20260620T110000
DTSTAMP:20260423T144037
CREATED:20240821T191450Z
LAST-MODIFIED:20240821T191450Z
UID:10004961-1781946000-1781953200@stvincentferrer.net
SUMMARY:Men's Fellowship and Scripture Reflection
DESCRIPTION:The men’s fellowship group gathers for a scripture reflection/sharing every other Saturday at 9am in the Faith Formation office of the school building.
URL:https://stvincentferrer.net/event/mens-fellowship-and-scripture-reflection-2-2/2026-06-20/
LOCATION:Faith Formation Office\, 1075 E. Gardenia\, Madison Heights\, MI\, United States
CATEGORIES:Adult Faith Formation
ATTACH;FMTTYPE=image/png:https://stvincentferrer.net/wp-content/uploads/2022/01/Mens-Fellowship-1-1.png
ORGANIZER;CN="Tom Karolski":MAILTO:debbie@stvincentferrer.net
GEO:42.4991272;-83.0960313
X-APPLE-STRUCTURED-LOCATION;VALUE=URI;X-ADDRESS=Faith Formation Office 1075 E. Gardenia Madison Heights MI United States;X-APPLE-RADIUS=500;X-TITLE=1075 E. Gardenia:geo:-83.0960313,42.4991272
END:VEVENT
BEGIN:VEVENT
DTSTART;TZID=America/Detroit:20260621T090000
DTEND;TZID=America/Detroit:20260621T100000
DTSTAMP:20260423T144037
CREATED:20250325T200237Z
LAST-MODIFIED:20251216T181536Z
UID:10008083-1782032400-1782036000@stvincentferrer.net
SUMMARY:Sunday Mass 9:00 am
DESCRIPTION:
URL:https://stvincentferrer.net/event/sunday-mass-900-am/2026-06-21/
LOCATION:St. Vincent Ferrer Church\, 28353 Herbert\, Madison Heights\, MI\, 48071
CATEGORIES:Mass,Worship
GEO:42.4992176;-83.0971204
X-APPLE-STRUCTURED-LOCATION;VALUE=URI;X-ADDRESS=St. Vincent Ferrer Church 28353 Herbert Madison Heights MI 48071;X-APPLE-RADIUS=500;X-TITLE=28353 Herbert:geo:-83.0971204,42.4992176
END:VEVENT
BEGIN:VEVENT
DTSTART;TZID=America/Detroit:20260622T080000
DTEND;TZID=America/Detroit:20260622T090000
DTSTAMP:20260423T144037
CREATED:20251002T171506Z
LAST-MODIFIED:20260331T144134Z
UID:10006719-1782115200-1782118800@stvincentferrer.net
SUMMARY:Daily Mass 8am Monday thru Thursday (livestream)
DESCRIPTION:
URL:https://stvincentferrer.net/event/daily-mass-8am-monday-thru-thursday-livestream-2/2026-06-22/
CATEGORIES:Mass,Music,Worship
ATTACH;FMTTYPE=image/jpeg:https://stvincentferrer.net/wp-content/uploads/2025/02/Daily-Mass-scaled.jpg
END:VEVENT
BEGIN:VEVENT
DTSTART;TZID=America/Detroit:20260623T080000
DTEND;TZID=America/Detroit:20260623T090000
DTSTAMP:20260423T144037
CREATED:20251002T171506Z
LAST-MODIFIED:20260331T144134Z
UID:10006720-1782201600-1782205200@stvincentferrer.net
SUMMARY:Daily Mass 8am Monday thru Thursday (livestream)
DESCRIPTION:
URL:https://stvincentferrer.net/event/daily-mass-8am-monday-thru-thursday-livestream-2/2026-06-23/
CATEGORIES:Mass,Music,Worship
ATTACH;FMTTYPE=image/jpeg:https://stvincentferrer.net/wp-content/uploads/2025/02/Daily-Mass-scaled.jpg
END:VEVENT
BEGIN:VEVENT
DTSTART;TZID=America/Detroit:20260623T090000
DTEND;TZID=America/Detroit:20260623T100000
DTSTAMP:20260423T144037
CREATED:20250520T174349Z
LAST-MODIFIED:20251216T181807Z
UID:10005563-1782205200-1782208800@stvincentferrer.net
SUMMARY:Adoration - Every Tuesday 9am following Mass
DESCRIPTION:
URL:https://stvincentferrer.net/event/adoration-every-tuesday-9am-following-mass-2-2/2026-06-23/
CATEGORIES:Worship
ATTACH;FMTTYPE=image/jpeg:https://stvincentferrer.net/wp-content/uploads/2017/03/Monstrance-1.jpg
END:VEVENT
BEGIN:VEVENT
DTSTART;TZID=America/Detroit:20260624T080000
DTEND;TZID=America/Detroit:20260624T090000
DTSTAMP:20260423T144037
CREATED:20251002T171506Z
LAST-MODIFIED:20260331T144134Z
UID:10006721-1782288000-1782291600@stvincentferrer.net
SUMMARY:Daily Mass 8am Monday thru Thursday (livestream)
DESCRIPTION:
URL:https://stvincentferrer.net/event/daily-mass-8am-monday-thru-thursday-livestream-2/2026-06-24/
CATEGORIES:Mass,Music,Worship
ATTACH;FMTTYPE=image/jpeg:https://stvincentferrer.net/wp-content/uploads/2025/02/Daily-Mass-scaled.jpg
END:VEVENT
BEGIN:VEVENT
DTSTART;TZID=America/Detroit:20260625T080000
DTEND;TZID=America/Detroit:20260625T090000
DTSTAMP:20260423T144037
CREATED:20251002T171506Z
LAST-MODIFIED:20260331T144134Z
UID:10006722-1782374400-1782378000@stvincentferrer.net
SUMMARY:Daily Mass 8am Monday thru Thursday (livestream)
DESCRIPTION:
URL:https://stvincentferrer.net/event/daily-mass-8am-monday-thru-thursday-livestream-2/2026-06-25/
CATEGORIES:Mass,Music,Worship
ATTACH;FMTTYPE=image/jpeg:https://stvincentferrer.net/wp-content/uploads/2025/02/Daily-Mass-scaled.jpg
END:VEVENT
BEGIN:VEVENT
DTSTART;TZID=America/Detroit:20260625T090000
DTEND;TZID=America/Detroit:20260625T093000
DTSTAMP:20260423T144037
CREATED:20250212T200207Z
LAST-MODIFIED:20260331T144257Z
UID:10006105-1782378000-1782379800@stvincentferrer.net
SUMMARY:Rosary - Thursdays following 8am mass ( also Livestream )
DESCRIPTION:
URL:https://stvincentferrer.net/event/rosary-thursdays-following-8am-mass-also-livestream/2026-06-25/
LOCATION:St. Vincent Ferrer Church\, 28353 Herbert\, Madison Heights\, MI\, 48071
CATEGORIES:Miscellaneous,Worship
ATTACH;FMTTYPE=image/jpeg:https://stvincentferrer.net/wp-content/uploads/2022/05/rosary.jpg
GEO:42.4992176;-83.0971204
X-APPLE-STRUCTURED-LOCATION;VALUE=URI;X-ADDRESS=St. Vincent Ferrer Church 28353 Herbert Madison Heights MI 48071;X-APPLE-RADIUS=500;X-TITLE=28353 Herbert:geo:-83.0971204,42.4992176
END:VEVENT
END:VCALENDAR