BEGIN:VCALENDAR
VERSION:2.0
PRODID:-//St. Vincent Ferrer Catholic Church - ECPv6.15.20//NONSGML v1.0//EN
CALSCALE:GREGORIAN
METHOD:PUBLISH
X-WR-CALNAME:St. Vincent Ferrer Catholic Church
X-ORIGINAL-URL:https://stvincentferrer.net
X-WR-CALDESC:Events for St. Vincent Ferrer Catholic Church
REFRESH-INTERVAL;VALUE=DURATION:PT1H
X-Robots-Tag:noindex
X-PUBLISHED-TTL:PT1H
BEGIN:VTIMEZONE
TZID:America/Detroit
BEGIN:DAYLIGHT
TZOFFSETFROM:-0500
TZOFFSETTO:-0400
TZNAME:EDT
DTSTART:20250309T070000
END:DAYLIGHT
BEGIN:STANDARD
TZOFFSETFROM:-0400
TZOFFSETTO:-0500
TZNAME:EST
DTSTART:20251102T060000
END:STANDARD
BEGIN:DAYLIGHT
TZOFFSETFROM:-0500
TZOFFSETTO:-0400
TZNAME:EDT
DTSTART:20260308T070000
END:DAYLIGHT
BEGIN:STANDARD
TZOFFSETFROM:-0400
TZOFFSETTO:-0500
TZNAME:EST
DTSTART:20261101T060000
END:STANDARD
BEGIN:DAYLIGHT
TZOFFSETFROM:-0500
TZOFFSETTO:-0400
TZNAME:EDT
DTSTART:20270314T070000
END:DAYLIGHT
BEGIN:STANDARD
TZOFFSETFROM:-0400
TZOFFSETTO:-0500
TZNAME:EST
DTSTART:20271107T060000
END:STANDARD
END:VTIMEZONE
BEGIN:VEVENT
DTSTART;TZID=America/Detroit:20260201T090000
DTEND;TZID=America/Detroit:20260201T100000
DTSTAMP:20260423T144419
CREATED:20250325T200237Z
LAST-MODIFIED:20251216T181536Z
UID:10008063-1769936400-1769940000@stvincentferrer.net
SUMMARY:Sunday Mass 9:00 am
DESCRIPTION:
URL:https://stvincentferrer.net/event/sunday-mass-900-am/2026-02-01/
LOCATION:St. Vincent Ferrer Church\, 28353 Herbert\, Madison Heights\, MI\, 48071
CATEGORIES:Mass,Worship
GEO:42.4992176;-83.0971204
X-APPLE-STRUCTURED-LOCATION;VALUE=URI;X-ADDRESS=St. Vincent Ferrer Church 28353 Herbert Madison Heights MI 48071;X-APPLE-RADIUS=500;X-TITLE=28353 Herbert:geo:-83.0971204,42.4992176
END:VEVENT
BEGIN:VEVENT
DTSTART;TZID=America/Detroit:20260202T080000
DTEND;TZID=America/Detroit:20260202T090000
DTSTAMP:20260423T144419
CREATED:20251002T171506Z
LAST-MODIFIED:20260331T144134Z
UID:10006599-1770019200-1770022800@stvincentferrer.net
SUMMARY:Daily Mass 8am Monday thru Thursday (livestream)
DESCRIPTION:
URL:https://stvincentferrer.net/event/daily-mass-8am-monday-thru-thursday-livestream-2/2026-02-02/
CATEGORIES:Mass,Music,Worship
ATTACH;FMTTYPE=image/jpeg:https://stvincentferrer.net/wp-content/uploads/2025/02/Daily-Mass-scaled.jpg
END:VEVENT
BEGIN:VEVENT
DTSTART;TZID=America/Detroit:20260202T080000
DTEND;TZID=America/Detroit:20260202T090000
DTSTAMP:20260423T144419
CREATED:20260106T205107Z
LAST-MODIFIED:20260106T205135Z
UID:10009156-1770019200-1770022800@stvincentferrer.net
SUMMARY:World day for Consecrated Life
DESCRIPTION:  \n\n\nThe World Day for Consecrated Life is an annual Catholic celebration on February 2nd\, tied to the Feast of the Presentation of the Lord (Candlemas)\, instituted by Pope St. John Paul II in 1997 to recognize and pray for those who live consecrated lives (priests\, religious sisters\, brothers\, etc.). It’s a day for the entire Church to appreciate their witness\, for consecrated individuals to renew their commitment\, and to encourage vocations by reflecting Christ’s light to the world. 
URL:https://stvincentferrer.net/event/world-day-for-consecrated-life-2/
CATEGORIES:Adult Faith Formation,Christian Service,Mass,Miscellaneous
END:VEVENT
BEGIN:VEVENT
DTSTART;TZID=America/Detroit:20260203T080000
DTEND;TZID=America/Detroit:20260203T090000
DTSTAMP:20260423T144419
CREATED:20251002T171506Z
LAST-MODIFIED:20260331T144134Z
UID:10006600-1770105600-1770109200@stvincentferrer.net
SUMMARY:Daily Mass 8am Monday thru Thursday (livestream)
DESCRIPTION:
URL:https://stvincentferrer.net/event/daily-mass-8am-monday-thru-thursday-livestream-2/2026-02-03/
CATEGORIES:Mass,Music,Worship
ATTACH;FMTTYPE=image/jpeg:https://stvincentferrer.net/wp-content/uploads/2025/02/Daily-Mass-scaled.jpg
END:VEVENT
BEGIN:VEVENT
DTSTART;TZID=America/Detroit:20260203T090000
DTEND;TZID=America/Detroit:20260203T100000
DTSTAMP:20260423T144419
CREATED:20250520T174349Z
LAST-MODIFIED:20251216T181807Z
UID:10005543-1770109200-1770112800@stvincentferrer.net
SUMMARY:Adoration - Every Tuesday 9am following Mass
DESCRIPTION:
URL:https://stvincentferrer.net/event/adoration-every-tuesday-9am-following-mass-2-2/2026-02-03/
CATEGORIES:Worship
ATTACH;FMTTYPE=image/jpeg:https://stvincentferrer.net/wp-content/uploads/2017/03/Monstrance-1.jpg
END:VEVENT
BEGIN:VEVENT
DTSTART;TZID=America/Detroit:20260204T080000
DTEND;TZID=America/Detroit:20260204T090000
DTSTAMP:20260423T144419
CREATED:20251002T171506Z
LAST-MODIFIED:20260331T144134Z
UID:10006601-1770192000-1770195600@stvincentferrer.net
SUMMARY:Daily Mass 8am Monday thru Thursday (livestream)
DESCRIPTION:
URL:https://stvincentferrer.net/event/daily-mass-8am-monday-thru-thursday-livestream-2/2026-02-04/
CATEGORIES:Mass,Music,Worship
ATTACH;FMTTYPE=image/jpeg:https://stvincentferrer.net/wp-content/uploads/2025/02/Daily-Mass-scaled.jpg
END:VEVENT
BEGIN:VEVENT
DTSTART;TZID=America/Detroit:20260204T090000
DTEND;TZID=America/Detroit:20260204T110000
DTSTAMP:20260423T144419
CREATED:20251222T194001Z
LAST-MODIFIED:20251222T194001Z
UID:10009141-1770195600-1770202800@stvincentferrer.net
SUMMARY:Book Study - Gateway to Hope. Wednesdays after 8am Mass
DESCRIPTION:
URL:https://stvincentferrer.net/event/book-study-gateway-to-hope-wednesdays-after-8am-mass/2026-02-04/
CATEGORIES:Adult Faith Formation,Christian Service,Miscellaneous
ATTACH;FMTTYPE=image/jpeg:https://stvincentferrer.net/wp-content/uploads/2025/01/church-with-cross-2-scaled.jpg
END:VEVENT
BEGIN:VEVENT
DTSTART;TZID=America/Detroit:20260205T080000
DTEND;TZID=America/Detroit:20260205T090000
DTSTAMP:20260423T144419
CREATED:20251002T171506Z
LAST-MODIFIED:20260331T144134Z
UID:10006602-1770278400-1770282000@stvincentferrer.net
SUMMARY:Daily Mass 8am Monday thru Thursday (livestream)
DESCRIPTION:
URL:https://stvincentferrer.net/event/daily-mass-8am-monday-thru-thursday-livestream-2/2026-02-05/
CATEGORIES:Mass,Music,Worship
ATTACH;FMTTYPE=image/jpeg:https://stvincentferrer.net/wp-content/uploads/2025/02/Daily-Mass-scaled.jpg
END:VEVENT
BEGIN:VEVENT
DTSTART;TZID=America/Detroit:20260205T090000
DTEND;TZID=America/Detroit:20260205T093000
DTSTAMP:20260423T144419
CREATED:20250212T200207Z
LAST-MODIFIED:20260331T144257Z
UID:10006085-1770282000-1770283800@stvincentferrer.net
SUMMARY:Rosary - Thursdays following 8am mass ( also Livestream )
DESCRIPTION:
URL:https://stvincentferrer.net/event/rosary-thursdays-following-8am-mass-also-livestream/2026-02-05/
LOCATION:St. Vincent Ferrer Church\, 28353 Herbert\, Madison Heights\, MI\, 48071
CATEGORIES:Miscellaneous,Worship
ATTACH;FMTTYPE=image/jpeg:https://stvincentferrer.net/wp-content/uploads/2022/05/rosary.jpg
GEO:42.4992176;-83.0971204
X-APPLE-STRUCTURED-LOCATION;VALUE=URI;X-ADDRESS=St. Vincent Ferrer Church 28353 Herbert Madison Heights MI 48071;X-APPLE-RADIUS=500;X-TITLE=28353 Herbert:geo:-83.0971204,42.4992176
END:VEVENT
BEGIN:VEVENT
DTSTART;TZID=America/Detroit:20260207T090000
DTEND;TZID=America/Detroit:20260207T110000
DTSTAMP:20260423T144420
CREATED:20251222T192228Z
LAST-MODIFIED:20251222T192416Z
UID:10009011-1770454800-1770462000@stvincentferrer.net
SUMMARY:Women's Sacred Journey
DESCRIPTION:Women’s Sacred Journey\nEvery other Saturday at 9:00am\nFaith Formation Office\nSVF School Bldg.\nWomen’s Sacred Journey group invites all\nwomen to join them in praying and reflecting on\nScripture passages. The gathering is every other\nSaturday. No registration or fee required.
URL:https://stvincentferrer.net/event/womens-sacred-journey-dec-27-2025-january-1024-feb-27/2026-02-07/
LOCATION:Faith Formation Office\, 1075 E. Gardenia\, Madison Heights\, MI\, United States
CATEGORIES:Adult Faith Formation,Christian Service,Miscellaneous
GEO:42.4991272;-83.0960313
X-APPLE-STRUCTURED-LOCATION;VALUE=URI;X-ADDRESS=Faith Formation Office 1075 E. Gardenia Madison Heights MI United States;X-APPLE-RADIUS=500;X-TITLE=1075 E. Gardenia:geo:-83.0960313,42.4991272
END:VEVENT
BEGIN:VEVENT
DTSTART;VALUE=DATE:20260208
DTEND;VALUE=DATE:20260209
DTSTAMP:20260423T144420
CREATED:20260126T194015Z
LAST-MODIFIED:20260126T194015Z
UID:10009169-1770508800-1770595199@stvincentferrer.net
SUMMARY:World Marriage Day
DESCRIPTION:
URL:https://stvincentferrer.net/event/world-marriage-day-3/
CATEGORIES:Mass,Miscellaneous,Worship
END:VEVENT
BEGIN:VEVENT
DTSTART;TZID=America/Detroit:20260208T090000
DTEND;TZID=America/Detroit:20260208T100000
DTSTAMP:20260423T144420
CREATED:20250325T200237Z
LAST-MODIFIED:20251216T181536Z
UID:10008064-1770541200-1770544800@stvincentferrer.net
SUMMARY:Sunday Mass 9:00 am
DESCRIPTION:
URL:https://stvincentferrer.net/event/sunday-mass-900-am/2026-02-08/
LOCATION:St. Vincent Ferrer Church\, 28353 Herbert\, Madison Heights\, MI\, 48071
CATEGORIES:Mass,Worship
GEO:42.4992176;-83.0971204
X-APPLE-STRUCTURED-LOCATION;VALUE=URI;X-ADDRESS=St. Vincent Ferrer Church 28353 Herbert Madison Heights MI 48071;X-APPLE-RADIUS=500;X-TITLE=28353 Herbert:geo:-83.0971204,42.4992176
END:VEVENT
BEGIN:VEVENT
DTSTART;TZID=America/Detroit:20260208T090000
DTEND;TZID=America/Detroit:20260208T100000
DTSTAMP:20260423T144420
CREATED:20260107T150156Z
LAST-MODIFIED:20260107T150156Z
UID:10009157-1770541200-1770544800@stvincentferrer.net
SUMMARY:World Marriage Day
DESCRIPTION:World Marriage Day is celebrated annually on the second Sunday of February\, honoring the beauty of marriage as the foundation of the family and society\, focusing on faithfulness\, sacrifice\, and joy in married life\, and is observed globally
URL:https://stvincentferrer.net/event/world-marriage-day-2/
CATEGORIES:Mass,Miscellaneous
END:VEVENT
BEGIN:VEVENT
DTSTART;TZID=America/Detroit:20260208T100000
DTEND;TZID=America/Detroit:20260208T120000
DTSTAMP:20260423T144420
CREATED:20251001T175205Z
LAST-MODIFIED:20260107T150540Z
UID:10008677-1770544800-1770552000@stvincentferrer.net
SUMMARY:Coffee and Donuts / Blood Pressure Checks
DESCRIPTION:
URL:https://stvincentferrer.net/event/coffee-and-donuts-blood-pressure-checks-4/2026-02-08/
CATEGORIES:Christian Service,Miscellaneous
ATTACH;FMTTYPE=application/pdf:https://stvincentferrer.net/wp-content/uploads/2025/10/coffee-and-donuts-1.pdf
END:VEVENT
BEGIN:VEVENT
DTSTART;TZID=America/Detroit:20260209T080000
DTEND;TZID=America/Detroit:20260209T090000
DTSTAMP:20260423T144420
CREATED:20251002T171506Z
LAST-MODIFIED:20260331T144134Z
UID:10006605-1770624000-1770627600@stvincentferrer.net
SUMMARY:Daily Mass 8am Monday thru Thursday (livestream)
DESCRIPTION:
URL:https://stvincentferrer.net/event/daily-mass-8am-monday-thru-thursday-livestream-2/2026-02-09/
CATEGORIES:Mass,Music,Worship
ATTACH;FMTTYPE=image/jpeg:https://stvincentferrer.net/wp-content/uploads/2025/02/Daily-Mass-scaled.jpg
END:VEVENT
BEGIN:VEVENT
DTSTART;TZID=America/Detroit:20260210T080000
DTEND;TZID=America/Detroit:20260210T090000
DTSTAMP:20260423T144420
CREATED:20251002T171506Z
LAST-MODIFIED:20260331T144134Z
UID:10006606-1770710400-1770714000@stvincentferrer.net
SUMMARY:Daily Mass 8am Monday thru Thursday (livestream)
DESCRIPTION:
URL:https://stvincentferrer.net/event/daily-mass-8am-monday-thru-thursday-livestream-2/2026-02-10/
CATEGORIES:Mass,Music,Worship
ATTACH;FMTTYPE=image/jpeg:https://stvincentferrer.net/wp-content/uploads/2025/02/Daily-Mass-scaled.jpg
END:VEVENT
BEGIN:VEVENT
DTSTART;TZID=America/Detroit:20260210T090000
DTEND;TZID=America/Detroit:20260210T100000
DTSTAMP:20260423T144420
CREATED:20250520T174349Z
LAST-MODIFIED:20251216T181807Z
UID:10005544-1770714000-1770717600@stvincentferrer.net
SUMMARY:Adoration - Every Tuesday 9am following Mass
DESCRIPTION:
URL:https://stvincentferrer.net/event/adoration-every-tuesday-9am-following-mass-2-2/2026-02-10/
CATEGORIES:Worship
ATTACH;FMTTYPE=image/jpeg:https://stvincentferrer.net/wp-content/uploads/2017/03/Monstrance-1.jpg
END:VEVENT
BEGIN:VEVENT
DTSTART;TZID=America/Detroit:20260210T180000
DTEND;TZID=America/Detroit:20260210T190000
DTSTAMP:20260423T144420
CREATED:20260120T200011Z
LAST-MODIFIED:20260120T200011Z
UID:10009168-1770746400-1770750000@stvincentferrer.net
SUMMARY:Saint Vincent de Paul - 6pm in the Faith Formation Office.
DESCRIPTION:
URL:https://stvincentferrer.net/event/saint-vincent-de-paul-6pm-in-the-faith-formation-office/
LOCATION:Faith Formation Office\, 1075 E. Gardenia\, Madison Heights\, MI\, United States
CATEGORIES:Christian Service,Committee Meeting,Miscellaneous
ATTACH;FMTTYPE=image/jpeg:https://stvincentferrer.net/wp-content/uploads/2024/03/1453731561-logo-SVDP.jpg
GEO:42.4991272;-83.0960313
X-APPLE-STRUCTURED-LOCATION;VALUE=URI;X-ADDRESS=Faith Formation Office 1075 E. Gardenia Madison Heights MI United States;X-APPLE-RADIUS=500;X-TITLE=1075 E. Gardenia:geo:-83.0960313,42.4991272
END:VEVENT
BEGIN:VEVENT
DTSTART;TZID=America/Detroit:20260210T190000
DTEND;TZID=America/Detroit:20260210T203000
DTSTAMP:20260423T144420
CREATED:20260120T195100Z
LAST-MODIFIED:20260120T195100Z
UID:10009167-1770750000-1770755400@stvincentferrer.net
SUMMARY:Intergenerational Healing Mass 7pm
DESCRIPTION:
URL:https://stvincentferrer.net/event/intergenerational-healing-mass-7pm-7/
CATEGORIES:Mass,Special Mass,Worship
ATTACH;FMTTYPE=image/jpeg:https://stvincentferrer.net/wp-content/uploads/2024/07/intergenerational-1.jpg
END:VEVENT
BEGIN:VEVENT
DTSTART;TZID=America/Detroit:20260211T080000
DTEND;TZID=America/Detroit:20260211T090000
DTSTAMP:20260423T144420
CREATED:20251002T171506Z
LAST-MODIFIED:20260331T144134Z
UID:10006607-1770796800-1770800400@stvincentferrer.net
SUMMARY:Daily Mass 8am Monday thru Thursday (livestream)
DESCRIPTION:
URL:https://stvincentferrer.net/event/daily-mass-8am-monday-thru-thursday-livestream-2/2026-02-11/
CATEGORIES:Mass,Music,Worship
ATTACH;FMTTYPE=image/jpeg:https://stvincentferrer.net/wp-content/uploads/2025/02/Daily-Mass-scaled.jpg
END:VEVENT
BEGIN:VEVENT
DTSTART;TZID=America/Detroit:20260211T090000
DTEND;TZID=America/Detroit:20260211T100000
DTSTAMP:20260423T144420
CREATED:20260129T180348Z
LAST-MODIFIED:20260129T180348Z
UID:10009171-1770800400-1770804000@stvincentferrer.net
SUMMARY:World Day of the Sick
DESCRIPTION:
URL:https://stvincentferrer.net/event/world-day-of-the-sick-2/
CATEGORIES:Mass
END:VEVENT
BEGIN:VEVENT
DTSTART;TZID=America/Detroit:20260211T090000
DTEND;TZID=America/Detroit:20260211T110000
DTSTAMP:20260423T144420
CREATED:20251222T194001Z
LAST-MODIFIED:20251222T194001Z
UID:10009142-1770800400-1770807600@stvincentferrer.net
SUMMARY:Book Study - Gateway to Hope. Wednesdays after 8am Mass
DESCRIPTION:
URL:https://stvincentferrer.net/event/book-study-gateway-to-hope-wednesdays-after-8am-mass/2026-02-11/
CATEGORIES:Adult Faith Formation,Christian Service,Miscellaneous
ATTACH;FMTTYPE=image/jpeg:https://stvincentferrer.net/wp-content/uploads/2025/01/church-with-cross-2-scaled.jpg
END:VEVENT
BEGIN:VEVENT
DTSTART;TZID=America/Detroit:20260212T080000
DTEND;TZID=America/Detroit:20260212T090000
DTSTAMP:20260423T144420
CREATED:20251002T171506Z
LAST-MODIFIED:20260331T144134Z
UID:10006608-1770883200-1770886800@stvincentferrer.net
SUMMARY:Daily Mass 8am Monday thru Thursday (livestream)
DESCRIPTION:
URL:https://stvincentferrer.net/event/daily-mass-8am-monday-thru-thursday-livestream-2/2026-02-12/
CATEGORIES:Mass,Music,Worship
ATTACH;FMTTYPE=image/jpeg:https://stvincentferrer.net/wp-content/uploads/2025/02/Daily-Mass-scaled.jpg
END:VEVENT
BEGIN:VEVENT
DTSTART;TZID=America/Detroit:20260212T090000
DTEND;TZID=America/Detroit:20260212T093000
DTSTAMP:20260423T144420
CREATED:20250212T200207Z
LAST-MODIFIED:20260331T144257Z
UID:10006086-1770886800-1770888600@stvincentferrer.net
SUMMARY:Rosary - Thursdays following 8am mass ( also Livestream )
DESCRIPTION:
URL:https://stvincentferrer.net/event/rosary-thursdays-following-8am-mass-also-livestream/2026-02-12/
LOCATION:St. Vincent Ferrer Church\, 28353 Herbert\, Madison Heights\, MI\, 48071
CATEGORIES:Miscellaneous,Worship
ATTACH;FMTTYPE=image/jpeg:https://stvincentferrer.net/wp-content/uploads/2022/05/rosary.jpg
GEO:42.4992176;-83.0971204
X-APPLE-STRUCTURED-LOCATION;VALUE=URI;X-ADDRESS=St. Vincent Ferrer Church 28353 Herbert Madison Heights MI 48071;X-APPLE-RADIUS=500;X-TITLE=28353 Herbert:geo:-83.0971204,42.4992176
END:VEVENT
BEGIN:VEVENT
DTSTART;TZID=America/Detroit:20260214T090000
DTEND;TZID=America/Detroit:20260214T110000
DTSTAMP:20260423T144420
CREATED:20240821T191450Z
LAST-MODIFIED:20240821T191450Z
UID:10004952-1771059600-1771066800@stvincentferrer.net
SUMMARY:Men's Fellowship and Scripture Reflection
DESCRIPTION:The men’s fellowship group gathers for a scripture reflection/sharing every other Saturday at 9am in the Faith Formation office of the school building.
URL:https://stvincentferrer.net/event/mens-fellowship-and-scripture-reflection-2-2/2026-02-14/
LOCATION:Faith Formation Office\, 1075 E. Gardenia\, Madison Heights\, MI\, United States
CATEGORIES:Adult Faith Formation
ATTACH;FMTTYPE=image/png:https://stvincentferrer.net/wp-content/uploads/2022/01/Mens-Fellowship-1-1.png
ORGANIZER;CN="Tom Karolski":MAILTO:debbie@stvincentferrer.net
GEO:42.4991272;-83.0960313
X-APPLE-STRUCTURED-LOCATION;VALUE=URI;X-ADDRESS=Faith Formation Office 1075 E. Gardenia Madison Heights MI United States;X-APPLE-RADIUS=500;X-TITLE=1075 E. Gardenia:geo:-83.0960313,42.4991272
END:VEVENT
BEGIN:VEVENT
DTSTART;TZID=America/Detroit:20260214T160000
DTEND;TZID=America/Detroit:20260214T170000
DTSTAMP:20260423T144420
CREATED:20260106T194411Z
LAST-MODIFIED:20260106T194411Z
UID:10009154-1771084800-1771088400@stvincentferrer.net
SUMMARY:Baby Shower
DESCRIPTION:
URL:https://stvincentferrer.net/event/baby-shower/2026-02-14/
CATEGORIES:Christian Service,Miscellaneous
END:VEVENT
BEGIN:VEVENT
DTSTART;TZID=America/Detroit:20260214T160000
DTEND;TZID=America/Detroit:20260214T170000
DTSTAMP:20260423T144420
CREATED:20260212T153128Z
LAST-MODIFIED:20260212T153128Z
UID:10009177-1771084800-1771088400@stvincentferrer.net
SUMMARY:Valentines Day
DESCRIPTION:
URL:https://stvincentferrer.net/event/valentines-day/
CATEGORIES:Mass,Miscellaneous,Special Mass,Worship
END:VEVENT
BEGIN:VEVENT
DTSTART;TZID=America/Detroit:20260215T090000
DTEND;TZID=America/Detroit:20260215T100000
DTSTAMP:20260423T144420
CREATED:20250325T200237Z
LAST-MODIFIED:20251216T181536Z
UID:10008065-1771146000-1771149600@stvincentferrer.net
SUMMARY:Sunday Mass 9:00 am
DESCRIPTION:
URL:https://stvincentferrer.net/event/sunday-mass-900-am/2026-02-15/
LOCATION:St. Vincent Ferrer Church\, 28353 Herbert\, Madison Heights\, MI\, 48071
CATEGORIES:Mass,Worship
GEO:42.4992176;-83.0971204
X-APPLE-STRUCTURED-LOCATION;VALUE=URI;X-ADDRESS=St. Vincent Ferrer Church 28353 Herbert Madison Heights MI 48071;X-APPLE-RADIUS=500;X-TITLE=28353 Herbert:geo:-83.0971204,42.4992176
END:VEVENT
BEGIN:VEVENT
DTSTART;TZID=America/Detroit:20260215T090000
DTEND;TZID=America/Detroit:20260215T100000
DTSTAMP:20260423T144420
CREATED:20260106T194411Z
LAST-MODIFIED:20260106T194411Z
UID:10009155-1771146000-1771149600@stvincentferrer.net
SUMMARY:Baby Shower
DESCRIPTION:
URL:https://stvincentferrer.net/event/baby-shower/2026-02-15/
CATEGORIES:Christian Service,Miscellaneous
END:VEVENT
BEGIN:VEVENT
DTSTART;TZID=America/Detroit:20260216T080000
DTEND;TZID=America/Detroit:20260216T090000
DTSTAMP:20260423T144420
CREATED:20251002T171506Z
LAST-MODIFIED:20260331T144134Z
UID:10006611-1771228800-1771232400@stvincentferrer.net
SUMMARY:Daily Mass 8am Monday thru Thursday (livestream)
DESCRIPTION:
URL:https://stvincentferrer.net/event/daily-mass-8am-monday-thru-thursday-livestream-2/2026-02-16/
CATEGORIES:Mass,Music,Worship
ATTACH;FMTTYPE=image/jpeg:https://stvincentferrer.net/wp-content/uploads/2025/02/Daily-Mass-scaled.jpg
END:VEVENT
END:VCALENDAR