BEGIN:VCALENDAR
VERSION:2.0
PRODID:-//St. Vincent Ferrer Catholic Church - ECPv6.15.20//NONSGML v1.0//EN
CALSCALE:GREGORIAN
METHOD:PUBLISH
X-ORIGINAL-URL:https://stvincentferrer.net
X-WR-CALDESC:Events for St. Vincent Ferrer Catholic Church
REFRESH-INTERVAL;VALUE=DURATION:PT1H
X-Robots-Tag:noindex
X-PUBLISHED-TTL:PT1H
BEGIN:VTIMEZONE
TZID:America/Detroit
BEGIN:DAYLIGHT
TZOFFSETFROM:-0500
TZOFFSETTO:-0400
TZNAME:EDT
DTSTART:20240310T070000
END:DAYLIGHT
BEGIN:STANDARD
TZOFFSETFROM:-0400
TZOFFSETTO:-0500
TZNAME:EST
DTSTART:20241103T060000
END:STANDARD
BEGIN:DAYLIGHT
TZOFFSETFROM:-0500
TZOFFSETTO:-0400
TZNAME:EDT
DTSTART:20250309T070000
END:DAYLIGHT
BEGIN:STANDARD
TZOFFSETFROM:-0400
TZOFFSETTO:-0500
TZNAME:EST
DTSTART:20251102T060000
END:STANDARD
BEGIN:DAYLIGHT
TZOFFSETFROM:-0500
TZOFFSETTO:-0400
TZNAME:EDT
DTSTART:20260308T070000
END:DAYLIGHT
BEGIN:STANDARD
TZOFFSETFROM:-0400
TZOFFSETTO:-0500
TZNAME:EST
DTSTART:20261101T060000
END:STANDARD
END:VTIMEZONE
BEGIN:VEVENT
DTSTART;TZID=America/Detroit:20251001T080000
DTEND;TZID=America/Detroit:20251001T090000
DTSTAMP:20260423T212616
CREATED:20250212T202317Z
LAST-MODIFIED:20250522T151751Z
UID:10006493-1759305600-1759309200@stvincentferrer.net
SUMMARY:Daily Mass 8am Monday thru Thursday (livestream)
DESCRIPTION:
URL:https://stvincentferrer.net/event/daily-mass-8am-monday-thru-thursday-livestream/2025-10-01/
CATEGORIES:Mass,Music,Worship
ATTACH;FMTTYPE=image/jpeg:https://stvincentferrer.net/wp-content/uploads/2025/02/Daily-Mass-scaled.jpg
END:VEVENT
BEGIN:VEVENT
DTSTART;TZID=America/Detroit:20251001T090000
DTEND;TZID=America/Detroit:20251001T113000
DTSTAMP:20260423T212616
CREATED:20250818T190444Z
LAST-MODIFIED:20251203T195121Z
UID:10008502-1759309200-1759318200@stvincentferrer.net
SUMMARY:The Holy Longing - Book Study
DESCRIPTION:
URL:https://stvincentferrer.net/event/the-holy-longing-book-study/2025-10-01/
CATEGORIES:Adult Faith Formation,Christian Service,Miscellaneous
END:VEVENT
BEGIN:VEVENT
DTSTART;TZID=America/Detroit:20251002T080000
DTEND;TZID=America/Detroit:20251002T090000
DTSTAMP:20260423T212616
CREATED:20250212T202317Z
LAST-MODIFIED:20250522T151751Z
UID:10006494-1759392000-1759395600@stvincentferrer.net
SUMMARY:Daily Mass 8am Monday thru Thursday (livestream)
DESCRIPTION:
URL:https://stvincentferrer.net/event/daily-mass-8am-monday-thru-thursday-livestream/2025-10-02/
CATEGORIES:Mass,Music,Worship
ATTACH;FMTTYPE=image/jpeg:https://stvincentferrer.net/wp-content/uploads/2025/02/Daily-Mass-scaled.jpg
END:VEVENT
BEGIN:VEVENT
DTSTART;TZID=America/Detroit:20251002T090000
DTEND;TZID=America/Detroit:20251002T093000
DTSTAMP:20260423T212616
CREATED:20250212T200207Z
LAST-MODIFIED:20260331T144257Z
UID:10006067-1759395600-1759397400@stvincentferrer.net
SUMMARY:Rosary - Thursdays following 8am mass ( also Livestream )
DESCRIPTION:
URL:https://stvincentferrer.net/event/rosary-thursdays-following-8am-mass-also-livestream/2025-10-02/
LOCATION:St. Vincent Ferrer Church\, 28353 Herbert\, Madison Heights\, MI\, 48071
CATEGORIES:Miscellaneous,Worship
ATTACH;FMTTYPE=image/jpeg:https://stvincentferrer.net/wp-content/uploads/2022/05/rosary.jpg
GEO:42.4992176;-83.0971204
X-APPLE-STRUCTURED-LOCATION;VALUE=URI;X-ADDRESS=St. Vincent Ferrer Church 28353 Herbert Madison Heights MI 48071;X-APPLE-RADIUS=500;X-TITLE=28353 Herbert:geo:-83.0971204,42.4992176
END:VEVENT
BEGIN:VEVENT
DTSTART;VALUE=DATE:20251005
DTEND;VALUE=DATE:20251006
DTSTAMP:20260423T212616
CREATED:20250923T171527Z
LAST-MODIFIED:20250923T171527Z
UID:10008512-1759622400-1759708799@stvincentferrer.net
SUMMARY:Respect Life Sunday
DESCRIPTION:
URL:https://stvincentferrer.net/event/respect-life-sunday-3/
CATEGORIES:Worship
END:VEVENT
BEGIN:VEVENT
DTSTART;TZID=America/Detroit:20251005T090000
DTEND;TZID=America/Detroit:20251005T100000
DTSTAMP:20260423T212616
CREATED:20250325T200237Z
LAST-MODIFIED:20251216T181536Z
UID:10008046-1759654800-1759658400@stvincentferrer.net
SUMMARY:Sunday Mass 9:00 am
DESCRIPTION:
URL:https://stvincentferrer.net/event/sunday-mass-900-am/2025-10-05/
LOCATION:St. Vincent Ferrer Church\, 28353 Herbert\, Madison Heights\, MI\, 48071
CATEGORIES:Mass,Worship
GEO:42.4992176;-83.0971204
X-APPLE-STRUCTURED-LOCATION;VALUE=URI;X-ADDRESS=St. Vincent Ferrer Church 28353 Herbert Madison Heights MI 48071;X-APPLE-RADIUS=500;X-TITLE=28353 Herbert:geo:-83.0971204,42.4992176
END:VEVENT
BEGIN:VEVENT
DTSTART;TZID=America/Detroit:20251006T080000
DTEND;TZID=America/Detroit:20251006T090000
DTSTAMP:20260423T212616
CREATED:20251002T171506Z
LAST-MODIFIED:20260331T144134Z
UID:10006497-1759737600-1759741200@stvincentferrer.net
SUMMARY:Daily Mass 8am Monday thru Thursday (livestream)
DESCRIPTION:
URL:https://stvincentferrer.net/event/daily-mass-8am-monday-thru-thursday-livestream-2/2025-10-06/
CATEGORIES:Mass,Music,Worship
ATTACH;FMTTYPE=image/jpeg:https://stvincentferrer.net/wp-content/uploads/2025/02/Daily-Mass-scaled.jpg
END:VEVENT
BEGIN:VEVENT
DTSTART;TZID=America/Detroit:20251006T181500
DTEND;TZID=America/Detroit:20251006T193000
DTSTAMP:20260423T212616
CREATED:20250911T182118Z
LAST-MODIFIED:20251006T134638Z
UID:10008506-1759774500-1759779000@stvincentferrer.net
SUMMARY:Faith Formation - 6:15pm
DESCRIPTION:Faith Formation at 6:15 pm – 7:30 pm
URL:https://stvincentferrer.net/event/faith-formation-615pm-parent-meeting/2025-10-06/
LOCATION:School Building\, 1075 E. Gardenia\, Madison Heights\, MI\, 48071\, United States
CATEGORIES:Youth Faith Formation
ATTACH;FMTTYPE=image/jpeg:https://stvincentferrer.net/wp-content/uploads/2022/09/Faith-Formation-clip-art.jpg
ORGANIZER;CN="Matthew Zinser":MAILTO:Matthew@stvincentferrer.net
GEO:42.4991272;-83.0960313
X-APPLE-STRUCTURED-LOCATION;VALUE=URI;X-ADDRESS=School Building 1075 E. Gardenia Madison Heights MI 48071 United States;X-APPLE-RADIUS=500;X-TITLE=1075 E. Gardenia:geo:-83.0960313,42.4991272
END:VEVENT
BEGIN:VEVENT
DTSTART;TZID=America/Detroit:20251007T080000
DTEND;TZID=America/Detroit:20251007T090000
DTSTAMP:20260423T212616
CREATED:20251002T171506Z
LAST-MODIFIED:20260331T144134Z
UID:10006498-1759824000-1759827600@stvincentferrer.net
SUMMARY:Daily Mass 8am Monday thru Thursday (livestream)
DESCRIPTION:
URL:https://stvincentferrer.net/event/daily-mass-8am-monday-thru-thursday-livestream-2/2025-10-07/
CATEGORIES:Mass,Music,Worship
ATTACH;FMTTYPE=image/jpeg:https://stvincentferrer.net/wp-content/uploads/2025/02/Daily-Mass-scaled.jpg
END:VEVENT
BEGIN:VEVENT
DTSTART;TZID=America/Detroit:20251007T090000
DTEND;TZID=America/Detroit:20251007T100000
DTSTAMP:20260423T212616
CREATED:20250520T174349Z
LAST-MODIFIED:20251216T181807Z
UID:10005526-1759827600-1759831200@stvincentferrer.net
SUMMARY:Adoration - Every Tuesday 9am following Mass
DESCRIPTION:
URL:https://stvincentferrer.net/event/adoration-every-tuesday-9am-following-mass-2-2/2025-10-07/
CATEGORIES:Worship
ATTACH;FMTTYPE=image/jpeg:https://stvincentferrer.net/wp-content/uploads/2017/03/Monstrance-1.jpg
END:VEVENT
BEGIN:VEVENT
DTSTART;TZID=America/Detroit:20251008T080000
DTEND;TZID=America/Detroit:20251008T090000
DTSTAMP:20260423T212616
CREATED:20251002T171506Z
LAST-MODIFIED:20260331T144134Z
UID:10006499-1759910400-1759914000@stvincentferrer.net
SUMMARY:Daily Mass 8am Monday thru Thursday (livestream)
DESCRIPTION:
URL:https://stvincentferrer.net/event/daily-mass-8am-monday-thru-thursday-livestream-2/2025-10-08/
CATEGORIES:Mass,Music,Worship
ATTACH;FMTTYPE=image/jpeg:https://stvincentferrer.net/wp-content/uploads/2025/02/Daily-Mass-scaled.jpg
END:VEVENT
BEGIN:VEVENT
DTSTART;TZID=America/Detroit:20251008T090000
DTEND;TZID=America/Detroit:20251008T113000
DTSTAMP:20260423T212616
CREATED:20250818T190444Z
LAST-MODIFIED:20251203T195121Z
UID:10008503-1759914000-1759923000@stvincentferrer.net
SUMMARY:The Holy Longing - Book Study
DESCRIPTION:
URL:https://stvincentferrer.net/event/the-holy-longing-book-study/2025-10-08/
CATEGORIES:Adult Faith Formation,Christian Service,Miscellaneous
END:VEVENT
BEGIN:VEVENT
DTSTART;TZID=America/Detroit:20251009T080000
DTEND;TZID=America/Detroit:20251009T090000
DTSTAMP:20260423T212616
CREATED:20251002T171506Z
LAST-MODIFIED:20260331T144134Z
UID:10006500-1759996800-1760000400@stvincentferrer.net
SUMMARY:Daily Mass 8am Monday thru Thursday (livestream)
DESCRIPTION:
URL:https://stvincentferrer.net/event/daily-mass-8am-monday-thru-thursday-livestream-2/2025-10-09/
CATEGORIES:Mass,Music,Worship
ATTACH;FMTTYPE=image/jpeg:https://stvincentferrer.net/wp-content/uploads/2025/02/Daily-Mass-scaled.jpg
END:VEVENT
BEGIN:VEVENT
DTSTART;TZID=America/Detroit:20251009T090000
DTEND;TZID=America/Detroit:20251009T093000
DTSTAMP:20260423T212616
CREATED:20250212T200207Z
LAST-MODIFIED:20260331T144257Z
UID:10006068-1760000400-1760002200@stvincentferrer.net
SUMMARY:Rosary - Thursdays following 8am mass ( also Livestream )
DESCRIPTION:
URL:https://stvincentferrer.net/event/rosary-thursdays-following-8am-mass-also-livestream/2025-10-09/
LOCATION:St. Vincent Ferrer Church\, 28353 Herbert\, Madison Heights\, MI\, 48071
CATEGORIES:Miscellaneous,Worship
ATTACH;FMTTYPE=image/jpeg:https://stvincentferrer.net/wp-content/uploads/2022/05/rosary.jpg
GEO:42.4992176;-83.0971204
X-APPLE-STRUCTURED-LOCATION;VALUE=URI;X-ADDRESS=St. Vincent Ferrer Church 28353 Herbert Madison Heights MI 48071;X-APPLE-RADIUS=500;X-TITLE=28353 Herbert:geo:-83.0971204,42.4992176
END:VEVENT
BEGIN:VEVENT
DTSTART;TZID=America/Detroit:20251011T090000
DTEND;TZID=America/Detroit:20251011T110000
DTSTAMP:20260423T212616
CREATED:20240821T191450Z
LAST-MODIFIED:20240821T191450Z
UID:10004943-1760173200-1760180400@stvincentferrer.net
SUMMARY:Men's Fellowship and Scripture Reflection
DESCRIPTION:The men’s fellowship group gathers for a scripture reflection/sharing every other Saturday at 9am in the Faith Formation office of the school building.
URL:https://stvincentferrer.net/event/mens-fellowship-and-scripture-reflection-2-2/2025-10-11/
LOCATION:Faith Formation Office\, 1075 E. Gardenia\, Madison Heights\, MI\, United States
CATEGORIES:Adult Faith Formation
ATTACH;FMTTYPE=image/png:https://stvincentferrer.net/wp-content/uploads/2022/01/Mens-Fellowship-1-1.png
ORGANIZER;CN="Tom Karolski":MAILTO:debbie@stvincentferrer.net
GEO:42.4991272;-83.0960313
X-APPLE-STRUCTURED-LOCATION;VALUE=URI;X-ADDRESS=Faith Formation Office 1075 E. Gardenia Madison Heights MI United States;X-APPLE-RADIUS=500;X-TITLE=1075 E. Gardenia:geo:-83.0960313,42.4991272
END:VEVENT
BEGIN:VEVENT
DTSTART;TZID=America/Detroit:20251011T160000
DTEND;TZID=America/Detroit:20251011T170000
DTSTAMP:20260423T212616
CREATED:20251001T164332Z
LAST-MODIFIED:20251002T131025Z
UID:10008550-1760198400-1760202000@stvincentferrer.net
SUMMARY:The CCSEM Senior Outreach Program
DESCRIPTION:Senior Food Drive\nItems requested:\nIndividual lunchbox sized and packaged snacks\nlike: Crackers\, Granola bars\, Cereal bars and Fruit\nsnacks\nCanned Foods including:\nSoups\, Stews\, Chili\, Ravioli\, Spaghettios\, Fruit\,\nVegetables\nGift cards in any amount are especially appreciated\nand used to buy perishable foods from:\nKroger\, Meijer\, Walmart or Target\nThe CCSEM Senior Outreach Program\, serving Oakland\, Macomb and Wayne counties\, provides groceries free of charge to the doors of qualifying clients. To qualify clients must meet at least one of the following eligibility requirements: low income\, disabled or lack of transportation. Limited openings are available. To see if you qualify\, contact Stephanie at 586-267-0212 or rubels@ccsem.org.
URL:https://stvincentferrer.net/event/the-ccsem-senior-outreach-program/2025-10-11/
CATEGORIES:Christian Service
ATTACH;FMTTYPE=image/jpeg:https://stvincentferrer.net/wp-content/uploads/2021/07/senior-out-reach.jpeg
END:VEVENT
BEGIN:VEVENT
DTSTART;TZID=America/Detroit:20251012T090000
DTEND;TZID=America/Detroit:20251012T100000
DTSTAMP:20260423T212616
CREATED:20250325T200237Z
LAST-MODIFIED:20251216T181536Z
UID:10008047-1760259600-1760263200@stvincentferrer.net
SUMMARY:Sunday Mass 9:00 am
DESCRIPTION:
URL:https://stvincentferrer.net/event/sunday-mass-900-am/2025-10-12/
LOCATION:St. Vincent Ferrer Church\, 28353 Herbert\, Madison Heights\, MI\, 48071
CATEGORIES:Mass,Worship
GEO:42.4992176;-83.0971204
X-APPLE-STRUCTURED-LOCATION;VALUE=URI;X-ADDRESS=St. Vincent Ferrer Church 28353 Herbert Madison Heights MI 48071;X-APPLE-RADIUS=500;X-TITLE=28353 Herbert:geo:-83.0971204,42.4992176
END:VEVENT
BEGIN:VEVENT
DTSTART;TZID=America/Detroit:20251012T090000
DTEND;TZID=America/Detroit:20251012T100000
DTSTAMP:20260423T212616
CREATED:20251001T164332Z
LAST-MODIFIED:20251002T131025Z
UID:10008551-1760259600-1760263200@stvincentferrer.net
SUMMARY:The CCSEM Senior Outreach Program
DESCRIPTION:Senior Food Drive\nItems requested:\nIndividual lunchbox sized and packaged snacks\nlike: Crackers\, Granola bars\, Cereal bars and Fruit\nsnacks\nCanned Foods including:\nSoups\, Stews\, Chili\, Ravioli\, Spaghettios\, Fruit\,\nVegetables\nGift cards in any amount are especially appreciated\nand used to buy perishable foods from:\nKroger\, Meijer\, Walmart or Target\nThe CCSEM Senior Outreach Program\, serving Oakland\, Macomb and Wayne counties\, provides groceries free of charge to the doors of qualifying clients. To qualify clients must meet at least one of the following eligibility requirements: low income\, disabled or lack of transportation. Limited openings are available. To see if you qualify\, contact Stephanie at 586-267-0212 or rubels@ccsem.org.
URL:https://stvincentferrer.net/event/the-ccsem-senior-outreach-program/2025-10-12/
CATEGORIES:Christian Service
ATTACH;FMTTYPE=image/jpeg:https://stvincentferrer.net/wp-content/uploads/2021/07/senior-out-reach.jpeg
END:VEVENT
BEGIN:VEVENT
DTSTART;TZID=America/Detroit:20251012T090000
DTEND;TZID=America/Detroit:20251012T110000
DTSTAMP:20260423T212616
CREATED:20250923T171751Z
LAST-MODIFIED:20250923T173147Z
UID:10008513-1760259600-1760266800@stvincentferrer.net
SUMMARY:Coffee and Donuts
DESCRIPTION:
URL:https://stvincentferrer.net/event/coffee-and-donuts-21/
CATEGORIES:Christian Service
ATTACH;FMTTYPE=image/jpeg:https://stvincentferrer.net/wp-content/uploads/2017/03/coffee-and-donuts-clipart-coffeedonut.jpg
END:VEVENT
BEGIN:VEVENT
DTSTART;TZID=America/Detroit:20251012T100000
DTEND;TZID=America/Detroit:20251012T113000
DTSTAMP:20260423T212616
CREATED:20250923T173435Z
LAST-MODIFIED:20250923T173435Z
UID:10008514-1760263200-1760268600@stvincentferrer.net
SUMMARY:Blood Pressure Checks after Mass
DESCRIPTION:
URL:https://stvincentferrer.net/event/blood-pressure-checks-after-mass-6/
CATEGORIES:Christian Service
ATTACH;FMTTYPE=image/jpeg:https://stvincentferrer.net/wp-content/uploads/2022/12/blood-pressure.jpg
END:VEVENT
BEGIN:VEVENT
DTSTART;TZID=America/Detroit:20251013T080000
DTEND;TZID=America/Detroit:20251013T090000
DTSTAMP:20260423T212616
CREATED:20251002T171506Z
LAST-MODIFIED:20260331T144134Z
UID:10006503-1760342400-1760346000@stvincentferrer.net
SUMMARY:Daily Mass 8am Monday thru Thursday (livestream)
DESCRIPTION:
URL:https://stvincentferrer.net/event/daily-mass-8am-monday-thru-thursday-livestream-2/2025-10-13/
CATEGORIES:Mass,Music,Worship
ATTACH;FMTTYPE=image/jpeg:https://stvincentferrer.net/wp-content/uploads/2025/02/Daily-Mass-scaled.jpg
END:VEVENT
BEGIN:VEVENT
DTSTART;TZID=America/Detroit:20251014T080000
DTEND;TZID=America/Detroit:20251014T090000
DTSTAMP:20260423T212616
CREATED:20251002T171506Z
LAST-MODIFIED:20260331T144134Z
UID:10006504-1760428800-1760432400@stvincentferrer.net
SUMMARY:Daily Mass 8am Monday thru Thursday (livestream)
DESCRIPTION:
URL:https://stvincentferrer.net/event/daily-mass-8am-monday-thru-thursday-livestream-2/2025-10-14/
CATEGORIES:Mass,Music,Worship
ATTACH;FMTTYPE=image/jpeg:https://stvincentferrer.net/wp-content/uploads/2025/02/Daily-Mass-scaled.jpg
END:VEVENT
BEGIN:VEVENT
DTSTART;TZID=America/Detroit:20251014T090000
DTEND;TZID=America/Detroit:20251014T100000
DTSTAMP:20260423T212616
CREATED:20250520T174349Z
LAST-MODIFIED:20251216T181807Z
UID:10005527-1760432400-1760436000@stvincentferrer.net
SUMMARY:Adoration - Every Tuesday 9am following Mass
DESCRIPTION:
URL:https://stvincentferrer.net/event/adoration-every-tuesday-9am-following-mass-2-2/2025-10-14/
CATEGORIES:Worship
ATTACH;FMTTYPE=image/jpeg:https://stvincentferrer.net/wp-content/uploads/2017/03/Monstrance-1.jpg
END:VEVENT
BEGIN:VEVENT
DTSTART;TZID=America/Detroit:20251015T080000
DTEND;TZID=America/Detroit:20251015T090000
DTSTAMP:20260423T212616
CREATED:20251002T171506Z
LAST-MODIFIED:20260331T144134Z
UID:10006505-1760515200-1760518800@stvincentferrer.net
SUMMARY:Daily Mass 8am Monday thru Thursday (livestream)
DESCRIPTION:
URL:https://stvincentferrer.net/event/daily-mass-8am-monday-thru-thursday-livestream-2/2025-10-15/
CATEGORIES:Mass,Music,Worship
ATTACH;FMTTYPE=image/jpeg:https://stvincentferrer.net/wp-content/uploads/2025/02/Daily-Mass-scaled.jpg
END:VEVENT
BEGIN:VEVENT
DTSTART;TZID=America/Detroit:20251015T090000
DTEND;TZID=America/Detroit:20251015T113000
DTSTAMP:20260423T212616
CREATED:20250818T190444Z
LAST-MODIFIED:20251203T195121Z
UID:10008509-1760518800-1760527800@stvincentferrer.net
SUMMARY:The Holy Longing - Book Study
DESCRIPTION:
URL:https://stvincentferrer.net/event/the-holy-longing-book-study/2025-10-15/
CATEGORIES:Adult Faith Formation,Christian Service,Miscellaneous
END:VEVENT
BEGIN:VEVENT
DTSTART;TZID=America/Detroit:20251016T080000
DTEND;TZID=America/Detroit:20251016T090000
DTSTAMP:20260423T212616
CREATED:20251002T171506Z
LAST-MODIFIED:20260331T144134Z
UID:10006506-1760601600-1760605200@stvincentferrer.net
SUMMARY:Daily Mass 8am Monday thru Thursday (livestream)
DESCRIPTION:
URL:https://stvincentferrer.net/event/daily-mass-8am-monday-thru-thursday-livestream-2/2025-10-16/
CATEGORIES:Mass,Music,Worship
ATTACH;FMTTYPE=image/jpeg:https://stvincentferrer.net/wp-content/uploads/2025/02/Daily-Mass-scaled.jpg
END:VEVENT
BEGIN:VEVENT
DTSTART;TZID=America/Detroit:20251016T090000
DTEND;TZID=America/Detroit:20251016T093000
DTSTAMP:20260423T212616
CREATED:20250212T200207Z
LAST-MODIFIED:20260331T144257Z
UID:10006069-1760605200-1760607000@stvincentferrer.net
SUMMARY:Rosary - Thursdays following 8am mass ( also Livestream )
DESCRIPTION:
URL:https://stvincentferrer.net/event/rosary-thursdays-following-8am-mass-also-livestream/2025-10-16/
LOCATION:St. Vincent Ferrer Church\, 28353 Herbert\, Madison Heights\, MI\, 48071
CATEGORIES:Miscellaneous,Worship
ATTACH;FMTTYPE=image/jpeg:https://stvincentferrer.net/wp-content/uploads/2022/05/rosary.jpg
GEO:42.4992176;-83.0971204
X-APPLE-STRUCTURED-LOCATION;VALUE=URI;X-ADDRESS=St. Vincent Ferrer Church 28353 Herbert Madison Heights MI 48071;X-APPLE-RADIUS=500;X-TITLE=28353 Herbert:geo:-83.0971204,42.4992176
END:VEVENT
BEGIN:VEVENT
DTSTART;TZID=America/Detroit:20251018T080000
DTEND;TZID=America/Detroit:20251018T130000
DTSTAMP:20260423T212616
CREATED:20250923T175001Z
LAST-MODIFIED:20250923T175001Z
UID:10008515-1760774400-1760792400@stvincentferrer.net
SUMMARY:Mercy in Action
DESCRIPTION:Mercy in Action
URL:https://stvincentferrer.net/event/mercy-in-action-2/
CATEGORIES:Christian Service,Miscellaneous
END:VEVENT
BEGIN:VEVENT
DTSTART;TZID=America/Detroit:20251018T160000
DTEND;TZID=America/Detroit:20251018T170000
DTSTAMP:20260423T212616
CREATED:20250923T180953Z
LAST-MODIFIED:20250923T180953Z
UID:10008516-1760803200-1760806800@stvincentferrer.net
SUMMARY:Halloween Candy Collection for the Seminarians
DESCRIPTION:https://stvincentferrer.net/wp-content/uploads/2025/09/Halloween-Candy-collection.mp4
URL:https://stvincentferrer.net/event/halloween-candy-collection-for-the-seminarians/2025-10-18/
CATEGORIES:Christian Service,Miscellaneous
END:VEVENT
BEGIN:VEVENT
DTSTART;TZID=America/Detroit:20251019T090000
DTEND;TZID=America/Detroit:20251019T100000
DTSTAMP:20260423T212616
CREATED:20250325T200237Z
LAST-MODIFIED:20251216T181536Z
UID:10008048-1760864400-1760868000@stvincentferrer.net
SUMMARY:Sunday Mass 9:00 am
DESCRIPTION:
URL:https://stvincentferrer.net/event/sunday-mass-900-am/2025-10-19/
LOCATION:St. Vincent Ferrer Church\, 28353 Herbert\, Madison Heights\, MI\, 48071
CATEGORIES:Mass,Worship
GEO:42.4992176;-83.0971204
X-APPLE-STRUCTURED-LOCATION;VALUE=URI;X-ADDRESS=St. Vincent Ferrer Church 28353 Herbert Madison Heights MI 48071;X-APPLE-RADIUS=500;X-TITLE=28353 Herbert:geo:-83.0971204,42.4992176
END:VEVENT
END:VCALENDAR