BEGIN:VCALENDAR
VERSION:2.0
PRODID:-//St. Vincent Ferrer Catholic Church - ECPv6.15.20//NONSGML v1.0//EN
CALSCALE:GREGORIAN
METHOD:PUBLISH
X-ORIGINAL-URL:https://stvincentferrer.net
X-WR-CALDESC:Events for St. Vincent Ferrer Catholic Church
REFRESH-INTERVAL;VALUE=DURATION:PT1H
X-Robots-Tag:noindex
X-PUBLISHED-TTL:PT1H
BEGIN:VTIMEZONE
TZID:America/Detroit
BEGIN:DAYLIGHT
TZOFFSETFROM:-0500
TZOFFSETTO:-0400
TZNAME:EDT
DTSTART:20240310T070000
END:DAYLIGHT
BEGIN:STANDARD
TZOFFSETFROM:-0400
TZOFFSETTO:-0500
TZNAME:EST
DTSTART:20241103T060000
END:STANDARD
BEGIN:DAYLIGHT
TZOFFSETFROM:-0500
TZOFFSETTO:-0400
TZNAME:EDT
DTSTART:20250309T070000
END:DAYLIGHT
BEGIN:STANDARD
TZOFFSETFROM:-0400
TZOFFSETTO:-0500
TZNAME:EST
DTSTART:20251102T060000
END:STANDARD
BEGIN:DAYLIGHT
TZOFFSETFROM:-0500
TZOFFSETTO:-0400
TZNAME:EDT
DTSTART:20260308T070000
END:DAYLIGHT
BEGIN:STANDARD
TZOFFSETFROM:-0400
TZOFFSETTO:-0500
TZNAME:EST
DTSTART:20261101T060000
END:STANDARD
END:VTIMEZONE
BEGIN:VEVENT
DTSTART;TZID=America/Detroit:20250601T090000
DTEND;TZID=America/Detroit:20250601T100000
DTSTAMP:20260424T041908
CREATED:20250325T200237Z
LAST-MODIFIED:20251216T181536Z
UID:10008028-1748768400-1748772000@stvincentferrer.net
SUMMARY:Sunday Mass 9:00 am
DESCRIPTION:
URL:https://stvincentferrer.net/event/sunday-mass-900-am/2025-06-01/
LOCATION:St. Vincent Ferrer Church\, 28353 Herbert\, Madison Heights\, MI\, 48071
CATEGORIES:Mass,Worship
GEO:42.4992176;-83.0971204
X-APPLE-STRUCTURED-LOCATION;VALUE=URI;X-ADDRESS=St. Vincent Ferrer Church 28353 Herbert Madison Heights MI 48071;X-APPLE-RADIUS=500;X-TITLE=28353 Herbert:geo:-83.0971204,42.4992176
END:VEVENT
BEGIN:VEVENT
DTSTART;TZID=America/Detroit:20250602T080000
DTEND;TZID=America/Detroit:20250602T090000
DTSTAMP:20260424T041908
CREATED:20250212T202317Z
LAST-MODIFIED:20250522T151751Z
UID:10006389-1748851200-1748854800@stvincentferrer.net
SUMMARY:Daily Mass 8am Monday thru Thursday (livestream)
DESCRIPTION:
URL:https://stvincentferrer.net/event/daily-mass-8am-monday-thru-thursday-livestream/2025-06-02/
CATEGORIES:Mass,Music,Worship
ATTACH;FMTTYPE=image/jpeg:https://stvincentferrer.net/wp-content/uploads/2025/02/Daily-Mass-scaled.jpg
END:VEVENT
BEGIN:VEVENT
DTSTART;TZID=America/Detroit:20250603T080000
DTEND;TZID=America/Detroit:20250603T090000
DTSTAMP:20260424T041908
CREATED:20250212T202317Z
LAST-MODIFIED:20250522T151751Z
UID:10006390-1748937600-1748941200@stvincentferrer.net
SUMMARY:Daily Mass 8am Monday thru Thursday (livestream)
DESCRIPTION:
URL:https://stvincentferrer.net/event/daily-mass-8am-monday-thru-thursday-livestream/2025-06-03/
CATEGORIES:Mass,Music,Worship
ATTACH;FMTTYPE=image/jpeg:https://stvincentferrer.net/wp-content/uploads/2025/02/Daily-Mass-scaled.jpg
END:VEVENT
BEGIN:VEVENT
DTSTART;TZID=America/Detroit:20250603T090000
DTEND;TZID=America/Detroit:20250603T100000
DTSTAMP:20260424T041908
CREATED:20250520T174349Z
LAST-MODIFIED:20251216T181807Z
UID:10005508-1748941200-1748944800@stvincentferrer.net
SUMMARY:Adoration - Every Tuesday 9am following Mass
DESCRIPTION:
URL:https://stvincentferrer.net/event/adoration-every-tuesday-9am-following-mass-2-2/2025-06-03/
CATEGORIES:Worship
ATTACH;FMTTYPE=image/jpeg:https://stvincentferrer.net/wp-content/uploads/2017/03/Monstrance-1.jpg
END:VEVENT
BEGIN:VEVENT
DTSTART;TZID=America/Detroit:20250604T080000
DTEND;TZID=America/Detroit:20250604T090000
DTSTAMP:20260424T041908
CREATED:20250212T202317Z
LAST-MODIFIED:20250522T151751Z
UID:10006391-1749024000-1749027600@stvincentferrer.net
SUMMARY:Daily Mass 8am Monday thru Thursday (livestream)
DESCRIPTION:
URL:https://stvincentferrer.net/event/daily-mass-8am-monday-thru-thursday-livestream/2025-06-04/
CATEGORIES:Mass,Music,Worship
ATTACH;FMTTYPE=image/jpeg:https://stvincentferrer.net/wp-content/uploads/2025/02/Daily-Mass-scaled.jpg
END:VEVENT
BEGIN:VEVENT
DTSTART;TZID=America/Detroit:20250605T080000
DTEND;TZID=America/Detroit:20250605T090000
DTSTAMP:20260424T041908
CREATED:20250212T202317Z
LAST-MODIFIED:20250522T151751Z
UID:10006392-1749110400-1749114000@stvincentferrer.net
SUMMARY:Daily Mass 8am Monday thru Thursday (livestream)
DESCRIPTION:
URL:https://stvincentferrer.net/event/daily-mass-8am-monday-thru-thursday-livestream/2025-06-05/
CATEGORIES:Mass,Music,Worship
ATTACH;FMTTYPE=image/jpeg:https://stvincentferrer.net/wp-content/uploads/2025/02/Daily-Mass-scaled.jpg
END:VEVENT
BEGIN:VEVENT
DTSTART;TZID=America/Detroit:20250605T090000
DTEND;TZID=America/Detroit:20250605T093000
DTSTAMP:20260424T041908
CREATED:20250212T200207Z
LAST-MODIFIED:20260331T144257Z
UID:10006050-1749114000-1749115800@stvincentferrer.net
SUMMARY:Rosary - Thursdays following 8am mass ( also Livestream )
DESCRIPTION:
URL:https://stvincentferrer.net/event/rosary-thursdays-following-8am-mass-also-livestream/2025-06-05/
LOCATION:St. Vincent Ferrer Church\, 28353 Herbert\, Madison Heights\, MI\, 48071
CATEGORIES:Miscellaneous,Worship
ATTACH;FMTTYPE=image/jpeg:https://stvincentferrer.net/wp-content/uploads/2022/05/rosary.jpg
GEO:42.4992176;-83.0971204
X-APPLE-STRUCTURED-LOCATION;VALUE=URI;X-ADDRESS=St. Vincent Ferrer Church 28353 Herbert Madison Heights MI 48071;X-APPLE-RADIUS=500;X-TITLE=28353 Herbert:geo:-83.0971204,42.4992176
END:VEVENT
BEGIN:VEVENT
DTSTART;TZID=America/Detroit:20250606T090000
DTEND;TZID=America/Detroit:20250606T163000
DTSTAMP:20260424T041908
CREATED:20250512T182242Z
LAST-MODIFIED:20250512T182242Z
UID:10008352-1749200400-1749227400@stvincentferrer.net
SUMMARY:Admin. Office Closed on Fridays during Summer.
DESCRIPTION:
URL:https://stvincentferrer.net/event/admin-office-closed-on-fridays-during-summer/2025-06-06/
CATEGORIES:Miscellaneous
ATTACH;FMTTYPE=image/gif:https://stvincentferrer.net/wp-content/uploads/2025/05/closed-summer-2025.gif
END:VEVENT
BEGIN:VEVENT
DTSTART;TZID=America/Detroit:20250607T090000
DTEND;TZID=America/Detroit:20250607T110000
DTSTAMP:20260424T041908
CREATED:20240821T191450Z
LAST-MODIFIED:20240821T191450Z
UID:10004934-1749286800-1749294000@stvincentferrer.net
SUMMARY:Men's Fellowship and Scripture Reflection
DESCRIPTION:The men’s fellowship group gathers for a scripture reflection/sharing every other Saturday at 9am in the Faith Formation office of the school building.
URL:https://stvincentferrer.net/event/mens-fellowship-and-scripture-reflection-2-2/2025-06-07/
LOCATION:Faith Formation Office\, 1075 E. Gardenia\, Madison Heights\, MI\, United States
CATEGORIES:Adult Faith Formation
ATTACH;FMTTYPE=image/png:https://stvincentferrer.net/wp-content/uploads/2022/01/Mens-Fellowship-1-1.png
ORGANIZER;CN="Tom Karolski":MAILTO:debbie@stvincentferrer.net
GEO:42.4991272;-83.0960313
X-APPLE-STRUCTURED-LOCATION;VALUE=URI;X-ADDRESS=Faith Formation Office 1075 E. Gardenia Madison Heights MI United States;X-APPLE-RADIUS=500;X-TITLE=1075 E. Gardenia:geo:-83.0960313,42.4991272
END:VEVENT
BEGIN:VEVENT
DTSTART;TZID=America/Detroit:20250608T090000
DTEND;TZID=America/Detroit:20250608T100000
DTSTAMP:20260424T041908
CREATED:20250325T200237Z
LAST-MODIFIED:20251216T181536Z
UID:10008029-1749373200-1749376800@stvincentferrer.net
SUMMARY:Sunday Mass 9:00 am
DESCRIPTION:
URL:https://stvincentferrer.net/event/sunday-mass-900-am/2025-06-08/
LOCATION:St. Vincent Ferrer Church\, 28353 Herbert\, Madison Heights\, MI\, 48071
CATEGORIES:Mass,Worship
GEO:42.4992176;-83.0971204
X-APPLE-STRUCTURED-LOCATION;VALUE=URI;X-ADDRESS=St. Vincent Ferrer Church 28353 Herbert Madison Heights MI 48071;X-APPLE-RADIUS=500;X-TITLE=28353 Herbert:geo:-83.0971204,42.4992176
END:VEVENT
BEGIN:VEVENT
DTSTART;TZID=America/Detroit:20250608T090000
DTEND;TZID=America/Detroit:20250608T100000
DTSTAMP:20260424T041908
CREATED:20250521T173947Z
LAST-MODIFIED:20250521T173947Z
UID:10008422-1749373200-1749376800@stvincentferrer.net
SUMMARY:Pentecost Mass - 9am
DESCRIPTION:A powerful rushing wind filled the room\, tongues of fire appeared and rested on the apostles\, and they were filled with the Holy Spirit and began speaking in other languages.  \nIn the Catholic Church\, Pentecost is a major feast commemorating the descent of the Holy Spirit upon the Apostles and other followers of Jesus Christ 50 days after Easter.
URL:https://stvincentferrer.net/event/pentecost-mass-9am-2/
CATEGORIES:Mass,Special Mass,Worship
ATTACH;FMTTYPE=image/jpeg:https://stvincentferrer.net/wp-content/uploads/2025/05/Pentecost.jpg
END:VEVENT
BEGIN:VEVENT
DTSTART;TZID=America/Detroit:20250609T080000
DTEND;TZID=America/Detroit:20250609T090000
DTSTAMP:20260424T041908
CREATED:20250212T202317Z
LAST-MODIFIED:20250522T151751Z
UID:10006395-1749456000-1749459600@stvincentferrer.net
SUMMARY:Daily Mass 8am Monday thru Thursday (livestream)
DESCRIPTION:
URL:https://stvincentferrer.net/event/daily-mass-8am-monday-thru-thursday-livestream/2025-06-09/
CATEGORIES:Mass,Music,Worship
ATTACH;FMTTYPE=image/jpeg:https://stvincentferrer.net/wp-content/uploads/2025/02/Daily-Mass-scaled.jpg
END:VEVENT
BEGIN:VEVENT
DTSTART;TZID=America/Detroit:20250610T080000
DTEND;TZID=America/Detroit:20250610T090000
DTSTAMP:20260424T041908
CREATED:20250212T202317Z
LAST-MODIFIED:20250522T151751Z
UID:10006396-1749542400-1749546000@stvincentferrer.net
SUMMARY:Daily Mass 8am Monday thru Thursday (livestream)
DESCRIPTION:
URL:https://stvincentferrer.net/event/daily-mass-8am-monday-thru-thursday-livestream/2025-06-10/
CATEGORIES:Mass,Music,Worship
ATTACH;FMTTYPE=image/jpeg:https://stvincentferrer.net/wp-content/uploads/2025/02/Daily-Mass-scaled.jpg
END:VEVENT
BEGIN:VEVENT
DTSTART;TZID=America/Detroit:20250610T090000
DTEND;TZID=America/Detroit:20250610T100000
DTSTAMP:20260424T041908
CREATED:20250520T174349Z
LAST-MODIFIED:20251216T181807Z
UID:10005509-1749546000-1749549600@stvincentferrer.net
SUMMARY:Adoration - Every Tuesday 9am following Mass
DESCRIPTION:
URL:https://stvincentferrer.net/event/adoration-every-tuesday-9am-following-mass-2-2/2025-06-10/
CATEGORIES:Worship
ATTACH;FMTTYPE=image/jpeg:https://stvincentferrer.net/wp-content/uploads/2017/03/Monstrance-1.jpg
END:VEVENT
BEGIN:VEVENT
DTSTART;TZID=America/Detroit:20250611T080000
DTEND;TZID=America/Detroit:20250611T090000
DTSTAMP:20260424T041908
CREATED:20250212T202317Z
LAST-MODIFIED:20250522T151751Z
UID:10006397-1749628800-1749632400@stvincentferrer.net
SUMMARY:Daily Mass 8am Monday thru Thursday (livestream)
DESCRIPTION:
URL:https://stvincentferrer.net/event/daily-mass-8am-monday-thru-thursday-livestream/2025-06-11/
CATEGORIES:Mass,Music,Worship
ATTACH;FMTTYPE=image/jpeg:https://stvincentferrer.net/wp-content/uploads/2025/02/Daily-Mass-scaled.jpg
END:VEVENT
BEGIN:VEVENT
DTSTART;TZID=America/Detroit:20250612T080000
DTEND;TZID=America/Detroit:20250612T090000
DTSTAMP:20260424T041908
CREATED:20250212T202317Z
LAST-MODIFIED:20250522T151751Z
UID:10006398-1749715200-1749718800@stvincentferrer.net
SUMMARY:Daily Mass 8am Monday thru Thursday (livestream)
DESCRIPTION:
URL:https://stvincentferrer.net/event/daily-mass-8am-monday-thru-thursday-livestream/2025-06-12/
CATEGORIES:Mass,Music,Worship
ATTACH;FMTTYPE=image/jpeg:https://stvincentferrer.net/wp-content/uploads/2025/02/Daily-Mass-scaled.jpg
END:VEVENT
BEGIN:VEVENT
DTSTART;TZID=America/Detroit:20250612T090000
DTEND;TZID=America/Detroit:20250612T093000
DTSTAMP:20260424T041908
CREATED:20250212T200207Z
LAST-MODIFIED:20260331T144257Z
UID:10006051-1749718800-1749720600@stvincentferrer.net
SUMMARY:Rosary - Thursdays following 8am mass ( also Livestream )
DESCRIPTION:
URL:https://stvincentferrer.net/event/rosary-thursdays-following-8am-mass-also-livestream/2025-06-12/
LOCATION:St. Vincent Ferrer Church\, 28353 Herbert\, Madison Heights\, MI\, 48071
CATEGORIES:Miscellaneous,Worship
ATTACH;FMTTYPE=image/jpeg:https://stvincentferrer.net/wp-content/uploads/2022/05/rosary.jpg
GEO:42.4992176;-83.0971204
X-APPLE-STRUCTURED-LOCATION;VALUE=URI;X-ADDRESS=St. Vincent Ferrer Church 28353 Herbert Madison Heights MI 48071;X-APPLE-RADIUS=500;X-TITLE=28353 Herbert:geo:-83.0971204,42.4992176
END:VEVENT
BEGIN:VEVENT
DTSTART;TZID=America/Detroit:20250613T090000
DTEND;TZID=America/Detroit:20250613T163000
DTSTAMP:20260424T041908
CREATED:20250512T182242Z
LAST-MODIFIED:20250512T182242Z
UID:10008353-1749805200-1749832200@stvincentferrer.net
SUMMARY:Admin. Office Closed on Fridays during Summer.
DESCRIPTION:
URL:https://stvincentferrer.net/event/admin-office-closed-on-fridays-during-summer/2025-06-13/
CATEGORIES:Miscellaneous
ATTACH;FMTTYPE=image/gif:https://stvincentferrer.net/wp-content/uploads/2025/05/closed-summer-2025.gif
END:VEVENT
BEGIN:VEVENT
DTSTART;TZID=America/Detroit:20250615T090000
DTEND;TZID=America/Detroit:20250615T100000
DTSTAMP:20260424T041908
CREATED:20250325T200237Z
LAST-MODIFIED:20251216T181536Z
UID:10008030-1749978000-1749981600@stvincentferrer.net
SUMMARY:Sunday Mass 9:00 am
DESCRIPTION:
URL:https://stvincentferrer.net/event/sunday-mass-900-am/2025-06-15/
LOCATION:St. Vincent Ferrer Church\, 28353 Herbert\, Madison Heights\, MI\, 48071
CATEGORIES:Mass,Worship
GEO:42.4992176;-83.0971204
X-APPLE-STRUCTURED-LOCATION;VALUE=URI;X-ADDRESS=St. Vincent Ferrer Church 28353 Herbert Madison Heights MI 48071;X-APPLE-RADIUS=500;X-TITLE=28353 Herbert:geo:-83.0971204,42.4992176
END:VEVENT
BEGIN:VEVENT
DTSTART;TZID=America/Detroit:20250615T090000
DTEND;TZID=America/Detroit:20250615T100000
DTSTAMP:20260424T041908
CREATED:20250521T173141Z
LAST-MODIFIED:20250521T173141Z
UID:10008421-1749978000-1749981600@stvincentferrer.net
SUMMARY:Father's Day Mass 9am
DESCRIPTION:Did you know that the origin of Father’s Day is linked to Christianity? Like other important holidays filled with Christian themes and events\, Father’s Day\, too\, was founded to celebrate the ideals of fatherhood set forth in Scripture.
URL:https://stvincentferrer.net/event/fathers-day-mass-9am-2/
LOCATION:St. Vincent Ferrer Church\, 28353 Herbert\, Madison Heights\, MI\, 48071
CATEGORIES:Mass,Worship
ATTACH;FMTTYPE=image/jpeg:https://stvincentferrer.net/wp-content/uploads/2021/02/St.-Joseph-1.jpg
GEO:42.4992176;-83.0971204
X-APPLE-STRUCTURED-LOCATION;VALUE=URI;X-ADDRESS=St. Vincent Ferrer Church 28353 Herbert Madison Heights MI 48071;X-APPLE-RADIUS=500;X-TITLE=28353 Herbert:geo:-83.0971204,42.4992176
END:VEVENT
BEGIN:VEVENT
DTSTART;TZID=America/Detroit:20250616T080000
DTEND;TZID=America/Detroit:20250616T090000
DTSTAMP:20260424T041908
CREATED:20250212T202317Z
LAST-MODIFIED:20250522T151751Z
UID:10006401-1750060800-1750064400@stvincentferrer.net
SUMMARY:Daily Mass 8am Monday thru Thursday (livestream)
DESCRIPTION:
URL:https://stvincentferrer.net/event/daily-mass-8am-monday-thru-thursday-livestream/2025-06-16/
CATEGORIES:Mass,Music,Worship
ATTACH;FMTTYPE=image/jpeg:https://stvincentferrer.net/wp-content/uploads/2025/02/Daily-Mass-scaled.jpg
END:VEVENT
BEGIN:VEVENT
DTSTART;TZID=America/Detroit:20250617T080000
DTEND;TZID=America/Detroit:20250617T090000
DTSTAMP:20260424T041908
CREATED:20250212T202317Z
LAST-MODIFIED:20250522T151751Z
UID:10006402-1750147200-1750150800@stvincentferrer.net
SUMMARY:Daily Mass 8am Monday thru Thursday (livestream)
DESCRIPTION:
URL:https://stvincentferrer.net/event/daily-mass-8am-monday-thru-thursday-livestream/2025-06-17/
CATEGORIES:Mass,Music,Worship
ATTACH;FMTTYPE=image/jpeg:https://stvincentferrer.net/wp-content/uploads/2025/02/Daily-Mass-scaled.jpg
END:VEVENT
BEGIN:VEVENT
DTSTART;TZID=America/Detroit:20250617T090000
DTEND;TZID=America/Detroit:20250617T100000
DTSTAMP:20260424T041908
CREATED:20250520T174349Z
LAST-MODIFIED:20251216T181807Z
UID:10005510-1750150800-1750154400@stvincentferrer.net
SUMMARY:Adoration - Every Tuesday 9am following Mass
DESCRIPTION:
URL:https://stvincentferrer.net/event/adoration-every-tuesday-9am-following-mass-2-2/2025-06-17/
CATEGORIES:Worship
ATTACH;FMTTYPE=image/jpeg:https://stvincentferrer.net/wp-content/uploads/2017/03/Monstrance-1.jpg
END:VEVENT
BEGIN:VEVENT
DTSTART;TZID=America/Detroit:20250618T080000
DTEND;TZID=America/Detroit:20250618T090000
DTSTAMP:20260424T041908
CREATED:20250212T202317Z
LAST-MODIFIED:20250522T151751Z
UID:10006403-1750233600-1750237200@stvincentferrer.net
SUMMARY:Daily Mass 8am Monday thru Thursday (livestream)
DESCRIPTION:
URL:https://stvincentferrer.net/event/daily-mass-8am-monday-thru-thursday-livestream/2025-06-18/
CATEGORIES:Mass,Music,Worship
ATTACH;FMTTYPE=image/jpeg:https://stvincentferrer.net/wp-content/uploads/2025/02/Daily-Mass-scaled.jpg
END:VEVENT
BEGIN:VEVENT
DTSTART;TZID=America/Detroit:20250619T080000
DTEND;TZID=America/Detroit:20250619T090000
DTSTAMP:20260424T041908
CREATED:20250212T202317Z
LAST-MODIFIED:20250522T151751Z
UID:10006404-1750320000-1750323600@stvincentferrer.net
SUMMARY:Daily Mass 8am Monday thru Thursday (livestream)
DESCRIPTION:
URL:https://stvincentferrer.net/event/daily-mass-8am-monday-thru-thursday-livestream/2025-06-19/
CATEGORIES:Mass,Music,Worship
ATTACH;FMTTYPE=image/jpeg:https://stvincentferrer.net/wp-content/uploads/2025/02/Daily-Mass-scaled.jpg
END:VEVENT
BEGIN:VEVENT
DTSTART;TZID=America/Detroit:20250619T090000
DTEND;TZID=America/Detroit:20250619T093000
DTSTAMP:20260424T041908
CREATED:20250212T200207Z
LAST-MODIFIED:20260331T144257Z
UID:10006052-1750323600-1750325400@stvincentferrer.net
SUMMARY:Rosary - Thursdays following 8am mass ( also Livestream )
DESCRIPTION:
URL:https://stvincentferrer.net/event/rosary-thursdays-following-8am-mass-also-livestream/2025-06-19/
LOCATION:St. Vincent Ferrer Church\, 28353 Herbert\, Madison Heights\, MI\, 48071
CATEGORIES:Miscellaneous,Worship
ATTACH;FMTTYPE=image/jpeg:https://stvincentferrer.net/wp-content/uploads/2022/05/rosary.jpg
GEO:42.4992176;-83.0971204
X-APPLE-STRUCTURED-LOCATION;VALUE=URI;X-ADDRESS=St. Vincent Ferrer Church 28353 Herbert Madison Heights MI 48071;X-APPLE-RADIUS=500;X-TITLE=28353 Herbert:geo:-83.0971204,42.4992176
END:VEVENT
BEGIN:VEVENT
DTSTART;TZID=America/Detroit:20250620T090000
DTEND;TZID=America/Detroit:20250620T163000
DTSTAMP:20260424T041908
CREATED:20250512T182242Z
LAST-MODIFIED:20250512T182242Z
UID:10008354-1750410000-1750437000@stvincentferrer.net
SUMMARY:Admin. Office Closed on Fridays during Summer.
DESCRIPTION:
URL:https://stvincentferrer.net/event/admin-office-closed-on-fridays-during-summer/2025-06-20/
CATEGORIES:Miscellaneous
ATTACH;FMTTYPE=image/gif:https://stvincentferrer.net/wp-content/uploads/2025/05/closed-summer-2025.gif
END:VEVENT
BEGIN:VEVENT
DTSTART;TZID=America/Detroit:20250621T090000
DTEND;TZID=America/Detroit:20250621T110000
DTSTAMP:20260424T041908
CREATED:20240821T191450Z
LAST-MODIFIED:20240821T191450Z
UID:10004935-1750496400-1750503600@stvincentferrer.net
SUMMARY:Men's Fellowship and Scripture Reflection
DESCRIPTION:The men’s fellowship group gathers for a scripture reflection/sharing every other Saturday at 9am in the Faith Formation office of the school building.
URL:https://stvincentferrer.net/event/mens-fellowship-and-scripture-reflection-2-2/2025-06-21/
LOCATION:Faith Formation Office\, 1075 E. Gardenia\, Madison Heights\, MI\, United States
CATEGORIES:Adult Faith Formation
ATTACH;FMTTYPE=image/png:https://stvincentferrer.net/wp-content/uploads/2022/01/Mens-Fellowship-1-1.png
ORGANIZER;CN="Tom Karolski":MAILTO:debbie@stvincentferrer.net
GEO:42.4991272;-83.0960313
X-APPLE-STRUCTURED-LOCATION;VALUE=URI;X-ADDRESS=Faith Formation Office 1075 E. Gardenia Madison Heights MI United States;X-APPLE-RADIUS=500;X-TITLE=1075 E. Gardenia:geo:-83.0960313,42.4991272
END:VEVENT
BEGIN:VEVENT
DTSTART;TZID=America/Detroit:20250622T090000
DTEND;TZID=America/Detroit:20250622T100000
DTSTAMP:20260424T041908
CREATED:20250325T200237Z
LAST-MODIFIED:20251216T181536Z
UID:10008031-1750582800-1750586400@stvincentferrer.net
SUMMARY:Sunday Mass 9:00 am
DESCRIPTION:
URL:https://stvincentferrer.net/event/sunday-mass-900-am/2025-06-22/
LOCATION:St. Vincent Ferrer Church\, 28353 Herbert\, Madison Heights\, MI\, 48071
CATEGORIES:Mass,Worship
GEO:42.4992176;-83.0971204
X-APPLE-STRUCTURED-LOCATION;VALUE=URI;X-ADDRESS=St. Vincent Ferrer Church 28353 Herbert Madison Heights MI 48071;X-APPLE-RADIUS=500;X-TITLE=28353 Herbert:geo:-83.0971204,42.4992176
END:VEVENT
BEGIN:VEVENT
DTSTART;TZID=America/Detroit:20250623T080000
DTEND;TZID=America/Detroit:20250623T090000
DTSTAMP:20260424T041908
CREATED:20250212T202317Z
LAST-MODIFIED:20250522T151751Z
UID:10006407-1750665600-1750669200@stvincentferrer.net
SUMMARY:Daily Mass 8am Monday thru Thursday (livestream)
DESCRIPTION:
URL:https://stvincentferrer.net/event/daily-mass-8am-monday-thru-thursday-livestream/2025-06-23/
CATEGORIES:Mass,Music,Worship
ATTACH;FMTTYPE=image/jpeg:https://stvincentferrer.net/wp-content/uploads/2025/02/Daily-Mass-scaled.jpg
END:VEVENT
END:VCALENDAR