BEGIN:VCALENDAR
VERSION:2.0
PRODID:-//St. Vincent Ferrer Catholic Church - ECPv6.15.20//NONSGML v1.0//EN
CALSCALE:GREGORIAN
METHOD:PUBLISH
X-WR-CALNAME:St. Vincent Ferrer Catholic Church
X-ORIGINAL-URL:https://stvincentferrer.net
X-WR-CALDESC:Events for St. Vincent Ferrer Catholic Church
REFRESH-INTERVAL;VALUE=DURATION:PT1H
X-Robots-Tag:noindex
X-PUBLISHED-TTL:PT1H
BEGIN:VTIMEZONE
TZID:America/Detroit
BEGIN:DAYLIGHT
TZOFFSETFROM:-0500
TZOFFSETTO:-0400
TZNAME:EDT
DTSTART:20240310T070000
END:DAYLIGHT
BEGIN:STANDARD
TZOFFSETFROM:-0400
TZOFFSETTO:-0500
TZNAME:EST
DTSTART:20241103T060000
END:STANDARD
BEGIN:DAYLIGHT
TZOFFSETFROM:-0500
TZOFFSETTO:-0400
TZNAME:EDT
DTSTART:20250309T070000
END:DAYLIGHT
BEGIN:STANDARD
TZOFFSETFROM:-0400
TZOFFSETTO:-0500
TZNAME:EST
DTSTART:20251102T060000
END:STANDARD
BEGIN:DAYLIGHT
TZOFFSETFROM:-0500
TZOFFSETTO:-0400
TZNAME:EDT
DTSTART:20260308T070000
END:DAYLIGHT
BEGIN:STANDARD
TZOFFSETFROM:-0400
TZOFFSETTO:-0500
TZNAME:EST
DTSTART:20261101T060000
END:STANDARD
END:VTIMEZONE
BEGIN:VEVENT
DTSTART;TZID=America/Detroit:20250401T080000
DTEND;TZID=America/Detroit:20250401T090000
DTSTAMP:20260424T074357
CREATED:20250212T202317Z
LAST-MODIFIED:20250522T151751Z
UID:10006336-1743494400-1743498000@stvincentferrer.net
SUMMARY:Daily Mass 8am Monday thru Thursday (livestream)
DESCRIPTION:
URL:https://stvincentferrer.net/event/daily-mass-8am-monday-thru-thursday-livestream/2025-04-01/
CATEGORIES:Mass,Music,Worship
ATTACH;FMTTYPE=image/jpeg:https://stvincentferrer.net/wp-content/uploads/2025/02/Daily-Mass-scaled.jpg
END:VEVENT
BEGIN:VEVENT
DTSTART;TZID=America/Detroit:20250402T080000
DTEND;TZID=America/Detroit:20250402T090000
DTSTAMP:20260424T074357
CREATED:20250212T202317Z
LAST-MODIFIED:20250522T151751Z
UID:10006337-1743580800-1743584400@stvincentferrer.net
SUMMARY:Daily Mass 8am Monday thru Thursday (livestream)
DESCRIPTION:
URL:https://stvincentferrer.net/event/daily-mass-8am-monday-thru-thursday-livestream/2025-04-02/
CATEGORIES:Mass,Music,Worship
ATTACH;FMTTYPE=image/jpeg:https://stvincentferrer.net/wp-content/uploads/2025/02/Daily-Mass-scaled.jpg
END:VEVENT
BEGIN:VEVENT
DTSTART;TZID=America/Detroit:20250402T090000
DTEND;TZID=America/Detroit:20250402T110000
DTSTAMP:20260424T074357
CREATED:20250115T200122Z
LAST-MODIFIED:20250115T200123Z
UID:10005959-1743584400-1743591600@stvincentferrer.net
SUMMARY:Breakfast Book Study - Desiring  God's Will - Wednesdays 9am
DESCRIPTION:
URL:https://stvincentferrer.net/event/breakfast-book-study-desiring-gods-will-wednesdays-9am-2/2025-04-02/
CATEGORIES:Adult Faith Formation,Christian Service,Miscellaneous
ORGANIZER;CN="Deborah Tourville":MAILTO:debbie@stvincentferrer.net
END:VEVENT
BEGIN:VEVENT
DTSTART;TZID=America/Detroit:20250402T190000
DTEND;TZID=America/Detroit:20250402T200000
DTSTAMP:20260424T074357
CREATED:20250210T161321Z
LAST-MODIFIED:20250212T195712Z
UID:10006033-1743620400-1743624000@stvincentferrer.net
SUMMARY:Fr. John's Lenten Reflection - "Building Pathways of Hope"  7pm Wednesdays\, March 12\,19\, 26  April 2\, 2025
DESCRIPTION:Virtual Soup Supper
URL:https://stvincentferrer.net/event/fr-johns-lenten-reflection-7pm-march-12-april-2-2025/2025-04-02/
LOCATION:St. Vincent Ferrer Church\, 28353 Herbert\, Madison Heights\, MI\, 48071
CATEGORIES:Christian Service,Miscellaneous
ATTACH;FMTTYPE=image/jpeg:https://stvincentferrer.net/wp-content/uploads/2025/03/LentenReflections_home.jpg
GEO:42.4992176;-83.0971204
X-APPLE-STRUCTURED-LOCATION;VALUE=URI;X-ADDRESS=St. Vincent Ferrer Church 28353 Herbert Madison Heights MI 48071;X-APPLE-RADIUS=500;X-TITLE=28353 Herbert:geo:-83.0971204,42.4992176
END:VEVENT
BEGIN:VEVENT
DTSTART;TZID=America/Detroit:20250403T080000
DTEND;TZID=America/Detroit:20250403T090000
DTSTAMP:20260424T074357
CREATED:20250212T202317Z
LAST-MODIFIED:20250522T151751Z
UID:10006338-1743667200-1743670800@stvincentferrer.net
SUMMARY:Daily Mass 8am Monday thru Thursday (livestream)
DESCRIPTION:
URL:https://stvincentferrer.net/event/daily-mass-8am-monday-thru-thursday-livestream/2025-04-03/
CATEGORIES:Mass,Music,Worship
ATTACH;FMTTYPE=image/jpeg:https://stvincentferrer.net/wp-content/uploads/2025/02/Daily-Mass-scaled.jpg
END:VEVENT
BEGIN:VEVENT
DTSTART;TZID=America/Detroit:20250403T090000
DTEND;TZID=America/Detroit:20250403T093000
DTSTAMP:20260424T074357
CREATED:20250212T200207Z
LAST-MODIFIED:20260331T144257Z
UID:10006041-1743670800-1743672600@stvincentferrer.net
SUMMARY:Rosary - Thursdays following 8am mass ( also Livestream )
DESCRIPTION:
URL:https://stvincentferrer.net/event/rosary-thursdays-following-8am-mass-also-livestream/2025-04-03/
LOCATION:St. Vincent Ferrer Church\, 28353 Herbert\, Madison Heights\, MI\, 48071
CATEGORIES:Miscellaneous,Worship
ATTACH;FMTTYPE=image/jpeg:https://stvincentferrer.net/wp-content/uploads/2022/05/rosary.jpg
GEO:42.4992176;-83.0971204
X-APPLE-STRUCTURED-LOCATION;VALUE=URI;X-ADDRESS=St. Vincent Ferrer Church 28353 Herbert Madison Heights MI 48071;X-APPLE-RADIUS=500;X-TITLE=28353 Herbert:geo:-83.0971204,42.4992176
END:VEVENT
BEGIN:VEVENT
DTSTART;TZID=America/Detroit:20250404T190000
DTEND;TZID=America/Detroit:20250404T200000
DTSTAMP:20260424T074357
CREATED:20250115T201038Z
LAST-MODIFIED:20250305T205128Z
UID:10006020-1743793200-1743796800@stvincentferrer.net
SUMMARY:Stations of the Cross - Fridays during Lent @7pm
DESCRIPTION:
URL:https://stvincentferrer.net/event/stations-of-the-cross-fridays-during-lent-7pm/2025-04-04/
LOCATION:St. Vincent Ferrer Church\, 28353 Herbert\, Madison Heights\, MI\, 48071
CATEGORIES:Miscellaneous,Worship
ATTACH;FMTTYPE=image/jpeg:https://stvincentferrer.net/wp-content/uploads/2024/03/stations_of_the_cross.jpg
GEO:42.4992176;-83.0971204
X-APPLE-STRUCTURED-LOCATION;VALUE=URI;X-ADDRESS=St. Vincent Ferrer Church 28353 Herbert Madison Heights MI 48071;X-APPLE-RADIUS=500;X-TITLE=28353 Herbert:geo:-83.0971204,42.4992176
END:VEVENT
BEGIN:VEVENT
DTSTART;TZID=America/Detroit:20250406T090000
DTEND;TZID=America/Detroit:20250406T100000
DTSTAMP:20260424T074357
CREATED:20250325T200237Z
LAST-MODIFIED:20251216T181536Z
UID:10008020-1743930000-1743933600@stvincentferrer.net
SUMMARY:Sunday Mass 9:00 am
DESCRIPTION:
URL:https://stvincentferrer.net/event/sunday-mass-900-am/2025-04-06/
LOCATION:St. Vincent Ferrer Church\, 28353 Herbert\, Madison Heights\, MI\, 48071
CATEGORIES:Mass,Worship
GEO:42.4992176;-83.0971204
X-APPLE-STRUCTURED-LOCATION;VALUE=URI;X-ADDRESS=St. Vincent Ferrer Church 28353 Herbert Madison Heights MI 48071;X-APPLE-RADIUS=500;X-TITLE=28353 Herbert:geo:-83.0971204,42.4992176
END:VEVENT
BEGIN:VEVENT
DTSTART;TZID=America/Detroit:20250407T080000
DTEND;TZID=America/Detroit:20250407T090000
DTSTAMP:20260424T074357
CREATED:20250212T202317Z
LAST-MODIFIED:20250522T151751Z
UID:10006341-1744012800-1744016400@stvincentferrer.net
SUMMARY:Daily Mass 8am Monday thru Thursday (livestream)
DESCRIPTION:
URL:https://stvincentferrer.net/event/daily-mass-8am-monday-thru-thursday-livestream/2025-04-07/
CATEGORIES:Mass,Music,Worship
ATTACH;FMTTYPE=image/jpeg:https://stvincentferrer.net/wp-content/uploads/2025/02/Daily-Mass-scaled.jpg
END:VEVENT
BEGIN:VEVENT
DTSTART;TZID=America/Detroit:20250407T181500
DTEND;TZID=America/Detroit:20250407T193000
DTSTAMP:20260424T074357
CREATED:20240806T155944Z
LAST-MODIFIED:20241205T200516Z
UID:10005763-1744049700-1744054200@stvincentferrer.net
SUMMARY:Religious Education Classes 2024-25
DESCRIPTION:
URL:https://stvincentferrer.net/event/religious-education-classes-2024-25/2025-04-07/
LOCATION:School Building\, 1075 E. Gardenia\, Madison Heights\, MI\, 48071\, United States
CATEGORIES:Youth Faith Formation
ATTACH;FMTTYPE=image/jpeg:https://stvincentferrer.net/wp-content/uploads/2021/09/faith-formation.jpg
ORGANIZER;CN="Matthew Zinser":MAILTO:Matthew@stvincentferrer.net
GEO:42.4991272;-83.0960313
X-APPLE-STRUCTURED-LOCATION;VALUE=URI;X-ADDRESS=School Building 1075 E. Gardenia Madison Heights MI 48071 United States;X-APPLE-RADIUS=500;X-TITLE=1075 E. Gardenia:geo:-83.0960313,42.4991272
END:VEVENT
BEGIN:VEVENT
DTSTART;TZID=America/Detroit:20250408T080000
DTEND;TZID=America/Detroit:20250408T090000
DTSTAMP:20260424T074357
CREATED:20250212T202317Z
LAST-MODIFIED:20250522T151751Z
UID:10006342-1744099200-1744102800@stvincentferrer.net
SUMMARY:Daily Mass 8am Monday thru Thursday (livestream)
DESCRIPTION:
URL:https://stvincentferrer.net/event/daily-mass-8am-monday-thru-thursday-livestream/2025-04-08/
CATEGORIES:Mass,Music,Worship
ATTACH;FMTTYPE=image/jpeg:https://stvincentferrer.net/wp-content/uploads/2025/02/Daily-Mass-scaled.jpg
END:VEVENT
BEGIN:VEVENT
DTSTART;TZID=America/Detroit:20250408T180000
DTEND;TZID=America/Detroit:20250408T190000
DTSTAMP:20260424T074357
CREATED:20250226T193910Z
LAST-MODIFIED:20250226T193910Z
UID:10007947-1744135200-1744138800@stvincentferrer.net
SUMMARY:SVDP will meet in Church at 6pm
DESCRIPTION: 
URL:https://stvincentferrer.net/event/svdp-will-meet-in-church-at-6pm/
LOCATION:St. Vincent Ferrer Church\, 28353 Herbert\, Madison Heights\, MI\, 48071
CATEGORIES:Committee Meeting
ATTACH;FMTTYPE=image/jpeg:https://stvincentferrer.net/wp-content/uploads/2024/03/1453731561-logo-SVDP.jpg
ORGANIZER;CN="Christian Service":MAILTO:MaryAnn@stvincentferrer.net
GEO:42.4992176;-83.0971204
X-APPLE-STRUCTURED-LOCATION;VALUE=URI;X-ADDRESS=St. Vincent Ferrer Church 28353 Herbert Madison Heights MI 48071;X-APPLE-RADIUS=500;X-TITLE=28353 Herbert:geo:-83.0971204,42.4992176
END:VEVENT
BEGIN:VEVENT
DTSTART;TZID=America/Detroit:20250409T080000
DTEND;TZID=America/Detroit:20250409T090000
DTSTAMP:20260424T074357
CREATED:20250212T202317Z
LAST-MODIFIED:20250522T151751Z
UID:10006343-1744185600-1744189200@stvincentferrer.net
SUMMARY:Daily Mass 8am Monday thru Thursday (livestream)
DESCRIPTION:
URL:https://stvincentferrer.net/event/daily-mass-8am-monday-thru-thursday-livestream/2025-04-09/
CATEGORIES:Mass,Music,Worship
ATTACH;FMTTYPE=image/jpeg:https://stvincentferrer.net/wp-content/uploads/2025/02/Daily-Mass-scaled.jpg
END:VEVENT
BEGIN:VEVENT
DTSTART;TZID=America/Detroit:20250409T090000
DTEND;TZID=America/Detroit:20250409T110000
DTSTAMP:20260424T074357
CREATED:20250115T200122Z
LAST-MODIFIED:20250115T200123Z
UID:10005960-1744189200-1744196400@stvincentferrer.net
SUMMARY:Breakfast Book Study - Desiring  God's Will - Wednesdays 9am
DESCRIPTION:
URL:https://stvincentferrer.net/event/breakfast-book-study-desiring-gods-will-wednesdays-9am-2/2025-04-09/
CATEGORIES:Adult Faith Formation,Christian Service,Miscellaneous
ORGANIZER;CN="Deborah Tourville":MAILTO:debbie@stvincentferrer.net
END:VEVENT
BEGIN:VEVENT
DTSTART;TZID=America/Detroit:20250409T190000
DTEND;TZID=America/Detroit:20250409T200000
DTSTAMP:20260424T074357
CREATED:20250212T203153Z
LAST-MODIFIED:20250212T203153Z
UID:10007861-1744225200-1744228800@stvincentferrer.net
SUMMARY:Communal Penance Service -  Wednesday\, April 9th at 7pm
DESCRIPTION:
URL:https://stvincentferrer.net/event/communal-penance-service-wednesday-april-9th-at-7pm/
LOCATION:St. Vincent Ferrer Church\, 28353 Herbert\, Madison Heights\, MI\, 48071
CATEGORIES:Miscellaneous,Worship
ATTACH;FMTTYPE=image/jpeg:https://stvincentferrer.net/wp-content/uploads/2024/03/penance-Service.jpg
GEO:42.4992176;-83.0971204
X-APPLE-STRUCTURED-LOCATION;VALUE=URI;X-ADDRESS=St. Vincent Ferrer Church 28353 Herbert Madison Heights MI 48071;X-APPLE-RADIUS=500;X-TITLE=28353 Herbert:geo:-83.0971204,42.4992176
END:VEVENT
BEGIN:VEVENT
DTSTART;TZID=America/Detroit:20250410T080000
DTEND;TZID=America/Detroit:20250410T090000
DTSTAMP:20260424T074357
CREATED:20250212T202317Z
LAST-MODIFIED:20250522T151751Z
UID:10006344-1744272000-1744275600@stvincentferrer.net
SUMMARY:Daily Mass 8am Monday thru Thursday (livestream)
DESCRIPTION:
URL:https://stvincentferrer.net/event/daily-mass-8am-monday-thru-thursday-livestream/2025-04-10/
CATEGORIES:Mass,Music,Worship
ATTACH;FMTTYPE=image/jpeg:https://stvincentferrer.net/wp-content/uploads/2025/02/Daily-Mass-scaled.jpg
END:VEVENT
BEGIN:VEVENT
DTSTART;TZID=America/Detroit:20250410T090000
DTEND;TZID=America/Detroit:20250410T093000
DTSTAMP:20260424T074357
CREATED:20250212T200207Z
LAST-MODIFIED:20260331T144257Z
UID:10006042-1744275600-1744277400@stvincentferrer.net
SUMMARY:Rosary - Thursdays following 8am mass ( also Livestream )
DESCRIPTION:
URL:https://stvincentferrer.net/event/rosary-thursdays-following-8am-mass-also-livestream/2025-04-10/
LOCATION:St. Vincent Ferrer Church\, 28353 Herbert\, Madison Heights\, MI\, 48071
CATEGORIES:Miscellaneous,Worship
ATTACH;FMTTYPE=image/jpeg:https://stvincentferrer.net/wp-content/uploads/2022/05/rosary.jpg
GEO:42.4992176;-83.0971204
X-APPLE-STRUCTURED-LOCATION;VALUE=URI;X-ADDRESS=St. Vincent Ferrer Church 28353 Herbert Madison Heights MI 48071;X-APPLE-RADIUS=500;X-TITLE=28353 Herbert:geo:-83.0971204,42.4992176
END:VEVENT
BEGIN:VEVENT
DTSTART;TZID=America/Detroit:20250411T190000
DTEND;TZID=America/Detroit:20250411T200000
DTSTAMP:20260424T074357
CREATED:20250115T201038Z
LAST-MODIFIED:20250305T205128Z
UID:10006021-1744398000-1744401600@stvincentferrer.net
SUMMARY:Stations of the Cross - Fridays during Lent @7pm
DESCRIPTION:
URL:https://stvincentferrer.net/event/stations-of-the-cross-fridays-during-lent-7pm/2025-04-11/
LOCATION:St. Vincent Ferrer Church\, 28353 Herbert\, Madison Heights\, MI\, 48071
CATEGORIES:Miscellaneous,Worship
ATTACH;FMTTYPE=image/jpeg:https://stvincentferrer.net/wp-content/uploads/2024/03/stations_of_the_cross.jpg
GEO:42.4992176;-83.0971204
X-APPLE-STRUCTURED-LOCATION;VALUE=URI;X-ADDRESS=St. Vincent Ferrer Church 28353 Herbert Madison Heights MI 48071;X-APPLE-RADIUS=500;X-TITLE=28353 Herbert:geo:-83.0971204,42.4992176
END:VEVENT
BEGIN:VEVENT
DTSTART;TZID=America/Detroit:20250412T090000
DTEND;TZID=America/Detroit:20250412T110000
DTSTAMP:20260424T074357
CREATED:20240821T191450Z
LAST-MODIFIED:20240821T191450Z
UID:10004930-1744448400-1744455600@stvincentferrer.net
SUMMARY:Men's Fellowship and Scripture Reflection
DESCRIPTION:The men’s fellowship group gathers for a scripture reflection/sharing every other Saturday at 9am in the Faith Formation office of the school building.
URL:https://stvincentferrer.net/event/mens-fellowship-and-scripture-reflection-2-2/2025-04-12/
LOCATION:Faith Formation Office\, 1075 E. Gardenia\, Madison Heights\, MI\, United States
CATEGORIES:Adult Faith Formation
ATTACH;FMTTYPE=image/png:https://stvincentferrer.net/wp-content/uploads/2022/01/Mens-Fellowship-1-1.png
ORGANIZER;CN="Tom Karolski":MAILTO:debbie@stvincentferrer.net
GEO:42.4991272;-83.0960313
X-APPLE-STRUCTURED-LOCATION;VALUE=URI;X-ADDRESS=Faith Formation Office 1075 E. Gardenia Madison Heights MI United States;X-APPLE-RADIUS=500;X-TITLE=1075 E. Gardenia:geo:-83.0960313,42.4991272
END:VEVENT
BEGIN:VEVENT
DTSTART;TZID=America/Detroit:20250412T160000
DTEND;TZID=America/Detroit:20250412T170000
DTSTAMP:20260424T074357
CREATED:20250226T195437Z
LAST-MODIFIED:20250226T195437Z
UID:10007951-1744473600-1744477200@stvincentferrer.net
SUMMARY:Senior Food Collection
DESCRIPTION:
URL:https://stvincentferrer.net/event/senior-food-collection-2/2025-04-12/
LOCATION:St. Vincent Ferrer Church\, 28353 Herbert\, Madison Heights\, MI\, 48071
CATEGORIES:Christian Service,Miscellaneous
ATTACH;FMTTYPE=image/jpeg:https://stvincentferrer.net/wp-content/uploads/2021/07/senior-out-reach.jpeg
GEO:42.4992176;-83.0971204
X-APPLE-STRUCTURED-LOCATION;VALUE=URI;X-ADDRESS=St. Vincent Ferrer Church 28353 Herbert Madison Heights MI 48071;X-APPLE-RADIUS=500;X-TITLE=28353 Herbert:geo:-83.0971204,42.4992176
END:VEVENT
BEGIN:VEVENT
DTSTART;TZID=America/Detroit:20250413T080000
DTEND;TZID=America/Detroit:20250413T170000
DTSTAMP:20260424T074357
CREATED:20250226T195437Z
LAST-MODIFIED:20250226T195437Z
UID:10007950-1744531200-1744563600@stvincentferrer.net
SUMMARY:Senior Food Collection
DESCRIPTION:
URL:https://stvincentferrer.net/event/senior-food-collection-2/2025-04-13/
LOCATION:St. Vincent Ferrer Church\, 28353 Herbert\, Madison Heights\, MI\, 48071
CATEGORIES:Christian Service,Miscellaneous
ATTACH;FMTTYPE=image/jpeg:https://stvincentferrer.net/wp-content/uploads/2021/07/senior-out-reach.jpeg
GEO:42.4992176;-83.0971204
X-APPLE-STRUCTURED-LOCATION;VALUE=URI;X-ADDRESS=St. Vincent Ferrer Church 28353 Herbert Madison Heights MI 48071;X-APPLE-RADIUS=500;X-TITLE=28353 Herbert:geo:-83.0971204,42.4992176
END:VEVENT
BEGIN:VEVENT
DTSTART;TZID=America/Detroit:20250413T090000
DTEND;TZID=America/Detroit:20250413T100000
DTSTAMP:20260424T074357
CREATED:20250109T173410Z
LAST-MODIFIED:20250109T173410Z
UID:10006013-1744534800-1744538400@stvincentferrer.net
SUMMARY:Palm Sunday
DESCRIPTION: 
URL:https://stvincentferrer.net/event/palm-sunday-3/
LOCATION:St. Vincent Ferrer Church\, 28353 Herbert\, Madison Heights\, MI\, 48071
CATEGORIES:Mass,Special Mass,Worship
ATTACH;FMTTYPE=image/jpeg:https://stvincentferrer.net/wp-content/uploads/2022/03/palm-sunday.jpg
GEO:42.4992176;-83.0971204
X-APPLE-STRUCTURED-LOCATION;VALUE=URI;X-ADDRESS=St. Vincent Ferrer Church 28353 Herbert Madison Heights MI 48071;X-APPLE-RADIUS=500;X-TITLE=28353 Herbert:geo:-83.0971204,42.4992176
END:VEVENT
BEGIN:VEVENT
DTSTART;TZID=America/Detroit:20250413T090000
DTEND;TZID=America/Detroit:20250413T100000
DTSTAMP:20260424T074357
CREATED:20250325T200237Z
LAST-MODIFIED:20251216T181536Z
UID:10008021-1744534800-1744538400@stvincentferrer.net
SUMMARY:Sunday Mass 9:00 am
DESCRIPTION:
URL:https://stvincentferrer.net/event/sunday-mass-900-am/2025-04-13/
LOCATION:St. Vincent Ferrer Church\, 28353 Herbert\, Madison Heights\, MI\, 48071
CATEGORIES:Mass,Worship
GEO:42.4992176;-83.0971204
X-APPLE-STRUCTURED-LOCATION;VALUE=URI;X-ADDRESS=St. Vincent Ferrer Church 28353 Herbert Madison Heights MI 48071;X-APPLE-RADIUS=500;X-TITLE=28353 Herbert:geo:-83.0971204,42.4992176
END:VEVENT
BEGIN:VEVENT
DTSTART;TZID=America/Detroit:20250413T100000
DTEND;TZID=America/Detroit:20250413T110000
DTSTAMP:20260424T074357
CREATED:20250226T194645Z
LAST-MODIFIED:20250226T194645Z
UID:10007949-1744538400-1744542000@stvincentferrer.net
SUMMARY:Blood Pressure Checks
DESCRIPTION:
URL:https://stvincentferrer.net/event/blood-pressure-checks-22/
LOCATION:Church Hall\, 28353 Herbert\, Madison Heights\, MI\, 48071
CATEGORIES:Christian Service,Miscellaneous
ATTACH;FMTTYPE=image/png:https://stvincentferrer.net/wp-content/uploads/2021/09/blood-pressure.png
GEO:42.4992176;-83.0971204
X-APPLE-STRUCTURED-LOCATION;VALUE=URI;X-ADDRESS=Church Hall 28353 Herbert Madison Heights MI 48071;X-APPLE-RADIUS=500;X-TITLE=28353 Herbert:geo:-83.0971204,42.4992176
END:VEVENT
BEGIN:VEVENT
DTSTART;TZID=America/Detroit:20250413T100000
DTEND;TZID=America/Detroit:20250413T120000
DTSTAMP:20260424T074357
CREATED:20250226T194422Z
LAST-MODIFIED:20250226T194422Z
UID:10007948-1744538400-1744545600@stvincentferrer.net
SUMMARY:Coffee and Donuts sponsored by the K of C
DESCRIPTION:
URL:https://stvincentferrer.net/event/coffee-and-donuts-sponsored-by-the-k-of-c/
LOCATION:Church Hall\, 28353 Herbert\, Madison Heights\, MI\, 48071
CATEGORIES:Christian Service,Miscellaneous
ATTACH;FMTTYPE=image/jpeg:https://stvincentferrer.net/wp-content/uploads/2023/06/donuts23.jpg
GEO:42.4992176;-83.0971204
X-APPLE-STRUCTURED-LOCATION;VALUE=URI;X-ADDRESS=Church Hall 28353 Herbert Madison Heights MI 48071;X-APPLE-RADIUS=500;X-TITLE=28353 Herbert:geo:-83.0971204,42.4992176
END:VEVENT
BEGIN:VEVENT
DTSTART;TZID=America/Detroit:20250414T080000
DTEND;TZID=America/Detroit:20250414T090000
DTSTAMP:20260424T074357
CREATED:20250212T202317Z
LAST-MODIFIED:20250522T151751Z
UID:10006347-1744617600-1744621200@stvincentferrer.net
SUMMARY:Daily Mass 8am Monday thru Thursday (livestream)
DESCRIPTION:
URL:https://stvincentferrer.net/event/daily-mass-8am-monday-thru-thursday-livestream/2025-04-14/
CATEGORIES:Mass,Music,Worship
ATTACH;FMTTYPE=image/jpeg:https://stvincentferrer.net/wp-content/uploads/2025/02/Daily-Mass-scaled.jpg
END:VEVENT
BEGIN:VEVENT
DTSTART;TZID=America/Detroit:20250414T181500
DTEND;TZID=America/Detroit:20250414T193000
DTSTAMP:20260424T074357
CREATED:20240806T155944Z
LAST-MODIFIED:20241205T200516Z
UID:10005764-1744654500-1744659000@stvincentferrer.net
SUMMARY:Religious Education Classes 2024-25
DESCRIPTION:
URL:https://stvincentferrer.net/event/religious-education-classes-2024-25/2025-04-14/
LOCATION:School Building\, 1075 E. Gardenia\, Madison Heights\, MI\, 48071\, United States
CATEGORIES:Youth Faith Formation
ATTACH;FMTTYPE=image/jpeg:https://stvincentferrer.net/wp-content/uploads/2021/09/faith-formation.jpg
ORGANIZER;CN="Matthew Zinser":MAILTO:Matthew@stvincentferrer.net
GEO:42.4991272;-83.0960313
X-APPLE-STRUCTURED-LOCATION;VALUE=URI;X-ADDRESS=School Building 1075 E. Gardenia Madison Heights MI 48071 United States;X-APPLE-RADIUS=500;X-TITLE=1075 E. Gardenia:geo:-83.0960313,42.4991272
END:VEVENT
BEGIN:VEVENT
DTSTART;TZID=America/Detroit:20250415T080000
DTEND;TZID=America/Detroit:20250415T090000
DTSTAMP:20260424T074357
CREATED:20250212T202317Z
LAST-MODIFIED:20250522T151751Z
UID:10006348-1744704000-1744707600@stvincentferrer.net
SUMMARY:Daily Mass 8am Monday thru Thursday (livestream)
DESCRIPTION:
URL:https://stvincentferrer.net/event/daily-mass-8am-monday-thru-thursday-livestream/2025-04-15/
CATEGORIES:Mass,Music,Worship
ATTACH;FMTTYPE=image/jpeg:https://stvincentferrer.net/wp-content/uploads/2025/02/Daily-Mass-scaled.jpg
END:VEVENT
BEGIN:VEVENT
DTSTART;TZID=America/Detroit:20250416T080000
DTEND;TZID=America/Detroit:20250416T090000
DTSTAMP:20260424T074357
CREATED:20250212T202317Z
LAST-MODIFIED:20250522T151751Z
UID:10006349-1744790400-1744794000@stvincentferrer.net
SUMMARY:Daily Mass 8am Monday thru Thursday (livestream)
DESCRIPTION:
URL:https://stvincentferrer.net/event/daily-mass-8am-monday-thru-thursday-livestream/2025-04-16/
CATEGORIES:Mass,Music,Worship
ATTACH;FMTTYPE=image/jpeg:https://stvincentferrer.net/wp-content/uploads/2025/02/Daily-Mass-scaled.jpg
END:VEVENT
BEGIN:VEVENT
DTSTART;TZID=America/Detroit:20250416T090000
DTEND;TZID=America/Detroit:20250416T113000
DTSTAMP:20260424T074357
CREATED:20250331T185127Z
LAST-MODIFIED:20250331T185358Z
UID:10008281-1744794000-1744803000@stvincentferrer.net
SUMMARY:Breakfast Book Study - 9am Admin. Hall
DESCRIPTION:de
URL:https://stvincentferrer.net/event/breakfast-book-study-9am-admin-hall/2025-04-16/
LOCATION:Hall Administration Building\, 28353 Herbert\, Madison Heights\, MI\, 48071
CATEGORIES:Christian Service,Miscellaneous
ORGANIZER;CN="Deborah Tourville":MAILTO:debbie@stvincentferrer.net
GEO:42.4992176;-83.0971204
X-APPLE-STRUCTURED-LOCATION;VALUE=URI;X-ADDRESS=Hall Administration Building 28353 Herbert Madison Heights MI 48071;X-APPLE-RADIUS=500;X-TITLE=28353 Herbert:geo:-83.0971204,42.4992176
END:VEVENT
END:VCALENDAR