BEGIN:VCALENDAR
VERSION:2.0
PRODID:-//St. Vincent Ferrer Catholic Church - ECPv6.15.20//NONSGML v1.0//EN
CALSCALE:GREGORIAN
METHOD:PUBLISH
X-ORIGINAL-URL:https://stvincentferrer.net
X-WR-CALDESC:Events for St. Vincent Ferrer Catholic Church
REFRESH-INTERVAL;VALUE=DURATION:PT1H
X-Robots-Tag:noindex
X-PUBLISHED-TTL:PT1H
BEGIN:VTIMEZONE
TZID:America/Detroit
BEGIN:DAYLIGHT
TZOFFSETFROM:-0500
TZOFFSETTO:-0400
TZNAME:EDT
DTSTART:20240310T070000
END:DAYLIGHT
BEGIN:STANDARD
TZOFFSETFROM:-0400
TZOFFSETTO:-0500
TZNAME:EST
DTSTART:20241103T060000
END:STANDARD
BEGIN:DAYLIGHT
TZOFFSETFROM:-0500
TZOFFSETTO:-0400
TZNAME:EDT
DTSTART:20250309T070000
END:DAYLIGHT
BEGIN:STANDARD
TZOFFSETFROM:-0400
TZOFFSETTO:-0500
TZNAME:EST
DTSTART:20251102T060000
END:STANDARD
BEGIN:DAYLIGHT
TZOFFSETFROM:-0500
TZOFFSETTO:-0400
TZNAME:EDT
DTSTART:20260308T070000
END:DAYLIGHT
BEGIN:STANDARD
TZOFFSETFROM:-0400
TZOFFSETTO:-0500
TZNAME:EST
DTSTART:20261101T060000
END:STANDARD
END:VTIMEZONE
BEGIN:VEVENT
DTSTART;TZID=America/Detroit:20250301T090000
DTEND;TZID=America/Detroit:20250301T110000
DTSTAMP:20260424T094544
CREATED:20240821T191450Z
LAST-MODIFIED:20240821T191450Z
UID:10004927-1740819600-1740826800@stvincentferrer.net
SUMMARY:Men's Fellowship and Scripture Reflection
DESCRIPTION:The men’s fellowship group gathers for a scripture reflection/sharing every other Saturday at 9am in the Faith Formation office of the school building.
URL:https://stvincentferrer.net/event/mens-fellowship-and-scripture-reflection-2-2/2025-03-01/
LOCATION:Faith Formation Office\, 1075 E. Gardenia\, Madison Heights\, MI\, United States
CATEGORIES:Adult Faith Formation
ATTACH;FMTTYPE=image/png:https://stvincentferrer.net/wp-content/uploads/2022/01/Mens-Fellowship-1-1.png
ORGANIZER;CN="Tom Karolski":MAILTO:debbie@stvincentferrer.net
GEO:42.4991272;-83.0960313
X-APPLE-STRUCTURED-LOCATION;VALUE=URI;X-ADDRESS=Faith Formation Office 1075 E. Gardenia Madison Heights MI United States;X-APPLE-RADIUS=500;X-TITLE=1075 E. Gardenia:geo:-83.0960313,42.4991272
END:VEVENT
BEGIN:VEVENT
DTSTART;TZID=America/Detroit:20250303T080000
DTEND;TZID=America/Detroit:20250303T090000
DTSTAMP:20260424T094544
CREATED:20250212T202317Z
LAST-MODIFIED:20250522T151751Z
UID:10006311-1740988800-1740992400@stvincentferrer.net
SUMMARY:Daily Mass 8am Monday thru Thursday (livestream)
DESCRIPTION:
URL:https://stvincentferrer.net/event/daily-mass-8am-monday-thru-thursday-livestream/2025-03-03/
CATEGORIES:Mass,Music,Worship
ATTACH;FMTTYPE=image/jpeg:https://stvincentferrer.net/wp-content/uploads/2025/02/Daily-Mass-scaled.jpg
END:VEVENT
BEGIN:VEVENT
DTSTART;TZID=America/Detroit:20250303T181500
DTEND;TZID=America/Detroit:20250303T193000
DTSTAMP:20260424T094544
CREATED:20240806T155944Z
LAST-MODIFIED:20241205T200516Z
UID:10005759-1741025700-1741030200@stvincentferrer.net
SUMMARY:Religious Education Classes 2024-25
DESCRIPTION:
URL:https://stvincentferrer.net/event/religious-education-classes-2024-25/2025-03-03/
LOCATION:School Building\, 1075 E. Gardenia\, Madison Heights\, MI\, 48071\, United States
CATEGORIES:Youth Faith Formation
ATTACH;FMTTYPE=image/jpeg:https://stvincentferrer.net/wp-content/uploads/2021/09/faith-formation.jpg
ORGANIZER;CN="Matthew Zinser":MAILTO:Matthew@stvincentferrer.net
GEO:42.4991272;-83.0960313
X-APPLE-STRUCTURED-LOCATION;VALUE=URI;X-ADDRESS=School Building 1075 E. Gardenia Madison Heights MI 48071 United States;X-APPLE-RADIUS=500;X-TITLE=1075 E. Gardenia:geo:-83.0960313,42.4991272
END:VEVENT
BEGIN:VEVENT
DTSTART;TZID=America/Detroit:20250304T080000
DTEND;TZID=America/Detroit:20250304T090000
DTSTAMP:20260424T094544
CREATED:20250212T202317Z
LAST-MODIFIED:20250522T151751Z
UID:10006312-1741075200-1741078800@stvincentferrer.net
SUMMARY:Daily Mass 8am Monday thru Thursday (livestream)
DESCRIPTION:
URL:https://stvincentferrer.net/event/daily-mass-8am-monday-thru-thursday-livestream/2025-03-04/
CATEGORIES:Mass,Music,Worship
ATTACH;FMTTYPE=image/jpeg:https://stvincentferrer.net/wp-content/uploads/2025/02/Daily-Mass-scaled.jpg
END:VEVENT
BEGIN:VEVENT
DTSTART;TZID=America/Detroit:20250305T080000
DTEND;TZID=America/Detroit:20250305T090000
DTSTAMP:20260424T094544
CREATED:20240919T173119Z
LAST-MODIFIED:20240919T173119Z
UID:10005873-1741161600-1741165200@stvincentferrer.net
SUMMARY:Ash Wednesday - March 5\, 2025
DESCRIPTION:First day of Lent
URL:https://stvincentferrer.net/event/ash-wednesday-march-5-2025/2025-03-05/1/
CATEGORIES:Special Mass
ATTACH;FMTTYPE=image/jpeg:https://stvincentferrer.net/wp-content/uploads/2023/01/ash.jpg
END:VEVENT
BEGIN:VEVENT
DTSTART;TZID=America/Detroit:20250305T080000
DTEND;TZID=America/Detroit:20250305T090000
DTSTAMP:20260424T094544
CREATED:20250212T202317Z
LAST-MODIFIED:20250522T151751Z
UID:10006313-1741161600-1741165200@stvincentferrer.net
SUMMARY:Daily Mass 8am Monday thru Thursday (livestream)
DESCRIPTION:
URL:https://stvincentferrer.net/event/daily-mass-8am-monday-thru-thursday-livestream/2025-03-05/
CATEGORIES:Mass,Music,Worship
ATTACH;FMTTYPE=image/jpeg:https://stvincentferrer.net/wp-content/uploads/2025/02/Daily-Mass-scaled.jpg
END:VEVENT
BEGIN:VEVENT
DTSTART;TZID=America/Detroit:20250305T090000
DTEND;TZID=America/Detroit:20250305T110000
DTSTAMP:20260424T094544
CREATED:20250115T200122Z
LAST-MODIFIED:20250115T200123Z
UID:10005955-1741165200-1741172400@stvincentferrer.net
SUMMARY:Breakfast Book Study - Desiring  God's Will - Wednesdays 9am
DESCRIPTION:
URL:https://stvincentferrer.net/event/breakfast-book-study-desiring-gods-will-wednesdays-9am-2/2025-03-05/
CATEGORIES:Adult Faith Formation,Christian Service,Miscellaneous
ORGANIZER;CN="Deborah Tourville":MAILTO:debbie@stvincentferrer.net
END:VEVENT
BEGIN:VEVENT
DTSTART;TZID=America/Detroit:20250305T190000
DTEND;TZID=America/Detroit:20250305T200000
DTSTAMP:20260424T094544
CREATED:20240107T160641Z
LAST-MODIFIED:20250224T200428Z
UID:10007864-1741201200-1741204800@stvincentferrer.net
SUMMARY:Ash Wednesday Masses 8am and 7pm
DESCRIPTION:
URL:https://stvincentferrer.net/event/ash-wednesday/2025-03-05/
LOCATION:St. Vincent Ferrer Church\, 28353 Herbert\, Madison Heights\, MI\, 48071
CATEGORIES:Special Mass
ATTACH;FMTTYPE=image/jpeg:https://stvincentferrer.net/wp-content/uploads/2023/01/ash.jpg
GEO:42.4992176;-83.0971204
X-APPLE-STRUCTURED-LOCATION;VALUE=URI;X-ADDRESS=St. Vincent Ferrer Church 28353 Herbert Madison Heights MI 48071;X-APPLE-RADIUS=500;X-TITLE=28353 Herbert:geo:-83.0971204,42.4992176
END:VEVENT
BEGIN:VEVENT
DTSTART;TZID=America/Detroit:20250305T190000
DTEND;TZID=America/Detroit:20250305T200000
DTSTAMP:20260424T094544
CREATED:20240919T173119Z
LAST-MODIFIED:20240919T173119Z
UID:10005874-1741201200-1741204800@stvincentferrer.net
SUMMARY:Ash Wednesday - March 5\, 2025
DESCRIPTION:First day of Lent
URL:https://stvincentferrer.net/event/ash-wednesday-march-5-2025/2025-03-05/2/
CATEGORIES:Special Mass
ATTACH;FMTTYPE=image/jpeg:https://stvincentferrer.net/wp-content/uploads/2023/01/ash.jpg
END:VEVENT
BEGIN:VEVENT
DTSTART;TZID=America/Detroit:20250305T190000
DTEND;TZID=America/Detroit:20250305T203000
DTSTAMP:20260424T094544
CREATED:20240822T172729Z
LAST-MODIFIED:20240822T172729Z
UID:10005846-1741201200-1741206600@stvincentferrer.net
SUMMARY:Choir Practice 7pm - Admin. Office
DESCRIPTION:  \n\n\nMusic Ministers must commit to a weekly rehearsal schedule\n\n\nParticipation in the majority of Eucharistic Celebrations throughout the year (September-May)\n\n\nNew members are welcome. Please contact us to schedule an audition.
URL:https://stvincentferrer.net/event/choir-practice-7pm-admin-office/2025-03-05/
LOCATION:Choir Room\, 28353 Herbert\, Madison Heights\, MI\, 48071
CATEGORIES:Music
ATTACH;FMTTYPE=image/jpeg:https://stvincentferrer.net/wp-content/uploads/2023/09/choir-practice-e1732115310867.jpg
GEO:42.4992176;-83.0971204
X-APPLE-STRUCTURED-LOCATION;VALUE=URI;X-ADDRESS=Choir Room 28353 Herbert Madison Heights MI 48071;X-APPLE-RADIUS=500;X-TITLE=28353 Herbert:geo:-83.0971204,42.4992176
END:VEVENT
BEGIN:VEVENT
DTSTART;TZID=America/Detroit:20250306T080000
DTEND;TZID=America/Detroit:20250306T090000
DTSTAMP:20260424T094544
CREATED:20250212T202317Z
LAST-MODIFIED:20250522T151751Z
UID:10006314-1741248000-1741251600@stvincentferrer.net
SUMMARY:Daily Mass 8am Monday thru Thursday (livestream)
DESCRIPTION:
URL:https://stvincentferrer.net/event/daily-mass-8am-monday-thru-thursday-livestream/2025-03-06/
CATEGORIES:Mass,Music,Worship
ATTACH;FMTTYPE=image/jpeg:https://stvincentferrer.net/wp-content/uploads/2025/02/Daily-Mass-scaled.jpg
END:VEVENT
BEGIN:VEVENT
DTSTART;TZID=America/Detroit:20250306T090000
DTEND;TZID=America/Detroit:20250306T093000
DTSTAMP:20260424T094544
CREATED:20250212T200207Z
LAST-MODIFIED:20260331T144257Z
UID:10006037-1741251600-1741253400@stvincentferrer.net
SUMMARY:Rosary - Thursdays following 8am mass ( also Livestream )
DESCRIPTION:
URL:https://stvincentferrer.net/event/rosary-thursdays-following-8am-mass-also-livestream/2025-03-06/
LOCATION:St. Vincent Ferrer Church\, 28353 Herbert\, Madison Heights\, MI\, 48071
CATEGORIES:Miscellaneous,Worship
ATTACH;FMTTYPE=image/jpeg:https://stvincentferrer.net/wp-content/uploads/2022/05/rosary.jpg
GEO:42.4992176;-83.0971204
X-APPLE-STRUCTURED-LOCATION;VALUE=URI;X-ADDRESS=St. Vincent Ferrer Church 28353 Herbert Madison Heights MI 48071;X-APPLE-RADIUS=500;X-TITLE=28353 Herbert:geo:-83.0971204,42.4992176
END:VEVENT
BEGIN:VEVENT
DTSTART;TZID=America/Detroit:20250307T190000
DTEND;TZID=America/Detroit:20250307T200000
DTSTAMP:20260424T094544
CREATED:20250115T201038Z
LAST-MODIFIED:20250305T205128Z
UID:10006016-1741374000-1741377600@stvincentferrer.net
SUMMARY:Stations of the Cross - Fridays during Lent @7pm
DESCRIPTION:
URL:https://stvincentferrer.net/event/stations-of-the-cross-fridays-during-lent-7pm/2025-03-07/
LOCATION:St. Vincent Ferrer Church\, 28353 Herbert\, Madison Heights\, MI\, 48071
CATEGORIES:Miscellaneous,Worship
ATTACH;FMTTYPE=image/jpeg:https://stvincentferrer.net/wp-content/uploads/2024/03/stations_of_the_cross.jpg
GEO:42.4992176;-83.0971204
X-APPLE-STRUCTURED-LOCATION;VALUE=URI;X-ADDRESS=St. Vincent Ferrer Church 28353 Herbert Madison Heights MI 48071;X-APPLE-RADIUS=500;X-TITLE=28353 Herbert:geo:-83.0971204,42.4992176
END:VEVENT
BEGIN:VEVENT
DTSTART;TZID=America/Detroit:20250309T090000
DTEND;TZID=America/Detroit:20250309T100000
DTSTAMP:20260424T094544
CREATED:20241211T193611Z
LAST-MODIFIED:20241211T193611Z
UID:10005908-1741510800-1741514400@stvincentferrer.net
SUMMARY:First Sunday of Lent - 9am
DESCRIPTION:
URL:https://stvincentferrer.net/event/first-sunday-of-lent-9am/
CATEGORIES:Mass,Miscellaneous,Special Mass,Worship
ATTACH;FMTTYPE=image/jpeg:https://stvincentferrer.net/wp-content/uploads/2024/12/FS-of-Lent.jpg
END:VEVENT
BEGIN:VEVENT
DTSTART;TZID=America/Detroit:20250310T080000
DTEND;TZID=America/Detroit:20250310T090000
DTSTAMP:20260424T094544
CREATED:20250212T202317Z
LAST-MODIFIED:20250522T151751Z
UID:10006317-1741593600-1741597200@stvincentferrer.net
SUMMARY:Daily Mass 8am Monday thru Thursday (livestream)
DESCRIPTION:
URL:https://stvincentferrer.net/event/daily-mass-8am-monday-thru-thursday-livestream/2025-03-10/
CATEGORIES:Mass,Music,Worship
ATTACH;FMTTYPE=image/jpeg:https://stvincentferrer.net/wp-content/uploads/2025/02/Daily-Mass-scaled.jpg
END:VEVENT
BEGIN:VEVENT
DTSTART;TZID=America/Detroit:20250310T181500
DTEND;TZID=America/Detroit:20250310T193000
DTSTAMP:20260424T094544
CREATED:20240806T155944Z
LAST-MODIFIED:20241205T200516Z
UID:10005760-1741630500-1741635000@stvincentferrer.net
SUMMARY:Religious Education Classes 2024-25
DESCRIPTION:
URL:https://stvincentferrer.net/event/religious-education-classes-2024-25/2025-03-10/
LOCATION:School Building\, 1075 E. Gardenia\, Madison Heights\, MI\, 48071\, United States
CATEGORIES:Youth Faith Formation
ATTACH;FMTTYPE=image/jpeg:https://stvincentferrer.net/wp-content/uploads/2021/09/faith-formation.jpg
ORGANIZER;CN="Matthew Zinser":MAILTO:Matthew@stvincentferrer.net
GEO:42.4991272;-83.0960313
X-APPLE-STRUCTURED-LOCATION;VALUE=URI;X-ADDRESS=School Building 1075 E. Gardenia Madison Heights MI 48071 United States;X-APPLE-RADIUS=500;X-TITLE=1075 E. Gardenia:geo:-83.0960313,42.4991272
END:VEVENT
BEGIN:VEVENT
DTSTART;TZID=America/Detroit:20250311T080000
DTEND;TZID=America/Detroit:20250311T090000
DTSTAMP:20260424T094544
CREATED:20250212T202317Z
LAST-MODIFIED:20250522T151751Z
UID:10006318-1741680000-1741683600@stvincentferrer.net
SUMMARY:Daily Mass 8am Monday thru Thursday (livestream)
DESCRIPTION:
URL:https://stvincentferrer.net/event/daily-mass-8am-monday-thru-thursday-livestream/2025-03-11/
CATEGORIES:Mass,Music,Worship
ATTACH;FMTTYPE=image/jpeg:https://stvincentferrer.net/wp-content/uploads/2025/02/Daily-Mass-scaled.jpg
END:VEVENT
BEGIN:VEVENT
DTSTART;TZID=America/Detroit:20250311T180000
DTEND;TZID=America/Detroit:20250311T190000
DTSTAMP:20260424T094544
CREATED:20250311T183840Z
LAST-MODIFIED:20250311T183840Z
UID:10008015-1741716000-1741719600@stvincentferrer.net
SUMMARY:SVDP - Meeting Faith Formation Office 6pm
DESCRIPTION:
URL:https://stvincentferrer.net/event/svdp-meeting-faith-formation-office-6pm/
CATEGORIES:Christian Service,Committee Meeting,Miscellaneous
ATTACH;FMTTYPE=image/jpeg:https://stvincentferrer.net/wp-content/uploads/2024/03/1453731561-logo-SVDP.jpg
END:VEVENT
BEGIN:VEVENT
DTSTART;TZID=America/Detroit:20250311T190000
DTEND;TZID=America/Detroit:20250311T203000
DTSTAMP:20260424T094544
CREATED:20250115T193953Z
LAST-MODIFIED:20250115T193953Z
UID:10006015-1741719600-1741725000@stvincentferrer.net
SUMMARY:Intergenerational Healing Mass - 7pm
DESCRIPTION:
URL:https://stvincentferrer.net/event/intergenerational-healing-mass-7pm-4/
LOCATION:St. Vincent Ferrer Church\, 28353 Herbert\, Madison Heights\, MI\, 48071
CATEGORIES:Healing Ministry,Special Mass,Worship
ATTACH;FMTTYPE=image/jpeg:https://stvincentferrer.net/wp-content/uploads/2024/07/intergenerational-1.jpg
GEO:42.4992176;-83.0971204
X-APPLE-STRUCTURED-LOCATION;VALUE=URI;X-ADDRESS=St. Vincent Ferrer Church 28353 Herbert Madison Heights MI 48071;X-APPLE-RADIUS=500;X-TITLE=28353 Herbert:geo:-83.0971204,42.4992176
END:VEVENT
BEGIN:VEVENT
DTSTART;TZID=America/Detroit:20250312T080000
DTEND;TZID=America/Detroit:20250312T090000
DTSTAMP:20260424T094544
CREATED:20250212T202317Z
LAST-MODIFIED:20250522T151751Z
UID:10006319-1741766400-1741770000@stvincentferrer.net
SUMMARY:Daily Mass 8am Monday thru Thursday (livestream)
DESCRIPTION:
URL:https://stvincentferrer.net/event/daily-mass-8am-monday-thru-thursday-livestream/2025-03-12/
CATEGORIES:Mass,Music,Worship
ATTACH;FMTTYPE=image/jpeg:https://stvincentferrer.net/wp-content/uploads/2025/02/Daily-Mass-scaled.jpg
END:VEVENT
BEGIN:VEVENT
DTSTART;TZID=America/Detroit:20250312T090000
DTEND;TZID=America/Detroit:20250312T110000
DTSTAMP:20260424T094544
CREATED:20250115T200122Z
LAST-MODIFIED:20250115T200123Z
UID:10005956-1741770000-1741777200@stvincentferrer.net
SUMMARY:Breakfast Book Study - Desiring  God's Will - Wednesdays 9am
DESCRIPTION:
URL:https://stvincentferrer.net/event/breakfast-book-study-desiring-gods-will-wednesdays-9am-2/2025-03-12/
CATEGORIES:Adult Faith Formation,Christian Service,Miscellaneous
ORGANIZER;CN="Deborah Tourville":MAILTO:debbie@stvincentferrer.net
END:VEVENT
BEGIN:VEVENT
DTSTART;TZID=America/Detroit:20250312T190000
DTEND;TZID=America/Detroit:20250312T200000
DTSTAMP:20260424T094544
CREATED:20250210T161321Z
LAST-MODIFIED:20250212T195712Z
UID:10006030-1741806000-1741809600@stvincentferrer.net
SUMMARY:Fr. John's Lenten Reflection - "Building Pathways of Hope"  7pm Wednesdays\, March 12\,19\, 26  April 2\, 2025
DESCRIPTION:Virtual Soup Supper
URL:https://stvincentferrer.net/event/fr-johns-lenten-reflection-7pm-march-12-april-2-2025/2025-03-12/
LOCATION:St. Vincent Ferrer Church\, 28353 Herbert\, Madison Heights\, MI\, 48071
CATEGORIES:Christian Service,Miscellaneous
ATTACH;FMTTYPE=image/jpeg:https://stvincentferrer.net/wp-content/uploads/2025/03/LentenReflections_home.jpg
GEO:42.4992176;-83.0971204
X-APPLE-STRUCTURED-LOCATION;VALUE=URI;X-ADDRESS=St. Vincent Ferrer Church 28353 Herbert Madison Heights MI 48071;X-APPLE-RADIUS=500;X-TITLE=28353 Herbert:geo:-83.0971204,42.4992176
END:VEVENT
BEGIN:VEVENT
DTSTART;TZID=America/Detroit:20250313T080000
DTEND;TZID=America/Detroit:20250313T090000
DTSTAMP:20260424T094544
CREATED:20250212T202317Z
LAST-MODIFIED:20250522T151751Z
UID:10006320-1741852800-1741856400@stvincentferrer.net
SUMMARY:Daily Mass 8am Monday thru Thursday (livestream)
DESCRIPTION:
URL:https://stvincentferrer.net/event/daily-mass-8am-monday-thru-thursday-livestream/2025-03-13/
CATEGORIES:Mass,Music,Worship
ATTACH;FMTTYPE=image/jpeg:https://stvincentferrer.net/wp-content/uploads/2025/02/Daily-Mass-scaled.jpg
END:VEVENT
BEGIN:VEVENT
DTSTART;TZID=America/Detroit:20250313T090000
DTEND;TZID=America/Detroit:20250313T093000
DTSTAMP:20260424T094544
CREATED:20250212T200207Z
LAST-MODIFIED:20260331T144257Z
UID:10006038-1741856400-1741858200@stvincentferrer.net
SUMMARY:Rosary - Thursdays following 8am mass ( also Livestream )
DESCRIPTION:
URL:https://stvincentferrer.net/event/rosary-thursdays-following-8am-mass-also-livestream/2025-03-13/
LOCATION:St. Vincent Ferrer Church\, 28353 Herbert\, Madison Heights\, MI\, 48071
CATEGORIES:Miscellaneous,Worship
ATTACH;FMTTYPE=image/jpeg:https://stvincentferrer.net/wp-content/uploads/2022/05/rosary.jpg
GEO:42.4992176;-83.0971204
X-APPLE-STRUCTURED-LOCATION;VALUE=URI;X-ADDRESS=St. Vincent Ferrer Church 28353 Herbert Madison Heights MI 48071;X-APPLE-RADIUS=500;X-TITLE=28353 Herbert:geo:-83.0971204,42.4992176
END:VEVENT
BEGIN:VEVENT
DTSTART;TZID=America/Detroit:20250314T190000
DTEND;TZID=America/Detroit:20250314T200000
DTSTAMP:20260424T094544
CREATED:20250115T201038Z
LAST-MODIFIED:20250305T205128Z
UID:10006017-1741978800-1741982400@stvincentferrer.net
SUMMARY:Stations of the Cross - Fridays during Lent @7pm
DESCRIPTION:
URL:https://stvincentferrer.net/event/stations-of-the-cross-fridays-during-lent-7pm/2025-03-14/
LOCATION:St. Vincent Ferrer Church\, 28353 Herbert\, Madison Heights\, MI\, 48071
CATEGORIES:Miscellaneous,Worship
ATTACH;FMTTYPE=image/jpeg:https://stvincentferrer.net/wp-content/uploads/2024/03/stations_of_the_cross.jpg
GEO:42.4992176;-83.0971204
X-APPLE-STRUCTURED-LOCATION;VALUE=URI;X-ADDRESS=St. Vincent Ferrer Church 28353 Herbert Madison Heights MI 48071;X-APPLE-RADIUS=500;X-TITLE=28353 Herbert:geo:-83.0971204,42.4992176
END:VEVENT
BEGIN:VEVENT
DTSTART;TZID=America/Detroit:20250315T090000
DTEND;TZID=America/Detroit:20250315T110000
DTSTAMP:20260424T094544
CREATED:20240821T191450Z
LAST-MODIFIED:20240821T191450Z
UID:10004928-1742029200-1742036400@stvincentferrer.net
SUMMARY:Men's Fellowship and Scripture Reflection
DESCRIPTION:The men’s fellowship group gathers for a scripture reflection/sharing every other Saturday at 9am in the Faith Formation office of the school building.
URL:https://stvincentferrer.net/event/mens-fellowship-and-scripture-reflection-2-2/2025-03-15/
LOCATION:Faith Formation Office\, 1075 E. Gardenia\, Madison Heights\, MI\, United States
CATEGORIES:Adult Faith Formation
ATTACH;FMTTYPE=image/png:https://stvincentferrer.net/wp-content/uploads/2022/01/Mens-Fellowship-1-1.png
ORGANIZER;CN="Tom Karolski":MAILTO:debbie@stvincentferrer.net
GEO:42.4991272;-83.0960313
X-APPLE-STRUCTURED-LOCATION;VALUE=URI;X-ADDRESS=Faith Formation Office 1075 E. Gardenia Madison Heights MI United States;X-APPLE-RADIUS=500;X-TITLE=1075 E. Gardenia:geo:-83.0960313,42.4991272
END:VEVENT
BEGIN:VEVENT
DTSTART;TZID=America/Detroit:20250316T100000
DTEND;TZID=America/Detroit:20250316T110000
DTSTAMP:20260424T094544
CREATED:20250224T193545Z
LAST-MODIFIED:20250306T144820Z
UID:10007862-1742119200-1742122800@stvincentferrer.net
SUMMARY:Coffee and Donuts
DESCRIPTION: 
URL:https://stvincentferrer.net/event/coffee-and-donuts-19/
CATEGORIES:Christian Service,Miscellaneous
ATTACH;FMTTYPE=image/jpeg:https://stvincentferrer.net/wp-content/uploads/2023/06/donuts23.jpg
END:VEVENT
BEGIN:VEVENT
DTSTART;TZID=America/Detroit:20250316T100000
DTEND;TZID=America/Detroit:20250316T110000
DTSTAMP:20260424T094544
CREATED:20250224T193732Z
LAST-MODIFIED:20250306T144740Z
UID:10007863-1742119200-1742122800@stvincentferrer.net
SUMMARY:Blood Pressure Checks
DESCRIPTION:
URL:https://stvincentferrer.net/event/blood-pressure-checks-20/
CATEGORIES:Christian Service,Miscellaneous
ATTACH;FMTTYPE=image/jpeg:https://stvincentferrer.net/wp-content/uploads/2022/12/blood-pressure.jpg
END:VEVENT
BEGIN:VEVENT
DTSTART;TZID=America/Detroit:20250317T080000
DTEND;TZID=America/Detroit:20250317T090000
DTSTAMP:20260424T094544
CREATED:20250212T202317Z
LAST-MODIFIED:20250522T151751Z
UID:10006323-1742198400-1742202000@stvincentferrer.net
SUMMARY:Daily Mass 8am Monday thru Thursday (livestream)
DESCRIPTION:
URL:https://stvincentferrer.net/event/daily-mass-8am-monday-thru-thursday-livestream/2025-03-17/
CATEGORIES:Mass,Music,Worship
ATTACH;FMTTYPE=image/jpeg:https://stvincentferrer.net/wp-content/uploads/2025/02/Daily-Mass-scaled.jpg
END:VEVENT
BEGIN:VEVENT
DTSTART;TZID=America/Detroit:20250317T181500
DTEND;TZID=America/Detroit:20250317T193000
DTSTAMP:20260424T094544
CREATED:20240806T155944Z
LAST-MODIFIED:20241205T200516Z
UID:10005761-1742235300-1742239800@stvincentferrer.net
SUMMARY:Religious Education Classes 2024-25
DESCRIPTION:
URL:https://stvincentferrer.net/event/religious-education-classes-2024-25/2025-03-17/
LOCATION:School Building\, 1075 E. Gardenia\, Madison Heights\, MI\, 48071\, United States
CATEGORIES:Youth Faith Formation
ATTACH;FMTTYPE=image/jpeg:https://stvincentferrer.net/wp-content/uploads/2021/09/faith-formation.jpg
ORGANIZER;CN="Matthew Zinser":MAILTO:Matthew@stvincentferrer.net
GEO:42.4991272;-83.0960313
X-APPLE-STRUCTURED-LOCATION;VALUE=URI;X-ADDRESS=School Building 1075 E. Gardenia Madison Heights MI 48071 United States;X-APPLE-RADIUS=500;X-TITLE=1075 E. Gardenia:geo:-83.0960313,42.4991272
END:VEVENT
END:VCALENDAR