BEGIN:VCALENDAR
VERSION:2.0
PRODID:-//St. Vincent Ferrer Catholic Church - ECPv6.15.20//NONSGML v1.0//EN
CALSCALE:GREGORIAN
METHOD:PUBLISH
X-ORIGINAL-URL:https://stvincentferrer.net
X-WR-CALDESC:Events for St. Vincent Ferrer Catholic Church
REFRESH-INTERVAL;VALUE=DURATION:PT1H
X-Robots-Tag:noindex
X-PUBLISHED-TTL:PT1H
BEGIN:VTIMEZONE
TZID:America/Detroit
BEGIN:DAYLIGHT
TZOFFSETFROM:-0500
TZOFFSETTO:-0400
TZNAME:EDT
DTSTART:20230312T070000
END:DAYLIGHT
BEGIN:STANDARD
TZOFFSETFROM:-0400
TZOFFSETTO:-0500
TZNAME:EST
DTSTART:20231105T060000
END:STANDARD
BEGIN:DAYLIGHT
TZOFFSETFROM:-0500
TZOFFSETTO:-0400
TZNAME:EDT
DTSTART:20240310T070000
END:DAYLIGHT
BEGIN:STANDARD
TZOFFSETFROM:-0400
TZOFFSETTO:-0500
TZNAME:EST
DTSTART:20241103T060000
END:STANDARD
BEGIN:DAYLIGHT
TZOFFSETFROM:-0500
TZOFFSETTO:-0400
TZNAME:EDT
DTSTART:20250309T070000
END:DAYLIGHT
BEGIN:STANDARD
TZOFFSETFROM:-0400
TZOFFSETTO:-0500
TZNAME:EST
DTSTART:20251102T060000
END:STANDARD
END:VTIMEZONE
BEGIN:VEVENT
DTSTART;TZID=America/Detroit:20241201T140000
DTEND;TZID=America/Detroit:20241201T160000
DTSTAMP:20260424T152209
CREATED:20241107T175001Z
LAST-MODIFIED:20241107T175001Z
UID:10005889-1733061600-1733068800@stvincentferrer.net
SUMMARY:Advent Tea - Sunday\, December 1\, 2024
DESCRIPTION:
URL:https://stvincentferrer.net/event/advent-tea-sunday-december-1-2024/
LOCATION:Hall Administration Building\, 28353 Herbert\, Madison Heights\, MI\, 48071
CATEGORIES:Christian Service,Miscellaneous
GEO:42.4992176;-83.0971204
X-APPLE-STRUCTURED-LOCATION;VALUE=URI;X-ADDRESS=Hall Administration Building 28353 Herbert Madison Heights MI 48071;X-APPLE-RADIUS=500;X-TITLE=28353 Herbert:geo:-83.0971204,42.4992176
END:VEVENT
BEGIN:VEVENT
DTSTART;TZID=America/Detroit:20241202T181500
DTEND;TZID=America/Detroit:20241202T193000
DTSTAMP:20260424T152209
CREATED:20240806T155944Z
LAST-MODIFIED:20241205T200516Z
UID:10005749-1733163300-1733167800@stvincentferrer.net
SUMMARY:Religious Education Classes 2024-25
DESCRIPTION:
URL:https://stvincentferrer.net/event/religious-education-classes-2024-25/2024-12-02/
LOCATION:School Building\, 1075 E. Gardenia\, Madison Heights\, MI\, 48071\, United States
CATEGORIES:Youth Faith Formation
ATTACH;FMTTYPE=image/jpeg:https://stvincentferrer.net/wp-content/uploads/2021/09/faith-formation.jpg
ORGANIZER;CN="Matthew Zinser":MAILTO:Matthew@stvincentferrer.net
GEO:42.4991272;-83.0960313
X-APPLE-STRUCTURED-LOCATION;VALUE=URI;X-ADDRESS=School Building 1075 E. Gardenia Madison Heights MI 48071 United States;X-APPLE-RADIUS=500;X-TITLE=1075 E. Gardenia:geo:-83.0960313,42.4991272
END:VEVENT
BEGIN:VEVENT
DTSTART;TZID=America/Detroit:20241203T090000
DTEND;TZID=America/Detroit:20241203T100000
DTSTAMP:20260424T152209
CREATED:20240716T124106Z
LAST-MODIFIED:20250520T175015Z
UID:10005482-1733216400-1733220000@stvincentferrer.net
SUMMARY:Adoration - Every Tuesday 9am following Mass
DESCRIPTION:
URL:https://stvincentferrer.net/event/adoration-every-tuesday-9am-following-mass/2024-12-03/
CATEGORIES:Worship
ATTACH;FMTTYPE=image/jpeg:https://stvincentferrer.net/wp-content/uploads/2017/03/Monstrance-1.jpg
END:VEVENT
BEGIN:VEVENT
DTSTART;TZID=America/Detroit:20241204T090000
DTEND;TZID=America/Detroit:20241204T110000
DTSTAMP:20260424T152209
CREATED:20240625T140319Z
LAST-MODIFIED:20240625T140319Z
UID:10005194-1733302800-1733310000@stvincentferrer.net
SUMMARY:Breakfast Book Study - The Gift of Being Yourself
DESCRIPTION:In this profound exploration of Christianity identity\, psychologist and spiritual director David G. Benner illuminates the spirituality of self-discovery. He exposes the false selves that we hide behind and calls us to discover the true self that emerges from uniqueness in Christ.\n 
URL:https://stvincentferrer.net/event/breakfast-book-study-the-gift-of-being-yourself/2024-12-04/
LOCATION:Hall Administration Building\, 28353 Herbert\, Madison Heights\, MI\, 48071
CATEGORIES:Adult Faith Formation,Christian Service,Miscellaneous
ORGANIZER;CN="Deborah Tourville":MAILTO:debbie@stvincentferrer.net
GEO:42.4992176;-83.0971204
X-APPLE-STRUCTURED-LOCATION;VALUE=URI;X-ADDRESS=Hall Administration Building 28353 Herbert Madison Heights MI 48071;X-APPLE-RADIUS=500;X-TITLE=28353 Herbert:geo:-83.0971204,42.4992176
END:VEVENT
BEGIN:VEVENT
DTSTART;TZID=America/Detroit:20241204T190000
DTEND;TZID=America/Detroit:20241204T203000
DTSTAMP:20260424T152209
CREATED:20240822T172729Z
LAST-MODIFIED:20240822T172729Z
UID:10005836-1733338800-1733344200@stvincentferrer.net
SUMMARY:Choir Practice 7pm - Admin. Office
DESCRIPTION:  \n\n\nMusic Ministers must commit to a weekly rehearsal schedule\n\n\nParticipation in the majority of Eucharistic Celebrations throughout the year (September-May)\n\n\nNew members are welcome. Please contact us to schedule an audition.
URL:https://stvincentferrer.net/event/choir-practice-7pm-admin-office/2024-12-04/
LOCATION:Choir Room\, 28353 Herbert\, Madison Heights\, MI\, 48071
CATEGORIES:Music
ATTACH;FMTTYPE=image/jpeg:https://stvincentferrer.net/wp-content/uploads/2023/09/choir-practice-e1732115310867.jpg
GEO:42.4992176;-83.0971204
X-APPLE-STRUCTURED-LOCATION;VALUE=URI;X-ADDRESS=Choir Room 28353 Herbert Madison Heights MI 48071;X-APPLE-RADIUS=500;X-TITLE=28353 Herbert:geo:-83.0971204,42.4992176
END:VEVENT
BEGIN:VEVENT
DTSTART;TZID=America/Detroit:20241207T090000
DTEND;TZID=America/Detroit:20241207T110000
DTSTAMP:20260424T152209
CREATED:20240821T191450Z
LAST-MODIFIED:20240821T191450Z
UID:10003275-1733562000-1733569200@stvincentferrer.net
SUMMARY:Men's Fellowship and Scripture Reflection
DESCRIPTION:The men’s fellowship group gathers for a scripture reflection/sharing every other Saturday at 9am in the Faith Formation office of the school building.
URL:https://stvincentferrer.net/event/mens-fellowship-and-scripture-reflection-2-2/2024-12-07/
LOCATION:Faith Formation Office\, 1075 E. Gardenia\, Madison Heights\, MI\, United States
CATEGORIES:Adult Faith Formation
ATTACH;FMTTYPE=image/png:https://stvincentferrer.net/wp-content/uploads/2022/01/Mens-Fellowship-1-1.png
ORGANIZER;CN="Tom Karolski":MAILTO:debbie@stvincentferrer.net
GEO:42.4991272;-83.0960313
X-APPLE-STRUCTURED-LOCATION;VALUE=URI;X-ADDRESS=Faith Formation Office 1075 E. Gardenia Madison Heights MI United States;X-APPLE-RADIUS=500;X-TITLE=1075 E. Gardenia:geo:-83.0960313,42.4991272
END:VEVENT
BEGIN:VEVENT
DTSTART;TZID=America/Detroit:20241207T173000
DTEND;TZID=America/Detroit:20241207T220000
DTSTAMP:20260424T152209
CREATED:20241029T175246Z
LAST-MODIFIED:20241029T175246Z
UID:10005886-1733592600-1733608800@stvincentferrer.net
SUMMARY:Fr. John Ordination & Vocations Dinner
DESCRIPTION:
URL:https://stvincentferrer.net/event/fr-john-ordination-vocations-dinner/
LOCATION:Church Hall\, 28353 Herbert\, Madison Heights\, MI\, 48071
CATEGORIES:Miscellaneous,Worship
GEO:42.4992176;-83.0971204
X-APPLE-STRUCTURED-LOCATION;VALUE=URI;X-ADDRESS=Church Hall 28353 Herbert Madison Heights MI 48071;X-APPLE-RADIUS=500;X-TITLE=28353 Herbert:geo:-83.0971204,42.4992176
END:VEVENT
BEGIN:VEVENT
DTSTART;TZID=America/Detroit:20241208T100000
DTEND;TZID=America/Detroit:20241208T110000
DTSTAMP:20260424T152209
CREATED:20241112T145124Z
LAST-MODIFIED:20241112T145124Z
UID:10005893-1733652000-1733655600@stvincentferrer.net
SUMMARY:Blood Pressure Checks
DESCRIPTION:
URL:https://stvincentferrer.net/event/blood-pressure-checks-19/
LOCATION:Church Hall\, 28353 Herbert\, Madison Heights\, MI\, 48071
CATEGORIES:Christian Service
ATTACH;FMTTYPE=image/png:https://stvincentferrer.net/wp-content/uploads/2021/09/blood-pressure.png
GEO:42.4992176;-83.0971204
X-APPLE-STRUCTURED-LOCATION;VALUE=URI;X-ADDRESS=Church Hall 28353 Herbert Madison Heights MI 48071;X-APPLE-RADIUS=500;X-TITLE=28353 Herbert:geo:-83.0971204,42.4992176
END:VEVENT
BEGIN:VEVENT
DTSTART;TZID=America/Detroit:20241208T100000
DTEND;TZID=America/Detroit:20241208T110000
DTSTAMP:20260424T152209
CREATED:20241112T145319Z
LAST-MODIFIED:20241112T145319Z
UID:10005894-1733652000-1733655600@stvincentferrer.net
SUMMARY:Coffee & Donuts
DESCRIPTION:
URL:https://stvincentferrer.net/event/coffee-donuts-8/
CATEGORIES:Christian Service
ATTACH;FMTTYPE=image/jpeg:https://stvincentferrer.net/wp-content/uploads/2017/03/coffee-and-donuts-clipart-coffeedonut.jpg
END:VEVENT
BEGIN:VEVENT
DTSTART;TZID=America/Detroit:20241209T080000
DTEND;TZID=America/Detroit:20241209T090000
DTSTAMP:20260424T152209
CREATED:20241112T151421Z
LAST-MODIFIED:20241112T183653Z
UID:10005895-1733731200-1733734800@stvincentferrer.net
SUMMARY:Immaculate Conception Mass
DESCRIPTION:
URL:https://stvincentferrer.net/event/immaculate-conception-mass/
LOCATION:St. Vincent Ferrer Church\, 28353 Herbert\, Madison Heights\, MI\, 48071
CATEGORIES:Mass,Special Mass
GEO:42.4992176;-83.0971204
X-APPLE-STRUCTURED-LOCATION;VALUE=URI;X-ADDRESS=St. Vincent Ferrer Church 28353 Herbert Madison Heights MI 48071;X-APPLE-RADIUS=500;X-TITLE=28353 Herbert:geo:-83.0971204,42.4992176
END:VEVENT
BEGIN:VEVENT
DTSTART;TZID=America/Detroit:20241209T181500
DTEND;TZID=America/Detroit:20241209T193000
DTSTAMP:20260424T152209
CREATED:20240806T155944Z
LAST-MODIFIED:20241205T200516Z
UID:10005750-1733768100-1733772600@stvincentferrer.net
SUMMARY:Religious Education Classes 2024-25
DESCRIPTION:
URL:https://stvincentferrer.net/event/religious-education-classes-2024-25/2024-12-09/
LOCATION:School Building\, 1075 E. Gardenia\, Madison Heights\, MI\, 48071\, United States
CATEGORIES:Youth Faith Formation
ATTACH;FMTTYPE=image/jpeg:https://stvincentferrer.net/wp-content/uploads/2021/09/faith-formation.jpg
ORGANIZER;CN="Matthew Zinser":MAILTO:Matthew@stvincentferrer.net
GEO:42.4991272;-83.0960313
X-APPLE-STRUCTURED-LOCATION;VALUE=URI;X-ADDRESS=School Building 1075 E. Gardenia Madison Heights MI 48071 United States;X-APPLE-RADIUS=500;X-TITLE=1075 E. Gardenia:geo:-83.0960313,42.4991272
END:VEVENT
BEGIN:VEVENT
DTSTART;TZID=America/Detroit:20241210T090000
DTEND;TZID=America/Detroit:20241210T100000
DTSTAMP:20260424T152209
CREATED:20240716T124106Z
LAST-MODIFIED:20250520T175015Z
UID:10005483-1733821200-1733824800@stvincentferrer.net
SUMMARY:Adoration - Every Tuesday 9am following Mass
DESCRIPTION:
URL:https://stvincentferrer.net/event/adoration-every-tuesday-9am-following-mass/2024-12-10/
CATEGORIES:Worship
ATTACH;FMTTYPE=image/jpeg:https://stvincentferrer.net/wp-content/uploads/2017/03/Monstrance-1.jpg
END:VEVENT
BEGIN:VEVENT
DTSTART;TZID=America/Detroit:20241210T183000
DTEND;TZID=America/Detroit:20241210T193000
DTSTAMP:20260424T152209
CREATED:20241113T183457Z
LAST-MODIFIED:20241113T183457Z
UID:10005896-1733855400-1733859000@stvincentferrer.net
SUMMARY:St. Vincent de Paul Society
DESCRIPTION:Anyone with a compassionate interest in helping those\nin need is welcome to attend the meeting.\nIf you are interested in joining St. Vincent de Paul\nSociety\, we meet at the back of the Church every 2nd\nTuesday of the month from 6:30PM to 8PM. You can\nalso reach us at svfconference@gmail.com.
URL:https://stvincentferrer.net/event/st-vincent-de-paul-society-3/
LOCATION:St. Vincent Ferrer Church\, 28353 Herbert\, Madison Heights\, MI\, 48071
CATEGORIES:Committee Meeting
ATTACH;FMTTYPE=image/jpeg:https://stvincentferrer.net/wp-content/uploads/2024/03/1453731561-logo-SVDP.jpg
GEO:42.4992176;-83.0971204
X-APPLE-STRUCTURED-LOCATION;VALUE=URI;X-ADDRESS=St. Vincent Ferrer Church 28353 Herbert Madison Heights MI 48071;X-APPLE-RADIUS=500;X-TITLE=28353 Herbert:geo:-83.0971204,42.4992176
END:VEVENT
BEGIN:VEVENT
DTSTART;TZID=America/Detroit:20241211T090000
DTEND;TZID=America/Detroit:20241211T110000
DTSTAMP:20260424T152209
CREATED:20240625T140319Z
LAST-MODIFIED:20240625T140319Z
UID:10005195-1733907600-1733914800@stvincentferrer.net
SUMMARY:Breakfast Book Study - The Gift of Being Yourself
DESCRIPTION:In this profound exploration of Christianity identity\, psychologist and spiritual director David G. Benner illuminates the spirituality of self-discovery. He exposes the false selves that we hide behind and calls us to discover the true self that emerges from uniqueness in Christ.\n 
URL:https://stvincentferrer.net/event/breakfast-book-study-the-gift-of-being-yourself/2024-12-11/
LOCATION:Hall Administration Building\, 28353 Herbert\, Madison Heights\, MI\, 48071
CATEGORIES:Adult Faith Formation,Christian Service,Miscellaneous
ORGANIZER;CN="Deborah Tourville":MAILTO:debbie@stvincentferrer.net
GEO:42.4992176;-83.0971204
X-APPLE-STRUCTURED-LOCATION;VALUE=URI;X-ADDRESS=Hall Administration Building 28353 Herbert Madison Heights MI 48071;X-APPLE-RADIUS=500;X-TITLE=28353 Herbert:geo:-83.0971204,42.4992176
END:VEVENT
BEGIN:VEVENT
DTSTART;TZID=America/Detroit:20241211T190000
DTEND;TZID=America/Detroit:20241211T203000
DTSTAMP:20260424T152209
CREATED:20240822T172729Z
LAST-MODIFIED:20240822T172729Z
UID:10005837-1733943600-1733949000@stvincentferrer.net
SUMMARY:Choir Practice 7pm - Admin. Office
DESCRIPTION:  \n\n\nMusic Ministers must commit to a weekly rehearsal schedule\n\n\nParticipation in the majority of Eucharistic Celebrations throughout the year (September-May)\n\n\nNew members are welcome. Please contact us to schedule an audition.
URL:https://stvincentferrer.net/event/choir-practice-7pm-admin-office/2024-12-11/
LOCATION:Choir Room\, 28353 Herbert\, Madison Heights\, MI\, 48071
CATEGORIES:Music
ATTACH;FMTTYPE=image/jpeg:https://stvincentferrer.net/wp-content/uploads/2023/09/choir-practice-e1732115310867.jpg
GEO:42.4992176;-83.0971204
X-APPLE-STRUCTURED-LOCATION;VALUE=URI;X-ADDRESS=Choir Room 28353 Herbert Madison Heights MI 48071;X-APPLE-RADIUS=500;X-TITLE=28353 Herbert:geo:-83.0971204,42.4992176
END:VEVENT
BEGIN:VEVENT
DTSTART;TZID=America/Detroit:20241216T181500
DTEND;TZID=America/Detroit:20241216T193000
DTSTAMP:20260424T152209
CREATED:20240806T155944Z
LAST-MODIFIED:20241205T200516Z
UID:10005751-1734372900-1734377400@stvincentferrer.net
SUMMARY:Religious Education Classes 2024-25
DESCRIPTION:
URL:https://stvincentferrer.net/event/religious-education-classes-2024-25/2024-12-16/
LOCATION:School Building\, 1075 E. Gardenia\, Madison Heights\, MI\, 48071\, United States
CATEGORIES:Youth Faith Formation
ATTACH;FMTTYPE=image/jpeg:https://stvincentferrer.net/wp-content/uploads/2021/09/faith-formation.jpg
ORGANIZER;CN="Matthew Zinser":MAILTO:Matthew@stvincentferrer.net
GEO:42.4991272;-83.0960313
X-APPLE-STRUCTURED-LOCATION;VALUE=URI;X-ADDRESS=School Building 1075 E. Gardenia Madison Heights MI 48071 United States;X-APPLE-RADIUS=500;X-TITLE=1075 E. Gardenia:geo:-83.0960313,42.4991272
END:VEVENT
BEGIN:VEVENT
DTSTART;TZID=America/Detroit:20241216T183000
DTEND;TZID=America/Detroit:20241216T200000
DTSTAMP:20260424T152209
CREATED:20241107T193624Z
LAST-MODIFIED:20241113T203259Z
UID:10005891-1734373800-1734379200@stvincentferrer.net
SUMMARY:STAY AWAKE \, THE KING IS COMING!
DESCRIPTION:Featuring the Faith Formation students and SVF choir.\n 
URL:https://stvincentferrer.net/event/stay-awake-the-king-is-coming/
LOCATION:St. Vincent Ferrer Church\, 28353 Herbert\, Madison Heights\, MI\, 48071
CATEGORIES:Miscellaneous,Worship,Youth Faith Formation
ORGANIZER;CN="Matthew Zinser":MAILTO:Matthew@stvincentferrer.net
GEO:42.4992176;-83.0971204
X-APPLE-STRUCTURED-LOCATION;VALUE=URI;X-ADDRESS=St. Vincent Ferrer Church 28353 Herbert Madison Heights MI 48071;X-APPLE-RADIUS=500;X-TITLE=28353 Herbert:geo:-83.0971204,42.4992176
END:VEVENT
BEGIN:VEVENT
DTSTART;TZID=America/Detroit:20241217T090000
DTEND;TZID=America/Detroit:20241217T100000
DTSTAMP:20260424T152209
CREATED:20240716T124106Z
LAST-MODIFIED:20250520T175015Z
UID:10005484-1734426000-1734429600@stvincentferrer.net
SUMMARY:Adoration - Every Tuesday 9am following Mass
DESCRIPTION:
URL:https://stvincentferrer.net/event/adoration-every-tuesday-9am-following-mass/2024-12-17/
CATEGORIES:Worship
ATTACH;FMTTYPE=image/jpeg:https://stvincentferrer.net/wp-content/uploads/2017/03/Monstrance-1.jpg
END:VEVENT
BEGIN:VEVENT
DTSTART;TZID=America/Detroit:20241218T090000
DTEND;TZID=America/Detroit:20241218T110000
DTSTAMP:20260424T152209
CREATED:20240625T140319Z
LAST-MODIFIED:20240625T140319Z
UID:10005196-1734512400-1734519600@stvincentferrer.net
SUMMARY:Breakfast Book Study - The Gift of Being Yourself
DESCRIPTION:In this profound exploration of Christianity identity\, psychologist and spiritual director David G. Benner illuminates the spirituality of self-discovery. He exposes the false selves that we hide behind and calls us to discover the true self that emerges from uniqueness in Christ.\n 
URL:https://stvincentferrer.net/event/breakfast-book-study-the-gift-of-being-yourself/2024-12-18/
LOCATION:Hall Administration Building\, 28353 Herbert\, Madison Heights\, MI\, 48071
CATEGORIES:Adult Faith Formation,Christian Service,Miscellaneous
ORGANIZER;CN="Deborah Tourville":MAILTO:debbie@stvincentferrer.net
GEO:42.4992176;-83.0971204
X-APPLE-STRUCTURED-LOCATION;VALUE=URI;X-ADDRESS=Hall Administration Building 28353 Herbert Madison Heights MI 48071;X-APPLE-RADIUS=500;X-TITLE=28353 Herbert:geo:-83.0971204,42.4992176
END:VEVENT
BEGIN:VEVENT
DTSTART;TZID=America/Detroit:20241218T190000
DTEND;TZID=America/Detroit:20241218T200000
DTSTAMP:20260424T152209
CREATED:20241113T205525Z
LAST-MODIFIED:20241113T205525Z
UID:10005900-1734548400-1734552000@stvincentferrer.net
SUMMARY:Communal Penance 7pm
DESCRIPTION:
URL:https://stvincentferrer.net/event/communal-penance-7pm-6/
CATEGORIES:Miscellaneous,Special Mass
ATTACH;FMTTYPE=image/jpeg:https://stvincentferrer.net/wp-content/uploads/2022/11/penance-service.jpg
END:VEVENT
BEGIN:VEVENT
DTSTART;TZID=America/Detroit:20241221T090000
DTEND;TZID=America/Detroit:20241221T110000
DTSTAMP:20260424T152209
CREATED:20240821T191450Z
LAST-MODIFIED:20240821T191450Z
UID:10003276-1734771600-1734778800@stvincentferrer.net
SUMMARY:Men's Fellowship and Scripture Reflection
DESCRIPTION:The men’s fellowship group gathers for a scripture reflection/sharing every other Saturday at 9am in the Faith Formation office of the school building.
URL:https://stvincentferrer.net/event/mens-fellowship-and-scripture-reflection-2-2/2024-12-21/
LOCATION:Faith Formation Office\, 1075 E. Gardenia\, Madison Heights\, MI\, United States
CATEGORIES:Adult Faith Formation
ATTACH;FMTTYPE=image/png:https://stvincentferrer.net/wp-content/uploads/2022/01/Mens-Fellowship-1-1.png
ORGANIZER;CN="Tom Karolski":MAILTO:debbie@stvincentferrer.net
GEO:42.4991272;-83.0960313
X-APPLE-STRUCTURED-LOCATION;VALUE=URI;X-ADDRESS=Faith Formation Office 1075 E. Gardenia Madison Heights MI United States;X-APPLE-RADIUS=500;X-TITLE=1075 E. Gardenia:geo:-83.0960313,42.4991272
END:VEVENT
BEGIN:VEVENT
DTSTART;TZID=America/Detroit:20241224T090000
DTEND;TZID=America/Detroit:20241224T100000
DTSTAMP:20260424T152209
CREATED:20240716T124106Z
LAST-MODIFIED:20250520T175015Z
UID:10005485-1735030800-1735034400@stvincentferrer.net
SUMMARY:Adoration - Every Tuesday 9am following Mass
DESCRIPTION:
URL:https://stvincentferrer.net/event/adoration-every-tuesday-9am-following-mass/2024-12-24/
CATEGORIES:Worship
ATTACH;FMTTYPE=image/jpeg:https://stvincentferrer.net/wp-content/uploads/2017/03/Monstrance-1.jpg
END:VEVENT
BEGIN:VEVENT
DTSTART;TZID=America/Detroit:20241224T160000
DTEND;TZID=America/Detroit:20241224T170000
DTSTAMP:20260424T152209
CREATED:20241113T204907Z
LAST-MODIFIED:20241113T204907Z
UID:10005898-1735056000-1735059600@stvincentferrer.net
SUMMARY:Christmas Eve Mass - 4pm & 9pm
DESCRIPTION:
URL:https://stvincentferrer.net/event/christmas-eve-mass-4pm-9pm/2024-12-24/1/
LOCATION:St. Vincent Ferrer Church\, 28353 Herbert\, Madison Heights\, MI\, 48071
CATEGORIES:Special Mass
ATTACH;FMTTYPE=image/jpeg:https://stvincentferrer.net/wp-content/uploads/2021/10/christmas-eve.jpeg
GEO:42.4992176;-83.0971204
X-APPLE-STRUCTURED-LOCATION;VALUE=URI;X-ADDRESS=St. Vincent Ferrer Church 28353 Herbert Madison Heights MI 48071;X-APPLE-RADIUS=500;X-TITLE=28353 Herbert:geo:-83.0971204,42.4992176
END:VEVENT
BEGIN:VEVENT
DTSTART;TZID=America/Detroit:20241224T210000
DTEND;TZID=America/Detroit:20241224T220000
DTSTAMP:20260424T152209
CREATED:20241113T204907Z
LAST-MODIFIED:20241113T204907Z
UID:10005899-1735074000-1735077600@stvincentferrer.net
SUMMARY:Christmas Eve Mass - 4pm & 9pm
DESCRIPTION:
URL:https://stvincentferrer.net/event/christmas-eve-mass-4pm-9pm/2024-12-24/2/
LOCATION:St. Vincent Ferrer Church\, 28353 Herbert\, Madison Heights\, MI\, 48071
CATEGORIES:Special Mass
ATTACH;FMTTYPE=image/jpeg:https://stvincentferrer.net/wp-content/uploads/2021/10/christmas-eve.jpeg
GEO:42.4992176;-83.0971204
X-APPLE-STRUCTURED-LOCATION;VALUE=URI;X-ADDRESS=St. Vincent Ferrer Church 28353 Herbert Madison Heights MI 48071;X-APPLE-RADIUS=500;X-TITLE=28353 Herbert:geo:-83.0971204,42.4992176
END:VEVENT
BEGIN:VEVENT
DTSTART;VALUE=DATE:20241225
DTEND;VALUE=DATE:20241228
DTSTAMP:20260424T152209
CREATED:20241220T132025Z
LAST-MODIFIED:20241220T132025Z
UID:10005914-1735084800-1735343999@stvincentferrer.net
SUMMARY:Office Closed - December 25\,26\,27 December 30\,31\, 2024 and January 1st\, 2025
DESCRIPTION:
URL:https://stvincentferrer.net/event/office-closed-december-252627-december-3031-2024-and-january-1st-2025/2024-12-25/
LOCATION:Parish Office\, 28353 Herbert St.\, Madison Heights\, MI\, 48071\, United States
CATEGORIES:Miscellaneous
ATTACH;FMTTYPE=image/jpeg:https://stvincentferrer.net/wp-content/uploads/2023/12/Webpic-scaled.jpeg
GEO:42.4991293;-83.0972391
X-APPLE-STRUCTURED-LOCATION;VALUE=URI;X-ADDRESS=Parish Office 28353 Herbert St. Madison Heights MI 48071 United States;X-APPLE-RADIUS=500;X-TITLE=28353 Herbert St.:geo:-83.0972391,42.4991293
END:VEVENT
BEGIN:VEVENT
DTSTART;TZID=America/Detroit:20241225T090000
DTEND;TZID=America/Detroit:20241225T100000
DTSTAMP:20260424T152209
CREATED:20240625T140952Z
LAST-MODIFIED:20240625T162913Z
UID:10005197-1735117200-1735120800@stvincentferrer.net
SUMMARY:Christmas Day - 9am Mass
DESCRIPTION:
URL:https://stvincentferrer.net/event/christmas-day-9am-mass-2/
LOCATION:St. Vincent Ferrer Church\, 28353 Herbert\, Madison Heights\, MI\, 48071
CATEGORIES:Special Mass
ATTACH;FMTTYPE=image/jpeg:https://stvincentferrer.net/wp-content/uploads/2023/10/Christmas-Cal.jpg
GEO:42.4992176;-83.0971204
X-APPLE-STRUCTURED-LOCATION;VALUE=URI;X-ADDRESS=St. Vincent Ferrer Church 28353 Herbert Madison Heights MI 48071;X-APPLE-RADIUS=500;X-TITLE=28353 Herbert:geo:-83.0971204,42.4992176
END:VEVENT
BEGIN:VEVENT
DTSTART;TZID=America/Detroit:20241225T090000
DTEND;TZID=America/Detroit:20241225T163000
DTSTAMP:20260424T152209
CREATED:20241028T190008Z
LAST-MODIFIED:20241028T190008Z
UID:10005880-1735117200-1735144200@stvincentferrer.net
SUMMARY:Office Closed - December 25th\, 26th\, 27th
DESCRIPTION:
URL:https://stvincentferrer.net/event/office-closed-december-25th-26th-27th/2024-12-25/
CATEGORIES:Miscellaneous
ATTACH;FMTTYPE=image/jpeg:https://stvincentferrer.net/wp-content/uploads/2022/12/closed.jpg
END:VEVENT
BEGIN:VEVENT
DTSTART;TZID=America/Detroit:20241226T090000
DTEND;TZID=America/Detroit:20241226T163000
DTSTAMP:20260424T152209
CREATED:20241028T190008Z
LAST-MODIFIED:20241028T190008Z
UID:10005881-1735203600-1735230600@stvincentferrer.net
SUMMARY:Office Closed - December 25th\, 26th\, 27th
DESCRIPTION:
URL:https://stvincentferrer.net/event/office-closed-december-25th-26th-27th/2024-12-26/
CATEGORIES:Miscellaneous
ATTACH;FMTTYPE=image/jpeg:https://stvincentferrer.net/wp-content/uploads/2022/12/closed.jpg
END:VEVENT
BEGIN:VEVENT
DTSTART;TZID=America/Detroit:20241227T090000
DTEND;TZID=America/Detroit:20241227T163000
DTSTAMP:20260424T152209
CREATED:20241028T190008Z
LAST-MODIFIED:20241028T190008Z
UID:10005882-1735290000-1735317000@stvincentferrer.net
SUMMARY:Office Closed - December 25th\, 26th\, 27th
DESCRIPTION:
URL:https://stvincentferrer.net/event/office-closed-december-25th-26th-27th/2024-12-27/
CATEGORIES:Miscellaneous
ATTACH;FMTTYPE=image/jpeg:https://stvincentferrer.net/wp-content/uploads/2022/12/closed.jpg
END:VEVENT
BEGIN:VEVENT
DTSTART;TZID=America/Detroit:20241228T160000
DTEND;TZID=America/Detroit:20241228T170000
DTSTAMP:20260424T152209
CREATED:20241113T204432Z
LAST-MODIFIED:20241113T204432Z
UID:10005897-1735401600-1735405200@stvincentferrer.net
SUMMARY:Healing Mass 4pm
DESCRIPTION:
URL:https://stvincentferrer.net/event/healing-mass-4pm-28/
LOCATION:St. Vincent Ferrer Church\, 28353 Herbert\, Madison Heights\, MI\, 48071
CATEGORIES:Special Mass
ATTACH;FMTTYPE=image/jpeg:https://stvincentferrer.net/wp-content/uploads/2021/12/healing.jpeg
GEO:42.4992176;-83.0971204
X-APPLE-STRUCTURED-LOCATION;VALUE=URI;X-ADDRESS=St. Vincent Ferrer Church 28353 Herbert Madison Heights MI 48071;X-APPLE-RADIUS=500;X-TITLE=28353 Herbert:geo:-83.0971204,42.4992176
END:VEVENT
END:VCALENDAR