BEGIN:VCALENDAR
VERSION:2.0
PRODID:-//St. Vincent Ferrer Catholic Church - ECPv6.15.20//NONSGML v1.0//EN
CALSCALE:GREGORIAN
METHOD:PUBLISH
X-WR-CALNAME:St. Vincent Ferrer Catholic Church
X-ORIGINAL-URL:https://stvincentferrer.net
X-WR-CALDESC:Events for St. Vincent Ferrer Catholic Church
REFRESH-INTERVAL;VALUE=DURATION:PT1H
X-Robots-Tag:noindex
X-PUBLISHED-TTL:PT1H
BEGIN:VTIMEZONE
TZID:America/Detroit
BEGIN:DAYLIGHT
TZOFFSETFROM:-0500
TZOFFSETTO:-0400
TZNAME:EDT
DTSTART:20230312T070000
END:DAYLIGHT
BEGIN:STANDARD
TZOFFSETFROM:-0400
TZOFFSETTO:-0500
TZNAME:EST
DTSTART:20231105T060000
END:STANDARD
BEGIN:DAYLIGHT
TZOFFSETFROM:-0500
TZOFFSETTO:-0400
TZNAME:EDT
DTSTART:20240310T070000
END:DAYLIGHT
BEGIN:STANDARD
TZOFFSETFROM:-0400
TZOFFSETTO:-0500
TZNAME:EST
DTSTART:20241103T060000
END:STANDARD
BEGIN:DAYLIGHT
TZOFFSETFROM:-0500
TZOFFSETTO:-0400
TZNAME:EDT
DTSTART:20250309T070000
END:DAYLIGHT
BEGIN:STANDARD
TZOFFSETFROM:-0400
TZOFFSETTO:-0500
TZNAME:EST
DTSTART:20251102T060000
END:STANDARD
END:VTIMEZONE
BEGIN:VEVENT
DTSTART;TZID=America/Detroit:20241101T080000
DTEND;TZID=America/Detroit:20241101T090000
DTSTAMP:20260424T165722
CREATED:20240919T133001Z
LAST-MODIFIED:20240919T133001Z
UID:10005861-1730448000-1730451600@stvincentferrer.net
SUMMARY:All Saints Day Masses - 8am & 7pm
DESCRIPTION:
URL:https://stvincentferrer.net/event/all-saints-day-masses-8am-7pm/2024-11-01/1/
CATEGORIES:Special Mass
ATTACH;FMTTYPE=image/jpeg:https://stvincentferrer.net/wp-content/uploads/2023/09/Saints1Nov.jpg
END:VEVENT
BEGIN:VEVENT
DTSTART;TZID=America/Detroit:20241101T190000
DTEND;TZID=America/Detroit:20241101T200000
DTSTAMP:20260424T165722
CREATED:20240919T133001Z
LAST-MODIFIED:20240919T133001Z
UID:10005862-1730487600-1730491200@stvincentferrer.net
SUMMARY:All Saints Day Masses - 8am & 7pm
DESCRIPTION:
URL:https://stvincentferrer.net/event/all-saints-day-masses-8am-7pm/2024-11-01/2/
CATEGORIES:Special Mass
ATTACH;FMTTYPE=image/jpeg:https://stvincentferrer.net/wp-content/uploads/2023/09/Saints1Nov.jpg
END:VEVENT
BEGIN:VEVENT
DTSTART;VALUE=DATE:20241102
DTEND;VALUE=DATE:20241118
DTSTAMP:20260424T165722
CREATED:20241001T195329Z
LAST-MODIFIED:20241001T195329Z
UID:10005878-1730505600-1731887999@stvincentferrer.net
SUMMARY:Thanksgiving Food Collection- November  2 - 17
DESCRIPTION:
URL:https://stvincentferrer.net/event/thanksgiving-food-collection-november-2-17/
CATEGORIES:Christian Service,Miscellaneous
END:VEVENT
BEGIN:VEVENT
DTSTART;VALUE=DATE:20241103
DTEND;VALUE=DATE:20241110
DTSTAMP:20260424T165722
CREATED:20241001T185138Z
LAST-MODIFIED:20241001T185138Z
UID:10005877-1730592000-1731196799@stvincentferrer.net
SUMMARY:National Vocation Awareness Week November 3- 9
DESCRIPTION:Please pray for the vocations.
URL:https://stvincentferrer.net/event/national-vocation-awareness-week-november-3-9/
CATEGORIES:Miscellaneous
ATTACH;FMTTYPE=image/webp:https://stvincentferrer.net/wp-content/uploads/2024/07/Pope_Francis_ordains_10_men_to_the_priesthood_May_7_2017_Credit_Daniel_Ibez_CNA.webp
END:VEVENT
BEGIN:VEVENT
DTSTART;TZID=America/Detroit:20241104T190000
DTEND;TZID=America/Detroit:20241104T200000
DTSTAMP:20260424T165722
CREATED:20240919T121946Z
LAST-MODIFIED:20240919T132655Z
UID:10005858-1730746800-1730750400@stvincentferrer.net
SUMMARY:Mass of Remembrance 7pm
DESCRIPTION:
URL:https://stvincentferrer.net/event/mass-of-remembrance-7pm-2/
LOCATION:St. Vincent Ferrer Church\, 28353 Herbert\, Madison Heights\, MI\, 48071
CATEGORIES:Special Mass
ATTACH;FMTTYPE=image/webp:https://stvincentferrer.net/wp-content/uploads/2024/09/Mass-of-Remembrance-YouTube-Thumbnail-733-x-733-px.webp
GEO:42.4992176;-83.0971204
X-APPLE-STRUCTURED-LOCATION;VALUE=URI;X-ADDRESS=St. Vincent Ferrer Church 28353 Herbert Madison Heights MI 48071;X-APPLE-RADIUS=500;X-TITLE=28353 Herbert:geo:-83.0971204,42.4992176
END:VEVENT
BEGIN:VEVENT
DTSTART;TZID=America/Detroit:20241105T090000
DTEND;TZID=America/Detroit:20241105T100000
DTSTAMP:20260424T165722
CREATED:20240716T124106Z
LAST-MODIFIED:20250520T175015Z
UID:10005478-1730797200-1730800800@stvincentferrer.net
SUMMARY:Adoration - Every Tuesday 9am following Mass
DESCRIPTION:
URL:https://stvincentferrer.net/event/adoration-every-tuesday-9am-following-mass/2024-11-05/
CATEGORIES:Worship
ATTACH;FMTTYPE=image/jpeg:https://stvincentferrer.net/wp-content/uploads/2017/03/Monstrance-1.jpg
END:VEVENT
BEGIN:VEVENT
DTSTART;TZID=America/Detroit:20241106T090000
DTEND;TZID=America/Detroit:20241106T110000
DTSTAMP:20260424T165722
CREATED:20240625T140319Z
LAST-MODIFIED:20240625T140319Z
UID:10005191-1730883600-1730890800@stvincentferrer.net
SUMMARY:Breakfast Book Study - The Gift of Being Yourself
DESCRIPTION:In this profound exploration of Christianity identity\, psychologist and spiritual director David G. Benner illuminates the spirituality of self-discovery. He exposes the false selves that we hide behind and calls us to discover the true self that emerges from uniqueness in Christ.\n 
URL:https://stvincentferrer.net/event/breakfast-book-study-the-gift-of-being-yourself/2024-11-06/
LOCATION:Hall Administration Building\, 28353 Herbert\, Madison Heights\, MI\, 48071
CATEGORIES:Adult Faith Formation,Christian Service,Miscellaneous
ORGANIZER;CN="Deborah Tourville":MAILTO:debbie@stvincentferrer.net
GEO:42.4992176;-83.0971204
X-APPLE-STRUCTURED-LOCATION;VALUE=URI;X-ADDRESS=Hall Administration Building 28353 Herbert Madison Heights MI 48071;X-APPLE-RADIUS=500;X-TITLE=28353 Herbert:geo:-83.0971204,42.4992176
END:VEVENT
BEGIN:VEVENT
DTSTART;TZID=America/Detroit:20241106T190000
DTEND;TZID=America/Detroit:20241106T203000
DTSTAMP:20260424T165722
CREATED:20240822T172729Z
LAST-MODIFIED:20240822T172729Z
UID:10005833-1730919600-1730925000@stvincentferrer.net
SUMMARY:Choir Practice 7pm - Admin. Office
DESCRIPTION:  \n\n\nMusic Ministers must commit to a weekly rehearsal schedule\n\n\nParticipation in the majority of Eucharistic Celebrations throughout the year (September-May)\n\n\nNew members are welcome. Please contact us to schedule an audition.
URL:https://stvincentferrer.net/event/choir-practice-7pm-admin-office/2024-11-06/
LOCATION:Choir Room\, 28353 Herbert\, Madison Heights\, MI\, 48071
CATEGORIES:Music
ATTACH;FMTTYPE=image/jpeg:https://stvincentferrer.net/wp-content/uploads/2023/09/choir-practice-e1732115310867.jpg
GEO:42.4992176;-83.0971204
X-APPLE-STRUCTURED-LOCATION;VALUE=URI;X-ADDRESS=Choir Room 28353 Herbert Madison Heights MI 48071;X-APPLE-RADIUS=500;X-TITLE=28353 Herbert:geo:-83.0971204,42.4992176
END:VEVENT
BEGIN:VEVENT
DTSTART;TZID=America/Detroit:20241109T090000
DTEND;TZID=America/Detroit:20241109T110000
DTSTAMP:20260424T165722
CREATED:20240821T191450Z
LAST-MODIFIED:20240821T191450Z
UID:10003273-1731142800-1731150000@stvincentferrer.net
SUMMARY:Men's Fellowship and Scripture Reflection
DESCRIPTION:The men’s fellowship group gathers for a scripture reflection/sharing every other Saturday at 9am in the Faith Formation office of the school building.
URL:https://stvincentferrer.net/event/mens-fellowship-and-scripture-reflection-2-2/2024-11-09/
LOCATION:Faith Formation Office\, 1075 E. Gardenia\, Madison Heights\, MI\, United States
CATEGORIES:Adult Faith Formation
ATTACH;FMTTYPE=image/png:https://stvincentferrer.net/wp-content/uploads/2022/01/Mens-Fellowship-1-1.png
ORGANIZER;CN="Tom Karolski":MAILTO:debbie@stvincentferrer.net
GEO:42.4991272;-83.0960313
X-APPLE-STRUCTURED-LOCATION;VALUE=URI;X-ADDRESS=Faith Formation Office 1075 E. Gardenia Madison Heights MI United States;X-APPLE-RADIUS=500;X-TITLE=1075 E. Gardenia:geo:-83.0960313,42.4991272
END:VEVENT
BEGIN:VEVENT
DTSTART;TZID=America/Detroit:20241110T100000
DTEND;TZID=America/Detroit:20241110T110000
DTSTAMP:20260424T165722
CREATED:20240919T131300Z
LAST-MODIFIED:20240919T132444Z
UID:10005860-1731232800-1731236400@stvincentferrer.net
SUMMARY:Blood Pressure Checks
DESCRIPTION:
URL:https://stvincentferrer.net/event/blood-pressure-checks-18/
CATEGORIES:Christian Service
ATTACH;FMTTYPE=image/png:https://stvincentferrer.net/wp-content/uploads/2021/09/blood-pressure.png
END:VEVENT
BEGIN:VEVENT
DTSTART;TZID=America/Detroit:20241110T100000
DTEND;TZID=America/Detroit:20241110T113000
DTSTAMP:20260424T165722
CREATED:20240919T130959Z
LAST-MODIFIED:20240919T130959Z
UID:10005859-1731232800-1731238200@stvincentferrer.net
SUMMARY:Coffee and Donuts
DESCRIPTION:
URL:https://stvincentferrer.net/event/coffee-and-donuts-17/
LOCATION:Church Hall\, 28353 Herbert\, Madison Heights\, MI\, 48071
CATEGORIES:Christian Service
GEO:42.4992176;-83.0971204
X-APPLE-STRUCTURED-LOCATION;VALUE=URI;X-ADDRESS=Church Hall 28353 Herbert Madison Heights MI 48071;X-APPLE-RADIUS=500;X-TITLE=28353 Herbert:geo:-83.0971204,42.4992176
END:VEVENT
BEGIN:VEVENT
DTSTART;TZID=America/Detroit:20241111T181500
DTEND;TZID=America/Detroit:20241111T193000
DTSTAMP:20260424T165722
CREATED:20240806T155944Z
LAST-MODIFIED:20241205T200516Z
UID:10005746-1731348900-1731353400@stvincentferrer.net
SUMMARY:Religious Education Classes 2024-25
DESCRIPTION:
URL:https://stvincentferrer.net/event/religious-education-classes-2024-25/2024-11-11/
LOCATION:School Building\, 1075 E. Gardenia\, Madison Heights\, MI\, 48071\, United States
CATEGORIES:Youth Faith Formation
ATTACH;FMTTYPE=image/jpeg:https://stvincentferrer.net/wp-content/uploads/2021/09/faith-formation.jpg
ORGANIZER;CN="Matthew Zinser":MAILTO:Matthew@stvincentferrer.net
GEO:42.4991272;-83.0960313
X-APPLE-STRUCTURED-LOCATION;VALUE=URI;X-ADDRESS=School Building 1075 E. Gardenia Madison Heights MI 48071 United States;X-APPLE-RADIUS=500;X-TITLE=1075 E. Gardenia:geo:-83.0960313,42.4991272
END:VEVENT
BEGIN:VEVENT
DTSTART;TZID=America/Detroit:20241111T183000
DTEND;TZID=America/Detroit:20241111T193000
DTSTAMP:20260424T165722
CREATED:20241029T190603Z
LAST-MODIFIED:20241029T190603Z
UID:10005887-1731349800-1731353400@stvincentferrer.net
SUMMARY:Pray the Rosary - All are welcome - Monday \, November 11 @ 6:30pm
DESCRIPTION:
URL:https://stvincentferrer.net/event/pray-the-rosary-all-are-welcome-monday-november-11-630pm/
LOCATION:St. Vincent Ferrer Church\, 28353 Herbert\, Madison Heights\, MI\, 48071
CATEGORIES:Adult Faith Formation,Christian Service,Healing Ministry,Miscellaneous,Youth Faith Formation
ATTACH;FMTTYPE=image/jpeg:https://stvincentferrer.net/wp-content/uploads/2022/05/rosary.jpg
GEO:42.4992176;-83.0971204
X-APPLE-STRUCTURED-LOCATION;VALUE=URI;X-ADDRESS=St. Vincent Ferrer Church 28353 Herbert Madison Heights MI 48071;X-APPLE-RADIUS=500;X-TITLE=28353 Herbert:geo:-83.0971204,42.4992176
END:VEVENT
BEGIN:VEVENT
DTSTART;TZID=America/Detroit:20241112T090000
DTEND;TZID=America/Detroit:20241112T100000
DTSTAMP:20260424T165722
CREATED:20240716T124106Z
LAST-MODIFIED:20250520T175015Z
UID:10005479-1731402000-1731405600@stvincentferrer.net
SUMMARY:Adoration - Every Tuesday 9am following Mass
DESCRIPTION:
URL:https://stvincentferrer.net/event/adoration-every-tuesday-9am-following-mass/2024-11-12/
CATEGORIES:Worship
ATTACH;FMTTYPE=image/jpeg:https://stvincentferrer.net/wp-content/uploads/2017/03/Monstrance-1.jpg
END:VEVENT
BEGIN:VEVENT
DTSTART;TZID=America/Detroit:20241112T183000
DTEND;TZID=America/Detroit:20241112T193000
DTSTAMP:20260424T165722
CREATED:20241002T181113Z
LAST-MODIFIED:20241002T181127Z
UID:10005879-1731436200-1731439800@stvincentferrer.net
SUMMARY:Saint Vincent De Paul - 6:30 pm
DESCRIPTION:Our programs support our neighbors with everything from utility\, housing\, and food assistance to education and mentorship\, and more.\nWe will be meeting in the Church. If you are interested in joining please come.
URL:https://stvincentferrer.net/event/saint-vincent-de-paul-630-pm/
CATEGORIES:Committee Meeting
ATTACH;FMTTYPE=image/jpeg:https://stvincentferrer.net/wp-content/uploads/2024/03/1453731561-logo-SVDP.jpg
END:VEVENT
BEGIN:VEVENT
DTSTART;TZID=America/Detroit:20241113T090000
DTEND;TZID=America/Detroit:20241113T110000
DTSTAMP:20260424T165722
CREATED:20240625T140319Z
LAST-MODIFIED:20240625T140319Z
UID:10005192-1731488400-1731495600@stvincentferrer.net
SUMMARY:Breakfast Book Study - The Gift of Being Yourself
DESCRIPTION:In this profound exploration of Christianity identity\, psychologist and spiritual director David G. Benner illuminates the spirituality of self-discovery. He exposes the false selves that we hide behind and calls us to discover the true self that emerges from uniqueness in Christ.\n 
URL:https://stvincentferrer.net/event/breakfast-book-study-the-gift-of-being-yourself/2024-11-13/
LOCATION:Hall Administration Building\, 28353 Herbert\, Madison Heights\, MI\, 48071
CATEGORIES:Adult Faith Formation,Christian Service,Miscellaneous
ORGANIZER;CN="Deborah Tourville":MAILTO:debbie@stvincentferrer.net
GEO:42.4992176;-83.0971204
X-APPLE-STRUCTURED-LOCATION;VALUE=URI;X-ADDRESS=Hall Administration Building 28353 Herbert Madison Heights MI 48071;X-APPLE-RADIUS=500;X-TITLE=28353 Herbert:geo:-83.0971204,42.4992176
END:VEVENT
BEGIN:VEVENT
DTSTART;TZID=America/Detroit:20241113T190000
DTEND;TZID=America/Detroit:20241113T203000
DTSTAMP:20260424T165722
CREATED:20240822T172729Z
LAST-MODIFIED:20240822T172729Z
UID:10005834-1731524400-1731529800@stvincentferrer.net
SUMMARY:Choir Practice 7pm - Admin. Office
DESCRIPTION:  \n\n\nMusic Ministers must commit to a weekly rehearsal schedule\n\n\nParticipation in the majority of Eucharistic Celebrations throughout the year (September-May)\n\n\nNew members are welcome. Please contact us to schedule an audition.
URL:https://stvincentferrer.net/event/choir-practice-7pm-admin-office/2024-11-13/
LOCATION:Choir Room\, 28353 Herbert\, Madison Heights\, MI\, 48071
CATEGORIES:Music
ATTACH;FMTTYPE=image/jpeg:https://stvincentferrer.net/wp-content/uploads/2023/09/choir-practice-e1732115310867.jpg
GEO:42.4992176;-83.0971204
X-APPLE-STRUCTURED-LOCATION;VALUE=URI;X-ADDRESS=Choir Room 28353 Herbert Madison Heights MI 48071;X-APPLE-RADIUS=500;X-TITLE=28353 Herbert:geo:-83.0971204,42.4992176
END:VEVENT
BEGIN:VEVENT
DTSTART;TZID=America/Detroit:20241116T173000
DTEND;TZID=America/Detroit:20241116T220000
DTSTAMP:20260424T165722
CREATED:20241029T174847Z
LAST-MODIFIED:20241029T174847Z
UID:10005885-1731778200-1731794400@stvincentferrer.net
SUMMARY:Euchre
DESCRIPTION:
URL:https://stvincentferrer.net/event/euchre/
LOCATION:Church Hall\, 28353 Herbert\, Madison Heights\, MI\, 48071
CATEGORIES:Miscellaneous
GEO:42.4992176;-83.0971204
X-APPLE-STRUCTURED-LOCATION;VALUE=URI;X-ADDRESS=Church Hall 28353 Herbert Madison Heights MI 48071;X-APPLE-RADIUS=500;X-TITLE=28353 Herbert:geo:-83.0971204,42.4992176
END:VEVENT
BEGIN:VEVENT
DTSTART;TZID=America/Detroit:20241118T181500
DTEND;TZID=America/Detroit:20241118T193000
DTSTAMP:20260424T165722
CREATED:20240806T155944Z
LAST-MODIFIED:20241205T200516Z
UID:10005747-1731953700-1731958200@stvincentferrer.net
SUMMARY:Religious Education Classes 2024-25
DESCRIPTION:
URL:https://stvincentferrer.net/event/religious-education-classes-2024-25/2024-11-18/
LOCATION:School Building\, 1075 E. Gardenia\, Madison Heights\, MI\, 48071\, United States
CATEGORIES:Youth Faith Formation
ATTACH;FMTTYPE=image/jpeg:https://stvincentferrer.net/wp-content/uploads/2021/09/faith-formation.jpg
ORGANIZER;CN="Matthew Zinser":MAILTO:Matthew@stvincentferrer.net
GEO:42.4991272;-83.0960313
X-APPLE-STRUCTURED-LOCATION;VALUE=URI;X-ADDRESS=School Building 1075 E. Gardenia Madison Heights MI 48071 United States;X-APPLE-RADIUS=500;X-TITLE=1075 E. Gardenia:geo:-83.0960313,42.4991272
END:VEVENT
BEGIN:VEVENT
DTSTART;TZID=America/Detroit:20241119T090000
DTEND;TZID=America/Detroit:20241119T100000
DTSTAMP:20260424T165722
CREATED:20240716T124106Z
LAST-MODIFIED:20250520T175015Z
UID:10005480-1732006800-1732010400@stvincentferrer.net
SUMMARY:Adoration - Every Tuesday 9am following Mass
DESCRIPTION:
URL:https://stvincentferrer.net/event/adoration-every-tuesday-9am-following-mass/2024-11-19/
CATEGORIES:Worship
ATTACH;FMTTYPE=image/jpeg:https://stvincentferrer.net/wp-content/uploads/2017/03/Monstrance-1.jpg
END:VEVENT
BEGIN:VEVENT
DTSTART;TZID=America/Detroit:20241120T190000
DTEND;TZID=America/Detroit:20241120T203000
DTSTAMP:20260424T165722
CREATED:20240822T172729Z
LAST-MODIFIED:20240822T172729Z
UID:10005835-1732129200-1732134600@stvincentferrer.net
SUMMARY:Choir Practice 7pm - Admin. Office
DESCRIPTION:  \n\n\nMusic Ministers must commit to a weekly rehearsal schedule\n\n\nParticipation in the majority of Eucharistic Celebrations throughout the year (September-May)\n\n\nNew members are welcome. Please contact us to schedule an audition.
URL:https://stvincentferrer.net/event/choir-practice-7pm-admin-office/2024-11-20/
LOCATION:Choir Room\, 28353 Herbert\, Madison Heights\, MI\, 48071
CATEGORIES:Music
ATTACH;FMTTYPE=image/jpeg:https://stvincentferrer.net/wp-content/uploads/2023/09/choir-practice-e1732115310867.jpg
GEO:42.4992176;-83.0971204
X-APPLE-STRUCTURED-LOCATION;VALUE=URI;X-ADDRESS=Choir Room 28353 Herbert Madison Heights MI 48071;X-APPLE-RADIUS=500;X-TITLE=28353 Herbert:geo:-83.0971204,42.4992176
END:VEVENT
BEGIN:VEVENT
DTSTART;TZID=America/Detroit:20241121T183000
DTEND;TZID=America/Detroit:20241121T210000
DTSTAMP:20260424T165722
CREATED:20241031T161816Z
LAST-MODIFIED:20241031T182805Z
UID:10005888-1732213800-1732222800@stvincentferrer.net
SUMMARY:Prayer Blanket - 6:30 - 9:00
DESCRIPTION:
URL:https://stvincentferrer.net/event/prayer-blanket-3/
LOCATION:Church Hall\, 28353 Herbert\, Madison Heights\, MI\, 48071
CATEGORIES:Christian Service,Miscellaneous
ATTACH;FMTTYPE=image/jpeg:https://stvincentferrer.net/wp-content/uploads/2022/01/blanket.jpg
GEO:42.4992176;-83.0971204
X-APPLE-STRUCTURED-LOCATION;VALUE=URI;X-ADDRESS=Church Hall 28353 Herbert Madison Heights MI 48071;X-APPLE-RADIUS=500;X-TITLE=28353 Herbert:geo:-83.0971204,42.4992176
END:VEVENT
BEGIN:VEVENT
DTSTART;TZID=America/Detroit:20241123T090000
DTEND;TZID=America/Detroit:20241123T110000
DTSTAMP:20260424T165722
CREATED:20240821T191450Z
LAST-MODIFIED:20240821T191450Z
UID:10003274-1732352400-1732359600@stvincentferrer.net
SUMMARY:Men's Fellowship and Scripture Reflection
DESCRIPTION:The men’s fellowship group gathers for a scripture reflection/sharing every other Saturday at 9am in the Faith Formation office of the school building.
URL:https://stvincentferrer.net/event/mens-fellowship-and-scripture-reflection-2-2/2024-11-23/
LOCATION:Faith Formation Office\, 1075 E. Gardenia\, Madison Heights\, MI\, United States
CATEGORIES:Adult Faith Formation
ATTACH;FMTTYPE=image/png:https://stvincentferrer.net/wp-content/uploads/2022/01/Mens-Fellowship-1-1.png
ORGANIZER;CN="Tom Karolski":MAILTO:debbie@stvincentferrer.net
GEO:42.4991272;-83.0960313
X-APPLE-STRUCTURED-LOCATION;VALUE=URI;X-ADDRESS=Faith Formation Office 1075 E. Gardenia Madison Heights MI United States;X-APPLE-RADIUS=500;X-TITLE=1075 E. Gardenia:geo:-83.0960313,42.4991272
END:VEVENT
BEGIN:VEVENT
DTSTART;TZID=America/Detroit:20241125T181500
DTEND;TZID=America/Detroit:20241125T193000
DTSTAMP:20260424T165722
CREATED:20240806T155944Z
LAST-MODIFIED:20241205T200516Z
UID:10005748-1732558500-1732563000@stvincentferrer.net
SUMMARY:Religious Education Classes 2024-25
DESCRIPTION:
URL:https://stvincentferrer.net/event/religious-education-classes-2024-25/2024-11-25/
LOCATION:School Building\, 1075 E. Gardenia\, Madison Heights\, MI\, 48071\, United States
CATEGORIES:Youth Faith Formation
ATTACH;FMTTYPE=image/jpeg:https://stvincentferrer.net/wp-content/uploads/2021/09/faith-formation.jpg
ORGANIZER;CN="Matthew Zinser":MAILTO:Matthew@stvincentferrer.net
GEO:42.4991272;-83.0960313
X-APPLE-STRUCTURED-LOCATION;VALUE=URI;X-ADDRESS=School Building 1075 E. Gardenia Madison Heights MI 48071 United States;X-APPLE-RADIUS=500;X-TITLE=1075 E. Gardenia:geo:-83.0960313,42.4991272
END:VEVENT
BEGIN:VEVENT
DTSTART;TZID=America/Detroit:20241126T090000
DTEND;TZID=America/Detroit:20241126T100000
DTSTAMP:20260424T165722
CREATED:20240716T124106Z
LAST-MODIFIED:20250520T175015Z
UID:10005481-1732611600-1732615200@stvincentferrer.net
SUMMARY:Adoration - Every Tuesday 9am following Mass
DESCRIPTION:
URL:https://stvincentferrer.net/event/adoration-every-tuesday-9am-following-mass/2024-11-26/
CATEGORIES:Worship
ATTACH;FMTTYPE=image/jpeg:https://stvincentferrer.net/wp-content/uploads/2017/03/Monstrance-1.jpg
END:VEVENT
BEGIN:VEVENT
DTSTART;TZID=America/Detroit:20241127T090000
DTEND;TZID=America/Detroit:20241127T110000
DTSTAMP:20260424T165722
CREATED:20240625T140319Z
LAST-MODIFIED:20240625T140319Z
UID:10005193-1732698000-1732705200@stvincentferrer.net
SUMMARY:Breakfast Book Study - The Gift of Being Yourself
DESCRIPTION:In this profound exploration of Christianity identity\, psychologist and spiritual director David G. Benner illuminates the spirituality of self-discovery. He exposes the false selves that we hide behind and calls us to discover the true self that emerges from uniqueness in Christ.\n 
URL:https://stvincentferrer.net/event/breakfast-book-study-the-gift-of-being-yourself/2024-11-27/
LOCATION:Hall Administration Building\, 28353 Herbert\, Madison Heights\, MI\, 48071
CATEGORIES:Adult Faith Formation,Christian Service,Miscellaneous
ORGANIZER;CN="Deborah Tourville":MAILTO:debbie@stvincentferrer.net
GEO:42.4992176;-83.0971204
X-APPLE-STRUCTURED-LOCATION;VALUE=URI;X-ADDRESS=Hall Administration Building 28353 Herbert Madison Heights MI 48071;X-APPLE-RADIUS=500;X-TITLE=28353 Herbert:geo:-83.0971204,42.4992176
END:VEVENT
BEGIN:VEVENT
DTSTART;TZID=America/Detroit:20241128T090000
DTEND;TZID=America/Detroit:20241128T100000
DTSTAMP:20260424T165722
CREATED:20240919T133648Z
LAST-MODIFIED:20240919T133755Z
UID:10005871-1732784400-1732788000@stvincentferrer.net
SUMMARY:Thanksgiving Mass 9am
DESCRIPTION:
URL:https://stvincentferrer.net/event/thanksgiving-mass-9am-4/
CATEGORIES:Special Mass
ATTACH;FMTTYPE=image/jpeg:https://stvincentferrer.net/wp-content/uploads/2023/11/Thanksgiving-Banner.jpg
END:VEVENT
BEGIN:VEVENT
DTSTART;TZID=America/Detroit:20241130T160000
DTEND;TZID=America/Detroit:20241130T170000
DTSTAMP:20260424T165722
CREATED:20240919T134019Z
LAST-MODIFIED:20240919T134019Z
UID:10005872-1732982400-1732986000@stvincentferrer.net
SUMMARY:Healing Mass 4pm
DESCRIPTION:
URL:https://stvincentferrer.net/event/healing-mass-4pm-27/
CATEGORIES:Special Mass
ATTACH;FMTTYPE=image/jpeg:https://stvincentferrer.net/wp-content/uploads/2021/12/healing.jpeg
END:VEVENT
END:VCALENDAR