BEGIN:VCALENDAR
VERSION:2.0
PRODID:-//St. Vincent Ferrer Catholic Church - ECPv6.15.20//NONSGML v1.0//EN
CALSCALE:GREGORIAN
METHOD:PUBLISH
X-ORIGINAL-URL:https://stvincentferrer.net
X-WR-CALDESC:Events for St. Vincent Ferrer Catholic Church
REFRESH-INTERVAL;VALUE=DURATION:PT1H
X-Robots-Tag:noindex
X-PUBLISHED-TTL:PT1H
BEGIN:VTIMEZONE
TZID:America/Detroit
BEGIN:DAYLIGHT
TZOFFSETFROM:-0500
TZOFFSETTO:-0400
TZNAME:EDT
DTSTART:20230312T070000
END:DAYLIGHT
BEGIN:STANDARD
TZOFFSETFROM:-0400
TZOFFSETTO:-0500
TZNAME:EST
DTSTART:20231105T060000
END:STANDARD
BEGIN:DAYLIGHT
TZOFFSETFROM:-0500
TZOFFSETTO:-0400
TZNAME:EDT
DTSTART:20240310T070000
END:DAYLIGHT
BEGIN:STANDARD
TZOFFSETFROM:-0400
TZOFFSETTO:-0500
TZNAME:EST
DTSTART:20241103T060000
END:STANDARD
BEGIN:DAYLIGHT
TZOFFSETFROM:-0500
TZOFFSETTO:-0400
TZNAME:EDT
DTSTART:20250309T070000
END:DAYLIGHT
BEGIN:STANDARD
TZOFFSETFROM:-0400
TZOFFSETTO:-0500
TZNAME:EST
DTSTART:20251102T060000
END:STANDARD
END:VTIMEZONE
BEGIN:VEVENT
DTSTART;TZID=America/Detroit:20241001T090000
DTEND;TZID=America/Detroit:20241001T100000
DTSTAMP:20260424T183648
CREATED:20240716T124106Z
LAST-MODIFIED:20250520T175015Z
UID:10005473-1727773200-1727776800@stvincentferrer.net
SUMMARY:Adoration - Every Tuesday 9am following Mass
DESCRIPTION:
URL:https://stvincentferrer.net/event/adoration-every-tuesday-9am-following-mass/2024-10-01/
CATEGORIES:Worship
ATTACH;FMTTYPE=image/jpeg:https://stvincentferrer.net/wp-content/uploads/2017/03/Monstrance-1.jpg
END:VEVENT
BEGIN:VEVENT
DTSTART;TZID=America/Detroit:20241002T113000
DTEND;TZID=America/Detroit:20241002T140000
DTSTAMP:20260424T183648
CREATED:20240826T140850Z
LAST-MODIFIED:20240826T140850Z
UID:10005848-1727868600-1727877600@stvincentferrer.net
SUMMARY:Chosen - Season 4
DESCRIPTION:Season 4 of the series Chosen will be viewed at the Administration Hall on Wednesdays starting September 25\, October 2nd\, 9th and 16th.
URL:https://stvincentferrer.net/event/chosen-season-4/2024-10-02/
LOCATION:Hall Administration Building\, 28353 Herbert\, Madison Heights\, MI\, 48071
CATEGORIES:Adult Faith Formation,Christian Service,Miscellaneous
GEO:42.4992176;-83.0971204
X-APPLE-STRUCTURED-LOCATION;VALUE=URI;X-ADDRESS=Hall Administration Building 28353 Herbert Madison Heights MI 48071;X-APPLE-RADIUS=500;X-TITLE=28353 Herbert:geo:-83.0971204,42.4992176
END:VEVENT
BEGIN:VEVENT
DTSTART;TZID=America/Detroit:20241002T190000
DTEND;TZID=America/Detroit:20241002T203000
DTSTAMP:20260424T183648
CREATED:20240822T172729Z
LAST-MODIFIED:20240822T172729Z
UID:10005828-1727895600-1727901000@stvincentferrer.net
SUMMARY:Choir Practice 7pm - Admin. Office
DESCRIPTION:  \n\n\nMusic Ministers must commit to a weekly rehearsal schedule\n\n\nParticipation in the majority of Eucharistic Celebrations throughout the year (September-May)\n\n\nNew members are welcome. Please contact us to schedule an audition.
URL:https://stvincentferrer.net/event/choir-practice-7pm-admin-office/2024-10-02/
LOCATION:Choir Room\, 28353 Herbert\, Madison Heights\, MI\, 48071
CATEGORIES:Music
ATTACH;FMTTYPE=image/jpeg:https://stvincentferrer.net/wp-content/uploads/2023/09/choir-practice-e1732115310867.jpg
GEO:42.4992176;-83.0971204
X-APPLE-STRUCTURED-LOCATION;VALUE=URI;X-ADDRESS=Choir Room 28353 Herbert Madison Heights MI 48071;X-APPLE-RADIUS=500;X-TITLE=28353 Herbert:geo:-83.0971204,42.4992176
END:VEVENT
BEGIN:VEVENT
DTSTART;TZID=America/Detroit:20241005T090000
DTEND;TZID=America/Detroit:20241005T093000
DTSTAMP:20260424T183648
CREATED:20240904T183859Z
LAST-MODIFIED:20240904T183859Z
UID:10005854-1728118800-1728120600@stvincentferrer.net
SUMMARY:Pet Blessing 9am - Admin. Building
DESCRIPTION:
URL:https://stvincentferrer.net/event/pet-blessing-9am-admin-building/
LOCATION:Patio\,  Admin. Building
CATEGORIES:Miscellaneous
ATTACH;FMTTYPE=image/jpeg:https://stvincentferrer.net/wp-content/uploads/2021/09/pets.jpeg
END:VEVENT
BEGIN:VEVENT
DTSTART;TZID=America/Detroit:20241006T090000
DTEND;TZID=America/Detroit:20241006T100000
DTSTAMP:20260424T183648
CREATED:20240903T181215Z
LAST-MODIFIED:20240903T181215Z
UID:10005851-1728205200-1728208800@stvincentferrer.net
SUMMARY:Respect Life Sunday
DESCRIPTION:
URL:https://stvincentferrer.net/event/respect-life-sunday/
CATEGORIES:Mass,Worship
END:VEVENT
BEGIN:VEVENT
DTSTART;TZID=America/Detroit:20241007T181500
DTEND;TZID=America/Detroit:20241007T193000
DTSTAMP:20260424T183648
CREATED:20240806T155944Z
LAST-MODIFIED:20241205T200516Z
UID:10005743-1728324900-1728329400@stvincentferrer.net
SUMMARY:Religious Education Classes 2024-25
DESCRIPTION:
URL:https://stvincentferrer.net/event/religious-education-classes-2024-25/2024-10-07/
LOCATION:School Building\, 1075 E. Gardenia\, Madison Heights\, MI\, 48071\, United States
CATEGORIES:Youth Faith Formation
ATTACH;FMTTYPE=image/jpeg:https://stvincentferrer.net/wp-content/uploads/2021/09/faith-formation.jpg
ORGANIZER;CN="Matthew Zinser":MAILTO:Matthew@stvincentferrer.net
GEO:42.4991272;-83.0960313
X-APPLE-STRUCTURED-LOCATION;VALUE=URI;X-ADDRESS=School Building 1075 E. Gardenia Madison Heights MI 48071 United States;X-APPLE-RADIUS=500;X-TITLE=1075 E. Gardenia:geo:-83.0960313,42.4991272
END:VEVENT
BEGIN:VEVENT
DTSTART;TZID=America/Detroit:20241008T090000
DTEND;TZID=America/Detroit:20241008T100000
DTSTAMP:20260424T183648
CREATED:20240716T124106Z
LAST-MODIFIED:20250520T175015Z
UID:10005474-1728378000-1728381600@stvincentferrer.net
SUMMARY:Adoration - Every Tuesday 9am following Mass
DESCRIPTION:
URL:https://stvincentferrer.net/event/adoration-every-tuesday-9am-following-mass/2024-10-08/
CATEGORIES:Worship
ATTACH;FMTTYPE=image/jpeg:https://stvincentferrer.net/wp-content/uploads/2017/03/Monstrance-1.jpg
END:VEVENT
BEGIN:VEVENT
DTSTART;TZID=America/Detroit:20241009T113000
DTEND;TZID=America/Detroit:20241009T140000
DTSTAMP:20260424T183648
CREATED:20240826T140850Z
LAST-MODIFIED:20240826T140850Z
UID:10005849-1728473400-1728482400@stvincentferrer.net
SUMMARY:Chosen - Season 4
DESCRIPTION:Season 4 of the series Chosen will be viewed at the Administration Hall on Wednesdays starting September 25\, October 2nd\, 9th and 16th.
URL:https://stvincentferrer.net/event/chosen-season-4/2024-10-09/
LOCATION:Hall Administration Building\, 28353 Herbert\, Madison Heights\, MI\, 48071
CATEGORIES:Adult Faith Formation,Christian Service,Miscellaneous
GEO:42.4992176;-83.0971204
X-APPLE-STRUCTURED-LOCATION;VALUE=URI;X-ADDRESS=Hall Administration Building 28353 Herbert Madison Heights MI 48071;X-APPLE-RADIUS=500;X-TITLE=28353 Herbert:geo:-83.0971204,42.4992176
END:VEVENT
BEGIN:VEVENT
DTSTART;TZID=America/Detroit:20241009T190000
DTEND;TZID=America/Detroit:20241009T203000
DTSTAMP:20260424T183648
CREATED:20240822T172729Z
LAST-MODIFIED:20240822T172729Z
UID:10005829-1728500400-1728505800@stvincentferrer.net
SUMMARY:Choir Practice 7pm - Admin. Office
DESCRIPTION:  \n\n\nMusic Ministers must commit to a weekly rehearsal schedule\n\n\nParticipation in the majority of Eucharistic Celebrations throughout the year (September-May)\n\n\nNew members are welcome. Please contact us to schedule an audition.
URL:https://stvincentferrer.net/event/choir-practice-7pm-admin-office/2024-10-09/
LOCATION:Choir Room\, 28353 Herbert\, Madison Heights\, MI\, 48071
CATEGORIES:Music
ATTACH;FMTTYPE=image/jpeg:https://stvincentferrer.net/wp-content/uploads/2023/09/choir-practice-e1732115310867.jpg
GEO:42.4992176;-83.0971204
X-APPLE-STRUCTURED-LOCATION;VALUE=URI;X-ADDRESS=Choir Room 28353 Herbert Madison Heights MI 48071;X-APPLE-RADIUS=500;X-TITLE=28353 Herbert:geo:-83.0971204,42.4992176
END:VEVENT
BEGIN:VEVENT
DTSTART;TZID=America/Detroit:20241012T090000
DTEND;TZID=America/Detroit:20241012T110000
DTSTAMP:20260424T183648
CREATED:20240821T191450Z
LAST-MODIFIED:20240821T191450Z
UID:10003271-1728723600-1728730800@stvincentferrer.net
SUMMARY:Men's Fellowship and Scripture Reflection
DESCRIPTION:The men’s fellowship group gathers for a scripture reflection/sharing every other Saturday at 9am in the Faith Formation office of the school building.
URL:https://stvincentferrer.net/event/mens-fellowship-and-scripture-reflection-2-2/2024-10-12/
LOCATION:Faith Formation Office\, 1075 E. Gardenia\, Madison Heights\, MI\, United States
CATEGORIES:Adult Faith Formation
ATTACH;FMTTYPE=image/png:https://stvincentferrer.net/wp-content/uploads/2022/01/Mens-Fellowship-1-1.png
ORGANIZER;CN="Tom Karolski":MAILTO:debbie@stvincentferrer.net
GEO:42.4991272;-83.0960313
X-APPLE-STRUCTURED-LOCATION;VALUE=URI;X-ADDRESS=Faith Formation Office 1075 E. Gardenia Madison Heights MI United States;X-APPLE-RADIUS=500;X-TITLE=1075 E. Gardenia:geo:-83.0960313,42.4991272
END:VEVENT
BEGIN:VEVENT
DTSTART;TZID=America/Detroit:20241012T160000
DTEND;TZID=America/Detroit:20241012T170000
DTSTAMP:20260424T183648
CREATED:20240718T194625Z
LAST-MODIFIED:20240718T194625Z
UID:10005733-1728748800-1728752400@stvincentferrer.net
SUMMARY:World Mission Sunday
DESCRIPTION:World Mission Sunday\, the annual worldwide Eucharistic celebration for missions and missionaries around the world\, takes place the weekend of Oct. 12-13. This is an opportunity for Catholics to give to those throughout the world in desperate need of food\, shelter\, medical care\, and hope.
URL:https://stvincentferrer.net/event/world-mission-sunday-2/2024-10-12/
LOCATION:St. Vincent Ferrer Church\, 28353 Herbert\, Madison Heights\, MI\, 48071
CATEGORIES:Christian Service,Miscellaneous
GEO:42.4992176;-83.0971204
X-APPLE-STRUCTURED-LOCATION;VALUE=URI;X-ADDRESS=St. Vincent Ferrer Church 28353 Herbert Madison Heights MI 48071;X-APPLE-RADIUS=500;X-TITLE=28353 Herbert:geo:-83.0971204,42.4992176
END:VEVENT
BEGIN:VEVENT
DTSTART;TZID=America/Detroit:20241013T090000
DTEND;TZID=America/Detroit:20241013T100000
DTSTAMP:20260424T183648
CREATED:20240718T193422Z
LAST-MODIFIED:20240718T193422Z
UID:10005731-1728810000-1728813600@stvincentferrer.net
SUMMARY:Blood Pressure Checks after Mass
DESCRIPTION:
URL:https://stvincentferrer.net/event/blood-pressure-checks-after-mass-7/
CATEGORIES:Christian Service
ATTACH;FMTTYPE=image/jpeg:https://stvincentferrer.net/wp-content/uploads/2017/03/BloodPressure_heart.jpg
END:VEVENT
BEGIN:VEVENT
DTSTART;TZID=America/Detroit:20241013T090000
DTEND;TZID=America/Detroit:20241013T100000
DTSTAMP:20260424T183648
CREATED:20240718T193449Z
LAST-MODIFIED:20240718T193449Z
UID:10005732-1728810000-1728813600@stvincentferrer.net
SUMMARY:Coffee & Donuts after Mass
DESCRIPTION:
URL:https://stvincentferrer.net/event/coffee-donuts-after-mass-3/
CATEGORIES:Christian Service,Miscellaneous
ATTACH;FMTTYPE=image/jpeg:https://stvincentferrer.net/wp-content/uploads/2017/03/coffee-and-donuts-clipart-coffeedonut.jpg
END:VEVENT
BEGIN:VEVENT
DTSTART;TZID=America/Detroit:20241013T090000
DTEND;TZID=America/Detroit:20241013T100000
DTSTAMP:20260424T183648
CREATED:20240718T194625Z
LAST-MODIFIED:20240718T194625Z
UID:10005734-1728810000-1728813600@stvincentferrer.net
SUMMARY:World Mission Sunday
DESCRIPTION:World Mission Sunday\, the annual worldwide Eucharistic celebration for missions and missionaries around the world\, takes place the weekend of Oct. 12-13. This is an opportunity for Catholics to give to those throughout the world in desperate need of food\, shelter\, medical care\, and hope.
URL:https://stvincentferrer.net/event/world-mission-sunday-2/2024-10-13/
LOCATION:St. Vincent Ferrer Church\, 28353 Herbert\, Madison Heights\, MI\, 48071
CATEGORIES:Christian Service,Miscellaneous
GEO:42.4992176;-83.0971204
X-APPLE-STRUCTURED-LOCATION;VALUE=URI;X-ADDRESS=St. Vincent Ferrer Church 28353 Herbert Madison Heights MI 48071;X-APPLE-RADIUS=500;X-TITLE=28353 Herbert:geo:-83.0971204,42.4992176
END:VEVENT
BEGIN:VEVENT
DTSTART;TZID=America/Detroit:20241015T090000
DTEND;TZID=America/Detroit:20241015T100000
DTSTAMP:20260424T183648
CREATED:20240716T124106Z
LAST-MODIFIED:20250520T175015Z
UID:10005475-1728982800-1728986400@stvincentferrer.net
SUMMARY:Adoration - Every Tuesday 9am following Mass
DESCRIPTION:
URL:https://stvincentferrer.net/event/adoration-every-tuesday-9am-following-mass/2024-10-15/
CATEGORIES:Worship
ATTACH;FMTTYPE=image/jpeg:https://stvincentferrer.net/wp-content/uploads/2017/03/Monstrance-1.jpg
END:VEVENT
BEGIN:VEVENT
DTSTART;TZID=America/Detroit:20241015T183000
DTEND;TZID=America/Detroit:20241015T193000
DTSTAMP:20260424T183648
CREATED:20240902T165040Z
LAST-MODIFIED:20240905T172153Z
UID:10005179-1729017000-1729020600@stvincentferrer.net
SUMMARY:SVDP - Saint Vincent DePaul Meeting
DESCRIPTION:Our programs support our neighbors with everything from utility\, housing\, and food assistance to education and mentorship\, and more.\nIf you are interested in helping please join us.\nWe meet in Church at 6:30pm.
URL:https://stvincentferrer.net/event/svdp-saint-vincent-depaul-meeting/
LOCATION:St. Vincent Ferrer Church\, 28353 Herbert\, Madison Heights\, MI\, 48071
CATEGORIES:Committee Meeting
ATTACH;FMTTYPE=image/jpeg:https://stvincentferrer.net/wp-content/uploads/2024/03/1453731561-logo-SVDP.jpg
GEO:42.4992176;-83.0971204
X-APPLE-STRUCTURED-LOCATION;VALUE=URI;X-ADDRESS=St. Vincent Ferrer Church 28353 Herbert Madison Heights MI 48071;X-APPLE-RADIUS=500;X-TITLE=28353 Herbert:geo:-83.0971204,42.4992176
END:VEVENT
BEGIN:VEVENT
DTSTART;TZID=America/Detroit:20241016T113000
DTEND;TZID=America/Detroit:20241016T140000
DTSTAMP:20260424T183648
CREATED:20240826T140850Z
LAST-MODIFIED:20240826T140850Z
UID:10005850-1729078200-1729087200@stvincentferrer.net
SUMMARY:Chosen - Season 4
DESCRIPTION:Season 4 of the series Chosen will be viewed at the Administration Hall on Wednesdays starting September 25\, October 2nd\, 9th and 16th.
URL:https://stvincentferrer.net/event/chosen-season-4/2024-10-16/
LOCATION:Hall Administration Building\, 28353 Herbert\, Madison Heights\, MI\, 48071
CATEGORIES:Adult Faith Formation,Christian Service,Miscellaneous
GEO:42.4992176;-83.0971204
X-APPLE-STRUCTURED-LOCATION;VALUE=URI;X-ADDRESS=Hall Administration Building 28353 Herbert Madison Heights MI 48071;X-APPLE-RADIUS=500;X-TITLE=28353 Herbert:geo:-83.0971204,42.4992176
END:VEVENT
BEGIN:VEVENT
DTSTART;TZID=America/Detroit:20241016T190000
DTEND;TZID=America/Detroit:20241016T203000
DTSTAMP:20260424T183648
CREATED:20240822T172729Z
LAST-MODIFIED:20240822T172729Z
UID:10005830-1729105200-1729110600@stvincentferrer.net
SUMMARY:Choir Practice 7pm - Admin. Office
DESCRIPTION:  \n\n\nMusic Ministers must commit to a weekly rehearsal schedule\n\n\nParticipation in the majority of Eucharistic Celebrations throughout the year (September-May)\n\n\nNew members are welcome. Please contact us to schedule an audition.
URL:https://stvincentferrer.net/event/choir-practice-7pm-admin-office/2024-10-16/
LOCATION:Choir Room\, 28353 Herbert\, Madison Heights\, MI\, 48071
CATEGORIES:Music
ATTACH;FMTTYPE=image/jpeg:https://stvincentferrer.net/wp-content/uploads/2023/09/choir-practice-e1732115310867.jpg
GEO:42.4992176;-83.0971204
X-APPLE-STRUCTURED-LOCATION;VALUE=URI;X-ADDRESS=Choir Room 28353 Herbert Madison Heights MI 48071;X-APPLE-RADIUS=500;X-TITLE=28353 Herbert:geo:-83.0971204,42.4992176
END:VEVENT
BEGIN:VEVENT
DTSTART;TZID=America/Detroit:20241016T190000
DTEND;TZID=America/Detroit:20241016T210000
DTSTAMP:20260424T183648
CREATED:20240911T175422Z
LAST-MODIFIED:20241015T182711Z
UID:10005857-1729105200-1729112400@stvincentferrer.net
SUMMARY:Praise and Worship 7pm
DESCRIPTION:
URL:https://stvincentferrer.net/event/praise-and-worship-7pm-2/
CATEGORIES:Mass,Special Mass,Worship
ATTACH;FMTTYPE=image/png:https://stvincentferrer.net/wp-content/uploads/2021/08/wine-and-cheese.png
END:VEVENT
BEGIN:VEVENT
DTSTART;TZID=America/Detroit:20241019T090000
DTEND;TZID=America/Detroit:20241019T120000
DTSTAMP:20260424T183649
CREATED:20240903T190518Z
LAST-MODIFIED:20240903T191420Z
UID:10005852-1729328400-1729339200@stvincentferrer.net
SUMMARY:Mercy in Action
DESCRIPTION:
URL:https://stvincentferrer.net/event/mercy-in-action/
LOCATION:Hall Administration Building\, 28353 Herbert\, Madison Heights\, MI\, 48071
CATEGORIES:Adult Faith Formation,Christian Service,Miscellaneous,Youth Faith Formation
GEO:42.4992176;-83.0971204
X-APPLE-STRUCTURED-LOCATION;VALUE=URI;X-ADDRESS=Hall Administration Building 28353 Herbert Madison Heights MI 48071;X-APPLE-RADIUS=500;X-TITLE=28353 Herbert:geo:-83.0971204,42.4992176
END:VEVENT
BEGIN:VEVENT
DTSTART;TZID=America/Detroit:20241021T181500
DTEND;TZID=America/Detroit:20241021T193000
DTSTAMP:20260424T183649
CREATED:20240806T155944Z
LAST-MODIFIED:20241205T200516Z
UID:10005744-1729534500-1729539000@stvincentferrer.net
SUMMARY:Religious Education Classes 2024-25
DESCRIPTION:
URL:https://stvincentferrer.net/event/religious-education-classes-2024-25/2024-10-21/
LOCATION:School Building\, 1075 E. Gardenia\, Madison Heights\, MI\, 48071\, United States
CATEGORIES:Youth Faith Formation
ATTACH;FMTTYPE=image/jpeg:https://stvincentferrer.net/wp-content/uploads/2021/09/faith-formation.jpg
ORGANIZER;CN="Matthew Zinser":MAILTO:Matthew@stvincentferrer.net
GEO:42.4991272;-83.0960313
X-APPLE-STRUCTURED-LOCATION;VALUE=URI;X-ADDRESS=School Building 1075 E. Gardenia Madison Heights MI 48071 United States;X-APPLE-RADIUS=500;X-TITLE=1075 E. Gardenia:geo:-83.0960313,42.4991272
END:VEVENT
BEGIN:VEVENT
DTSTART;TZID=America/Detroit:20241022T090000
DTEND;TZID=America/Detroit:20241022T100000
DTSTAMP:20260424T183649
CREATED:20240716T124106Z
LAST-MODIFIED:20250520T175015Z
UID:10005476-1729587600-1729591200@stvincentferrer.net
SUMMARY:Adoration - Every Tuesday 9am following Mass
DESCRIPTION:
URL:https://stvincentferrer.net/event/adoration-every-tuesday-9am-following-mass/2024-10-22/
CATEGORIES:Worship
ATTACH;FMTTYPE=image/jpeg:https://stvincentferrer.net/wp-content/uploads/2017/03/Monstrance-1.jpg
END:VEVENT
BEGIN:VEVENT
DTSTART;TZID=America/Detroit:20241023T190000
DTEND;TZID=America/Detroit:20241023T203000
DTSTAMP:20260424T183649
CREATED:20240822T172729Z
LAST-MODIFIED:20240822T172729Z
UID:10005831-1729710000-1729715400@stvincentferrer.net
SUMMARY:Choir Practice 7pm - Admin. Office
DESCRIPTION:  \n\n\nMusic Ministers must commit to a weekly rehearsal schedule\n\n\nParticipation in the majority of Eucharistic Celebrations throughout the year (September-May)\n\n\nNew members are welcome. Please contact us to schedule an audition.
URL:https://stvincentferrer.net/event/choir-practice-7pm-admin-office/2024-10-23/
LOCATION:Choir Room\, 28353 Herbert\, Madison Heights\, MI\, 48071
CATEGORIES:Music
ATTACH;FMTTYPE=image/jpeg:https://stvincentferrer.net/wp-content/uploads/2023/09/choir-practice-e1732115310867.jpg
GEO:42.4992176;-83.0971204
X-APPLE-STRUCTURED-LOCATION;VALUE=URI;X-ADDRESS=Choir Room 28353 Herbert Madison Heights MI 48071;X-APPLE-RADIUS=500;X-TITLE=28353 Herbert:geo:-83.0971204,42.4992176
END:VEVENT
BEGIN:VEVENT
DTSTART;TZID=America/Detroit:20241024T110000
DTEND;TZID=America/Detroit:20241024T200000
DTSTAMP:20260424T183649
CREATED:20240904T185827Z
LAST-MODIFIED:20240904T185827Z
UID:10005855-1729767600-1729800000@stvincentferrer.net
SUMMARY:Blood Drive
DESCRIPTION:
URL:https://stvincentferrer.net/event/blood-drive-2/
LOCATION:Hall Administration Building\, 28353 Herbert\, Madison Heights\, MI\, 48071
CATEGORIES:Christian Service,Miscellaneous
GEO:42.4992176;-83.0971204
X-APPLE-STRUCTURED-LOCATION;VALUE=URI;X-ADDRESS=Hall Administration Building 28353 Herbert Madison Heights MI 48071;X-APPLE-RADIUS=500;X-TITLE=28353 Herbert:geo:-83.0971204,42.4992176
END:VEVENT
BEGIN:VEVENT
DTSTART;TZID=America/Detroit:20241026T090000
DTEND;TZID=America/Detroit:20241026T110000
DTSTAMP:20260424T183649
CREATED:20240821T191450Z
LAST-MODIFIED:20240821T191450Z
UID:10003272-1729933200-1729940400@stvincentferrer.net
SUMMARY:Men's Fellowship and Scripture Reflection
DESCRIPTION:The men’s fellowship group gathers for a scripture reflection/sharing every other Saturday at 9am in the Faith Formation office of the school building.
URL:https://stvincentferrer.net/event/mens-fellowship-and-scripture-reflection-2-2/2024-10-26/
LOCATION:Faith Formation Office\, 1075 E. Gardenia\, Madison Heights\, MI\, United States
CATEGORIES:Adult Faith Formation
ATTACH;FMTTYPE=image/png:https://stvincentferrer.net/wp-content/uploads/2022/01/Mens-Fellowship-1-1.png
ORGANIZER;CN="Tom Karolski":MAILTO:debbie@stvincentferrer.net
GEO:42.4991272;-83.0960313
X-APPLE-STRUCTURED-LOCATION;VALUE=URI;X-ADDRESS=Faith Formation Office 1075 E. Gardenia Madison Heights MI United States;X-APPLE-RADIUS=500;X-TITLE=1075 E. Gardenia:geo:-83.0960313,42.4991272
END:VEVENT
BEGIN:VEVENT
DTSTART;TZID=America/Detroit:20241026T160000
DTEND;TZID=America/Detroit:20241026T170000
DTSTAMP:20260424T183649
CREATED:20240718T193249Z
LAST-MODIFIED:20240718T193249Z
UID:10005729-1729958400-1729962000@stvincentferrer.net
SUMMARY:Healing Mass 4pm
DESCRIPTION:
URL:https://stvincentferrer.net/event/healing-mass-4pm-25/
CATEGORIES:Mass,Worship
ATTACH;FMTTYPE=image/jpeg:https://stvincentferrer.net/wp-content/uploads/2022/11/healing-mass.jpg
END:VEVENT
BEGIN:VEVENT
DTSTART;TZID=America/Detroit:20241028T181500
DTEND;TZID=America/Detroit:20241028T193000
DTSTAMP:20260424T183649
CREATED:20240806T155944Z
LAST-MODIFIED:20241205T200516Z
UID:10005745-1730139300-1730143800@stvincentferrer.net
SUMMARY:Religious Education Classes 2024-25
DESCRIPTION:
URL:https://stvincentferrer.net/event/religious-education-classes-2024-25/2024-10-28/
LOCATION:School Building\, 1075 E. Gardenia\, Madison Heights\, MI\, 48071\, United States
CATEGORIES:Youth Faith Formation
ATTACH;FMTTYPE=image/jpeg:https://stvincentferrer.net/wp-content/uploads/2021/09/faith-formation.jpg
ORGANIZER;CN="Matthew Zinser":MAILTO:Matthew@stvincentferrer.net
GEO:42.4991272;-83.0960313
X-APPLE-STRUCTURED-LOCATION;VALUE=URI;X-ADDRESS=School Building 1075 E. Gardenia Madison Heights MI 48071 United States;X-APPLE-RADIUS=500;X-TITLE=1075 E. Gardenia:geo:-83.0960313,42.4991272
END:VEVENT
BEGIN:VEVENT
DTSTART;TZID=America/Detroit:20241029T090000
DTEND;TZID=America/Detroit:20241029T100000
DTSTAMP:20260424T183649
CREATED:20240716T124106Z
LAST-MODIFIED:20250520T175015Z
UID:10005477-1730192400-1730196000@stvincentferrer.net
SUMMARY:Adoration - Every Tuesday 9am following Mass
DESCRIPTION:
URL:https://stvincentferrer.net/event/adoration-every-tuesday-9am-following-mass/2024-10-29/
CATEGORIES:Worship
ATTACH;FMTTYPE=image/jpeg:https://stvincentferrer.net/wp-content/uploads/2017/03/Monstrance-1.jpg
END:VEVENT
BEGIN:VEVENT
DTSTART;TZID=America/Detroit:20241030T090000
DTEND;TZID=America/Detroit:20241030T110000
DTSTAMP:20260424T183649
CREATED:20240625T140319Z
LAST-MODIFIED:20240625T140319Z
UID:10005190-1730278800-1730286000@stvincentferrer.net
SUMMARY:Breakfast Book Study - The Gift of Being Yourself
DESCRIPTION:In this profound exploration of Christianity identity\, psychologist and spiritual director David G. Benner illuminates the spirituality of self-discovery. He exposes the false selves that we hide behind and calls us to discover the true self that emerges from uniqueness in Christ.\n 
URL:https://stvincentferrer.net/event/breakfast-book-study-the-gift-of-being-yourself/2024-10-30/
LOCATION:Hall Administration Building\, 28353 Herbert\, Madison Heights\, MI\, 48071
CATEGORIES:Adult Faith Formation,Christian Service,Miscellaneous
ORGANIZER;CN="Deborah Tourville":MAILTO:debbie@stvincentferrer.net
GEO:42.4992176;-83.0971204
X-APPLE-STRUCTURED-LOCATION;VALUE=URI;X-ADDRESS=Hall Administration Building 28353 Herbert Madison Heights MI 48071;X-APPLE-RADIUS=500;X-TITLE=28353 Herbert:geo:-83.0971204,42.4992176
END:VEVENT
BEGIN:VEVENT
DTSTART;TZID=America/Detroit:20241030T190000
DTEND;TZID=America/Detroit:20241030T203000
DTSTAMP:20260424T183649
CREATED:20240822T172729Z
LAST-MODIFIED:20240822T172729Z
UID:10005832-1730314800-1730320200@stvincentferrer.net
SUMMARY:Choir Practice 7pm - Admin. Office
DESCRIPTION:  \n\n\nMusic Ministers must commit to a weekly rehearsal schedule\n\n\nParticipation in the majority of Eucharistic Celebrations throughout the year (September-May)\n\n\nNew members are welcome. Please contact us to schedule an audition.
URL:https://stvincentferrer.net/event/choir-practice-7pm-admin-office/2024-10-30/
LOCATION:Choir Room\, 28353 Herbert\, Madison Heights\, MI\, 48071
CATEGORIES:Music
ATTACH;FMTTYPE=image/jpeg:https://stvincentferrer.net/wp-content/uploads/2023/09/choir-practice-e1732115310867.jpg
GEO:42.4992176;-83.0971204
X-APPLE-STRUCTURED-LOCATION;VALUE=URI;X-ADDRESS=Choir Room 28353 Herbert Madison Heights MI 48071;X-APPLE-RADIUS=500;X-TITLE=28353 Herbert:geo:-83.0971204,42.4992176
END:VEVENT
END:VCALENDAR