BEGIN:VCALENDAR
VERSION:2.0
PRODID:-//St. Vincent Ferrer Catholic Church - ECPv6.15.20//NONSGML v1.0//EN
CALSCALE:GREGORIAN
METHOD:PUBLISH
X-ORIGINAL-URL:https://stvincentferrer.net
X-WR-CALDESC:Events for St. Vincent Ferrer Catholic Church
REFRESH-INTERVAL;VALUE=DURATION:PT1H
X-Robots-Tag:noindex
X-PUBLISHED-TTL:PT1H
BEGIN:VTIMEZONE
TZID:America/Detroit
BEGIN:DAYLIGHT
TZOFFSETFROM:-0500
TZOFFSETTO:-0400
TZNAME:EDT
DTSTART:20230312T070000
END:DAYLIGHT
BEGIN:STANDARD
TZOFFSETFROM:-0400
TZOFFSETTO:-0500
TZNAME:EST
DTSTART:20231105T060000
END:STANDARD
BEGIN:DAYLIGHT
TZOFFSETFROM:-0500
TZOFFSETTO:-0400
TZNAME:EDT
DTSTART:20240310T070000
END:DAYLIGHT
BEGIN:STANDARD
TZOFFSETFROM:-0400
TZOFFSETTO:-0500
TZNAME:EST
DTSTART:20241103T060000
END:STANDARD
BEGIN:DAYLIGHT
TZOFFSETFROM:-0500
TZOFFSETTO:-0400
TZNAME:EDT
DTSTART:20250309T070000
END:DAYLIGHT
BEGIN:STANDARD
TZOFFSETFROM:-0400
TZOFFSETTO:-0500
TZNAME:EST
DTSTART:20251102T060000
END:STANDARD
END:VTIMEZONE
BEGIN:VEVENT
DTSTART;TZID=America/Detroit:20240903T090000
DTEND;TZID=America/Detroit:20240903T100000
DTSTAMP:20260424T201449
CREATED:20240716T124106Z
LAST-MODIFIED:20250520T175015Z
UID:10005469-1725354000-1725357600@stvincentferrer.net
SUMMARY:Adoration - Every Tuesday 9am following Mass
DESCRIPTION:
URL:https://stvincentferrer.net/event/adoration-every-tuesday-9am-following-mass/2024-09-03/
CATEGORIES:Worship
ATTACH;FMTTYPE=image/jpeg:https://stvincentferrer.net/wp-content/uploads/2017/03/Monstrance-1.jpg
END:VEVENT
BEGIN:VEVENT
DTSTART;TZID=America/Detroit:20240904T190000
DTEND;TZID=America/Detroit:20240904T203000
DTSTAMP:20260424T201449
CREATED:20240822T172729Z
LAST-MODIFIED:20240822T172729Z
UID:10005824-1725476400-1725481800@stvincentferrer.net
SUMMARY:Choir Practice 7pm - Admin. Office
DESCRIPTION:  \n\n\nMusic Ministers must commit to a weekly rehearsal schedule\n\n\nParticipation in the majority of Eucharistic Celebrations throughout the year (September-May)\n\n\nNew members are welcome. Please contact us to schedule an audition.
URL:https://stvincentferrer.net/event/choir-practice-7pm-admin-office/2024-09-04/
LOCATION:Choir Room\, 28353 Herbert\, Madison Heights\, MI\, 48071
CATEGORIES:Music
ATTACH;FMTTYPE=image/jpeg:https://stvincentferrer.net/wp-content/uploads/2023/09/choir-practice-e1732115310867.jpg
GEO:42.4992176;-83.0971204
X-APPLE-STRUCTURED-LOCATION;VALUE=URI;X-ADDRESS=Choir Room 28353 Herbert Madison Heights MI 48071;X-APPLE-RADIUS=500;X-TITLE=28353 Herbert:geo:-83.0971204,42.4992176
END:VEVENT
BEGIN:VEVENT
DTSTART;TZID=America/Detroit:20240908T090000
DTEND;TZID=America/Detroit:20240908T100000
DTSTAMP:20260424T201449
CREATED:20231030T141100Z
LAST-MODIFIED:20240201T171635Z
UID:10004362-1725786000-1725789600@stvincentferrer.net
SUMMARY:CCSEM Senior Outreach Program - Food Collection
DESCRIPTION:Senior Food Drive\nItems requested:\nIndividual lunchbox sized and packaged snacks\nlike: Crackers\, Granola bars\, Cereal bars and Fruit\nsnacks\nCanned Foods including:io\nSoups\, Stews\, Chili\, Ravioli\, Spaghettios\, Fruit\,\nVegetables\nGift cards in any amount are especially appreciated\nand used to buy perishable foods from:\nKroger\, Meijer\, Walmart or Target\nThe CCSEM Senior Outreach Program\, serving Oakland\, Macomb and Wayne counties\, provides groceries free of charge to the doors of qualifying clients. To qualify clients must meet at least one of the following eligibility requirements: low income\, disabled or lack of transportation. Limited openings are available. To see if you qualify\, contact Stephanie at 586-267-0212 or rubels@ccsem.org.
URL:https://stvincentferrer.net/event/ccsem-senior-outreach-program-food-collection-2/2024-09-08/
CATEGORIES:Christian Service,Miscellaneous
END:VEVENT
BEGIN:VEVENT
DTSTART;TZID=America/Detroit:20240908T090000
DTEND;TZID=America/Detroit:20240908T100000
DTSTAMP:20260424T201449
CREATED:20240718T161124Z
LAST-MODIFIED:20240718T161124Z
UID:10005725-1725786000-1725789600@stvincentferrer.net
SUMMARY:Coffee & Donuts after Mass
DESCRIPTION:
URL:https://stvincentferrer.net/event/coffee-donuts-after-mass-2/
CATEGORIES:Christian Service,Miscellaneous
ATTACH;FMTTYPE=image/jpeg:https://stvincentferrer.net/wp-content/uploads/2017/03/coffee-and-donuts-clipart-coffeedonut.jpg
END:VEVENT
BEGIN:VEVENT
DTSTART;TZID=America/Detroit:20240910T090000
DTEND;TZID=America/Detroit:20240910T100000
DTSTAMP:20260424T201449
CREATED:20240716T124106Z
LAST-MODIFIED:20250520T175015Z
UID:10005470-1725958800-1725962400@stvincentferrer.net
SUMMARY:Adoration - Every Tuesday 9am following Mass
DESCRIPTION:
URL:https://stvincentferrer.net/event/adoration-every-tuesday-9am-following-mass/2024-09-10/
CATEGORIES:Worship
ATTACH;FMTTYPE=image/jpeg:https://stvincentferrer.net/wp-content/uploads/2017/03/Monstrance-1.jpg
END:VEVENT
BEGIN:VEVENT
DTSTART;TZID=America/Detroit:20240910T183000
DTEND;TZID=America/Detroit:20240910T193000
DTSTAMP:20260424T201449
CREATED:20240905T172043Z
LAST-MODIFIED:20240905T172043Z
UID:10005856-1725993000-1725996600@stvincentferrer.net
SUMMARY:SVDP - Saint Vincent DePaul Meeting
DESCRIPTION:Our programs support our neighbors with everything from utility\, housing\, and food assistance to education and mentorship\, and more.\nIf you are interested in helping please join us.\nWe will meet in the Faith Formation office  at 6:30pm.
URL:https://stvincentferrer.net/event/svdp-saint-vincent-depaul-meeting-2/
LOCATION:Faith Formation Office\, 1075 E. Gardenia\, Madison Heights\, MI\, United States
CATEGORIES:Committee Meeting
ATTACH;FMTTYPE=image/jpeg:https://stvincentferrer.net/wp-content/uploads/2024/03/1453731561-logo-SVDP.jpg
GEO:42.4991272;-83.0960313
X-APPLE-STRUCTURED-LOCATION;VALUE=URI;X-ADDRESS=Faith Formation Office 1075 E. Gardenia Madison Heights MI United States;X-APPLE-RADIUS=500;X-TITLE=1075 E. Gardenia:geo:-83.0960313,42.4991272
END:VEVENT
BEGIN:VEVENT
DTSTART;TZID=America/Detroit:20240910T190000
DTEND;TZID=America/Detroit:20240910T200000
DTSTAMP:20260424T201449
CREATED:20240716T184548Z
LAST-MODIFIED:20240821T121759Z
UID:10005724-1725994800-1725998400@stvincentferrer.net
SUMMARY:Intergenerational Healing Mass 7pm
DESCRIPTION:
URL:https://stvincentferrer.net/event/intergenerational-healing-mass-7pm-5/
CATEGORIES:Healing Ministry,Mass,Music,Worship
ATTACH;FMTTYPE=image/jpeg:https://stvincentferrer.net/wp-content/uploads/2024/07/intergenerational-1.jpg
END:VEVENT
BEGIN:VEVENT
DTSTART;TZID=America/Detroit:20240911T190000
DTEND;TZID=America/Detroit:20240911T203000
DTSTAMP:20260424T201449
CREATED:20240822T172729Z
LAST-MODIFIED:20240822T172729Z
UID:10005825-1726081200-1726086600@stvincentferrer.net
SUMMARY:Choir Practice 7pm - Admin. Office
DESCRIPTION:  \n\n\nMusic Ministers must commit to a weekly rehearsal schedule\n\n\nParticipation in the majority of Eucharistic Celebrations throughout the year (September-May)\n\n\nNew members are welcome. Please contact us to schedule an audition.
URL:https://stvincentferrer.net/event/choir-practice-7pm-admin-office/2024-09-11/
LOCATION:Choir Room\, 28353 Herbert\, Madison Heights\, MI\, 48071
CATEGORIES:Music
ATTACH;FMTTYPE=image/jpeg:https://stvincentferrer.net/wp-content/uploads/2023/09/choir-practice-e1732115310867.jpg
GEO:42.4992176;-83.0971204
X-APPLE-STRUCTURED-LOCATION;VALUE=URI;X-ADDRESS=Choir Room 28353 Herbert Madison Heights MI 48071;X-APPLE-RADIUS=500;X-TITLE=28353 Herbert:geo:-83.0971204,42.4992176
END:VEVENT
BEGIN:VEVENT
DTSTART;TZID=America/Detroit:20240914T090000
DTEND;TZID=America/Detroit:20240914T110000
DTSTAMP:20260424T201449
CREATED:20240821T191450Z
LAST-MODIFIED:20240821T191450Z
UID:10003269-1726304400-1726311600@stvincentferrer.net
SUMMARY:Men's Fellowship and Scripture Reflection
DESCRIPTION:The men’s fellowship group gathers for a scripture reflection/sharing every other Saturday at 9am in the Faith Formation office of the school building.
URL:https://stvincentferrer.net/event/mens-fellowship-and-scripture-reflection-2-2/2024-09-14/
LOCATION:Faith Formation Office\, 1075 E. Gardenia\, Madison Heights\, MI\, United States
CATEGORIES:Adult Faith Formation
ATTACH;FMTTYPE=image/png:https://stvincentferrer.net/wp-content/uploads/2022/01/Mens-Fellowship-1-1.png
ORGANIZER;CN="Tom Karolski":MAILTO:debbie@stvincentferrer.net
GEO:42.4991272;-83.0960313
X-APPLE-STRUCTURED-LOCATION;VALUE=URI;X-ADDRESS=Faith Formation Office 1075 E. Gardenia Madison Heights MI United States;X-APPLE-RADIUS=500;X-TITLE=1075 E. Gardenia:geo:-83.0960313,42.4991272
END:VEVENT
BEGIN:VEVENT
DTSTART;TZID=America/Detroit:20240917T090000
DTEND;TZID=America/Detroit:20240917T100000
DTSTAMP:20260424T201449
CREATED:20240716T124106Z
LAST-MODIFIED:20250520T175015Z
UID:10005471-1726563600-1726567200@stvincentferrer.net
SUMMARY:Adoration - Every Tuesday 9am following Mass
DESCRIPTION:
URL:https://stvincentferrer.net/event/adoration-every-tuesday-9am-following-mass/2024-09-17/
CATEGORIES:Worship
ATTACH;FMTTYPE=image/jpeg:https://stvincentferrer.net/wp-content/uploads/2017/03/Monstrance-1.jpg
END:VEVENT
BEGIN:VEVENT
DTSTART;TZID=America/Detroit:20240918T190000
DTEND;TZID=America/Detroit:20240918T203000
DTSTAMP:20260424T201449
CREATED:20240822T172729Z
LAST-MODIFIED:20240822T172729Z
UID:10005826-1726686000-1726691400@stvincentferrer.net
SUMMARY:Choir Practice 7pm - Admin. Office
DESCRIPTION:  \n\n\nMusic Ministers must commit to a weekly rehearsal schedule\n\n\nParticipation in the majority of Eucharistic Celebrations throughout the year (September-May)\n\n\nNew members are welcome. Please contact us to schedule an audition.
URL:https://stvincentferrer.net/event/choir-practice-7pm-admin-office/2024-09-18/
LOCATION:Choir Room\, 28353 Herbert\, Madison Heights\, MI\, 48071
CATEGORIES:Music
ATTACH;FMTTYPE=image/jpeg:https://stvincentferrer.net/wp-content/uploads/2023/09/choir-practice-e1732115310867.jpg
GEO:42.4992176;-83.0971204
X-APPLE-STRUCTURED-LOCATION;VALUE=URI;X-ADDRESS=Choir Room 28353 Herbert Madison Heights MI 48071;X-APPLE-RADIUS=500;X-TITLE=28353 Herbert:geo:-83.0971204,42.4992176
END:VEVENT
BEGIN:VEVENT
DTSTART;TZID=America/Detroit:20240921T133000
DTEND;TZID=America/Detroit:20240921T150000
DTSTAMP:20260424T201449
CREATED:20240903T200041Z
LAST-MODIFIED:20240903T200041Z
UID:10005853-1726925400-1726930800@stvincentferrer.net
SUMMARY:Baptism Preparation Class - 1:30
DESCRIPTION:
URL:https://stvincentferrer.net/event/baptism-preparation-class-130/
LOCATION:Conference Room – Admin Bldg
CATEGORIES:Christian Service,Miscellaneous
ATTACH;FMTTYPE=image/jpeg:https://stvincentferrer.net/wp-content/uploads/2024/03/Baptism_0011.jpg
ORGANIZER;CN="Mary Ann Przybysz":MAILTO:maryann@stvincentferrer.net
END:VEVENT
BEGIN:VEVENT
DTSTART;TZID=America/Detroit:20240922T090000
DTEND;TZID=America/Detroit:20240922T100000
DTSTAMP:20260424T201449
CREATED:20240724T195311Z
LAST-MODIFIED:20240903T192331Z
UID:10005739-1726995600-1726999200@stvincentferrer.net
SUMMARY:Catechetical Sunday- Moved from 9/15
DESCRIPTION:Each year\, the Catholic Church in the United States designates Sunday in September as “Catechetical Sunday”—a day on which to celebrate and pray for the Church’s mission to teach the Gospel to all people.\nThis year’s theme is “Lord\, when did we see you hungry?” (Matthew 25:37)
URL:https://stvincentferrer.net/event/catechetical-sunday/
CATEGORIES:Mass,Miscellaneous
ATTACH;FMTTYPE=image/png:https://stvincentferrer.net/wp-content/uploads/2024/07/Catechetical-Sun-3349-675x450-1.png
END:VEVENT
BEGIN:VEVENT
DTSTART;TZID=America/Detroit:20240923T181500
DTEND;TZID=America/Detroit:20240923T193000
DTSTAMP:20260424T201449
CREATED:20240806T155944Z
LAST-MODIFIED:20241205T200516Z
UID:10005768-1727115300-1727119800@stvincentferrer.net
SUMMARY:Religious Education Classes 2024-25
DESCRIPTION:
URL:https://stvincentferrer.net/event/religious-education-classes-2024-25/2024-09-23/
LOCATION:School Building\, 1075 E. Gardenia\, Madison Heights\, MI\, 48071\, United States
CATEGORIES:Youth Faith Formation
ATTACH;FMTTYPE=image/jpeg:https://stvincentferrer.net/wp-content/uploads/2021/09/faith-formation.jpg
ORGANIZER;CN="Matthew Zinser":MAILTO:Matthew@stvincentferrer.net
GEO:42.4991272;-83.0960313
X-APPLE-STRUCTURED-LOCATION;VALUE=URI;X-ADDRESS=School Building 1075 E. Gardenia Madison Heights MI 48071 United States;X-APPLE-RADIUS=500;X-TITLE=1075 E. Gardenia:geo:-83.0960313,42.4991272
END:VEVENT
BEGIN:VEVENT
DTSTART;TZID=America/Detroit:20240924T090000
DTEND;TZID=America/Detroit:20240924T100000
DTSTAMP:20260424T201449
CREATED:20240716T124106Z
LAST-MODIFIED:20250520T175015Z
UID:10005472-1727168400-1727172000@stvincentferrer.net
SUMMARY:Adoration - Every Tuesday 9am following Mass
DESCRIPTION:
URL:https://stvincentferrer.net/event/adoration-every-tuesday-9am-following-mass/2024-09-24/
CATEGORIES:Worship
ATTACH;FMTTYPE=image/jpeg:https://stvincentferrer.net/wp-content/uploads/2017/03/Monstrance-1.jpg
END:VEVENT
BEGIN:VEVENT
DTSTART;TZID=America/Detroit:20240925T113000
DTEND;TZID=America/Detroit:20240925T140000
DTSTAMP:20260424T201449
CREATED:20240826T140850Z
LAST-MODIFIED:20240826T140850Z
UID:10005847-1727263800-1727272800@stvincentferrer.net
SUMMARY:Chosen - Season 4
DESCRIPTION:Season 4 of the series Chosen will be viewed at the Administration Hall on Wednesdays starting September 25\, October 2nd\, 9th and 16th.
URL:https://stvincentferrer.net/event/chosen-season-4/2024-09-25/
LOCATION:Hall Administration Building\, 28353 Herbert\, Madison Heights\, MI\, 48071
CATEGORIES:Adult Faith Formation,Christian Service,Miscellaneous
GEO:42.4992176;-83.0971204
X-APPLE-STRUCTURED-LOCATION;VALUE=URI;X-ADDRESS=Hall Administration Building 28353 Herbert Madison Heights MI 48071;X-APPLE-RADIUS=500;X-TITLE=28353 Herbert:geo:-83.0971204,42.4992176
END:VEVENT
BEGIN:VEVENT
DTSTART;TZID=America/Detroit:20240925T190000
DTEND;TZID=America/Detroit:20240925T203000
DTSTAMP:20260424T201449
CREATED:20240822T172729Z
LAST-MODIFIED:20240822T172729Z
UID:10005827-1727290800-1727296200@stvincentferrer.net
SUMMARY:Choir Practice 7pm - Admin. Office
DESCRIPTION:  \n\n\nMusic Ministers must commit to a weekly rehearsal schedule\n\n\nParticipation in the majority of Eucharistic Celebrations throughout the year (September-May)\n\n\nNew members are welcome. Please contact us to schedule an audition.
URL:https://stvincentferrer.net/event/choir-practice-7pm-admin-office/2024-09-25/
LOCATION:Choir Room\, 28353 Herbert\, Madison Heights\, MI\, 48071
CATEGORIES:Music
ATTACH;FMTTYPE=image/jpeg:https://stvincentferrer.net/wp-content/uploads/2023/09/choir-practice-e1732115310867.jpg
GEO:42.4992176;-83.0971204
X-APPLE-STRUCTURED-LOCATION;VALUE=URI;X-ADDRESS=Choir Room 28353 Herbert Madison Heights MI 48071;X-APPLE-RADIUS=500;X-TITLE=28353 Herbert:geo:-83.0971204,42.4992176
END:VEVENT
BEGIN:VEVENT
DTSTART;TZID=America/Detroit:20240926T180000
DTEND;TZID=America/Detroit:20240926T200000
DTSTAMP:20260424T201449
CREATED:20240718T163300Z
LAST-MODIFIED:20240718T163320Z
UID:10005728-1727373600-1727380800@stvincentferrer.net
SUMMARY:Prayer Blanket  6 - 8pm  Church Hall
DESCRIPTION:
URL:https://stvincentferrer.net/event/prayer-blanket-6-8pm-church-hall/
CATEGORIES:Christian Service
END:VEVENT
BEGIN:VEVENT
DTSTART;TZID=America/Detroit:20240928T090000
DTEND;TZID=America/Detroit:20240928T110000
DTSTAMP:20260424T201449
CREATED:20240821T191450Z
LAST-MODIFIED:20240821T191450Z
UID:10003270-1727514000-1727521200@stvincentferrer.net
SUMMARY:Men's Fellowship and Scripture Reflection
DESCRIPTION:The men’s fellowship group gathers for a scripture reflection/sharing every other Saturday at 9am in the Faith Formation office of the school building.
URL:https://stvincentferrer.net/event/mens-fellowship-and-scripture-reflection-2-2/2024-09-28/
LOCATION:Faith Formation Office\, 1075 E. Gardenia\, Madison Heights\, MI\, United States
CATEGORIES:Adult Faith Formation
ATTACH;FMTTYPE=image/png:https://stvincentferrer.net/wp-content/uploads/2022/01/Mens-Fellowship-1-1.png
ORGANIZER;CN="Tom Karolski":MAILTO:debbie@stvincentferrer.net
GEO:42.4991272;-83.0960313
X-APPLE-STRUCTURED-LOCATION;VALUE=URI;X-ADDRESS=Faith Formation Office 1075 E. Gardenia Madison Heights MI United States;X-APPLE-RADIUS=500;X-TITLE=1075 E. Gardenia:geo:-83.0960313,42.4991272
END:VEVENT
BEGIN:VEVENT
DTSTART;TZID=America/Detroit:20240928T160000
DTEND;TZID=America/Detroit:20240928T170000
DTSTAMP:20260424T201449
CREATED:20240716T180921Z
LAST-MODIFIED:20240821T121956Z
UID:10005723-1727539200-1727542800@stvincentferrer.net
SUMMARY:Healing Mass 4pm
DESCRIPTION:
URL:https://stvincentferrer.net/event/healing-mass-5/
CATEGORIES:Healing Ministry,Mass,Worship
ATTACH;FMTTYPE=image/jpeg:https://stvincentferrer.net/wp-content/uploads/2022/11/healing-mass.jpg
END:VEVENT
BEGIN:VEVENT
DTSTART;TZID=America/Detroit:20240929T090000
DTEND;TZID=America/Detroit:20240929T100000
DTSTAMP:20260424T201449
CREATED:20240731T155055Z
LAST-MODIFIED:20240903T135804Z
UID:10005741-1727600400-1727604000@stvincentferrer.net
SUMMARY:Priesthood Sunday
DESCRIPTION:Priesthood Sunday is a special day set aside to honor priesthood. It is a day to reflect upon and affirm the role of the priesthood in the life of the Church as a central one.
URL:https://stvincentferrer.net/event/priesthood-sunday/
CATEGORIES:Mass
ATTACH;FMTTYPE=image/jpeg:https://stvincentferrer.net/wp-content/uploads/2024/07/priesthood.jpg
END:VEVENT
BEGIN:VEVENT
DTSTART;TZID=America/Detroit:20240930T181500
DTEND;TZID=America/Detroit:20240930T193000
DTSTAMP:20260424T201449
CREATED:20240806T155944Z
LAST-MODIFIED:20241205T200516Z
UID:10005742-1727720100-1727724600@stvincentferrer.net
SUMMARY:Religious Education Classes 2024-25
DESCRIPTION:
URL:https://stvincentferrer.net/event/religious-education-classes-2024-25/2024-09-30/
LOCATION:School Building\, 1075 E. Gardenia\, Madison Heights\, MI\, 48071\, United States
CATEGORIES:Youth Faith Formation
ATTACH;FMTTYPE=image/jpeg:https://stvincentferrer.net/wp-content/uploads/2021/09/faith-formation.jpg
ORGANIZER;CN="Matthew Zinser":MAILTO:Matthew@stvincentferrer.net
GEO:42.4991272;-83.0960313
X-APPLE-STRUCTURED-LOCATION;VALUE=URI;X-ADDRESS=School Building 1075 E. Gardenia Madison Heights MI 48071 United States;X-APPLE-RADIUS=500;X-TITLE=1075 E. Gardenia:geo:-83.0960313,42.4991272
END:VEVENT
END:VCALENDAR