BEGIN:VCALENDAR
VERSION:2.0
PRODID:-//St. Vincent Ferrer Catholic Church - ECPv6.15.20//NONSGML v1.0//EN
CALSCALE:GREGORIAN
METHOD:PUBLISH
X-ORIGINAL-URL:https://stvincentferrer.net
X-WR-CALDESC:Events for St. Vincent Ferrer Catholic Church
REFRESH-INTERVAL;VALUE=DURATION:PT1H
X-Robots-Tag:noindex
X-PUBLISHED-TTL:PT1H
BEGIN:VTIMEZONE
TZID:America/Detroit
BEGIN:DAYLIGHT
TZOFFSETFROM:-0500
TZOFFSETTO:-0400
TZNAME:EDT
DTSTART:20220313T070000
END:DAYLIGHT
BEGIN:STANDARD
TZOFFSETFROM:-0400
TZOFFSETTO:-0500
TZNAME:EST
DTSTART:20221106T060000
END:STANDARD
BEGIN:DAYLIGHT
TZOFFSETFROM:-0500
TZOFFSETTO:-0400
TZNAME:EDT
DTSTART:20230312T070000
END:DAYLIGHT
BEGIN:STANDARD
TZOFFSETFROM:-0400
TZOFFSETTO:-0500
TZNAME:EST
DTSTART:20231105T060000
END:STANDARD
BEGIN:DAYLIGHT
TZOFFSETFROM:-0500
TZOFFSETTO:-0400
TZNAME:EDT
DTSTART:20240310T070000
END:DAYLIGHT
BEGIN:STANDARD
TZOFFSETFROM:-0400
TZOFFSETTO:-0500
TZNAME:EST
DTSTART:20241103T060000
END:STANDARD
END:VTIMEZONE
BEGIN:VEVENT
DTSTART;TZID=America/Detroit:20231028T090000
DTEND;TZID=America/Detroit:20231119T163000
DTSTAMP:20260425T125412
CREATED:20231010T145721Z
LAST-MODIFIED:20231010T145721Z
UID:10004451-1698483600-1700411400@stvincentferrer.net
SUMMARY:Thanksgiving Food Drive October 28 - November 19th\, 2023
DESCRIPTION:
URL:https://stvincentferrer.net/event/thanksgiving-food-drive-october-28-november-19th-2023/
LOCATION:St. Vincent Ferrer Church\, 28353 Herbert\, Madison Heights\, MI\, 48071
CATEGORIES:Christian Service,Miscellaneous
ATTACH;FMTTYPE=image/jpeg:https://stvincentferrer.net/wp-content/uploads/2021/10/thanksgiving-day.jpeg
ORGANIZER;CN="Christian Service":MAILTO:MaryAnn@stvincentferrer.net
GEO:42.4992176;-83.0971204
X-APPLE-STRUCTURED-LOCATION;VALUE=URI;X-ADDRESS=St. Vincent Ferrer Church 28353 Herbert Madison Heights MI 48071;X-APPLE-RADIUS=500;X-TITLE=28353 Herbert:geo:-83.0971204,42.4992176
END:VEVENT
BEGIN:VEVENT
DTSTART;TZID=America/Detroit:20231101T080000
DTEND;TZID=America/Detroit:20231101T090000
DTSTAMP:20260425T125412
CREATED:20230927T182856Z
LAST-MODIFIED:20230927T182856Z
UID:10004411-1698825600-1698829200@stvincentferrer.net
SUMMARY:All Saints Masses 8am and 7pm
DESCRIPTION:
URL:https://stvincentferrer.net/event/all-saints-masses-8am-and-7pm/2023-11-01/1/
LOCATION:St. Vincent Ferrer Church\, 28353 Herbert\, Madison Heights\, MI\, 48071
CATEGORIES:Mass,Special Mass
ATTACH;FMTTYPE=image/jpeg:https://stvincentferrer.net/wp-content/uploads/2023/09/Saints1Nov.jpg
GEO:42.4992176;-83.0971204
X-APPLE-STRUCTURED-LOCATION;VALUE=URI;X-ADDRESS=St. Vincent Ferrer Church 28353 Herbert Madison Heights MI 48071;X-APPLE-RADIUS=500;X-TITLE=28353 Herbert:geo:-83.0971204,42.4992176
END:VEVENT
BEGIN:VEVENT
DTSTART;TZID=America/Detroit:20231101T090000
DTEND;TZID=America/Detroit:20231101T110000
DTSTAMP:20260425T125412
CREATED:20230920T190940Z
LAST-MODIFIED:20231121T154941Z
UID:10003786-1698829200-1698836400@stvincentferrer.net
SUMMARY:Wednesday Mornings Book Study - How Big is Your God? By Paul Coutinho\, SJ
DESCRIPTION:The Wednesday Morning Book Study begins September 13@ 9am in the Parish Administration Building. The book will be studied over a 16-week period allowing us to prayerfully reflect on the chapters. Each class will offer a time for teaching\, reflection\, and sharing.\nA small breakfast is offered so please let the office know if you are attending\, 248-542-8720.
URL:https://stvincentferrer.net/event/wednesday-mornings-book-study-how-big-is-your-god-by-paul-coutinho-sj-2/2023-11-01/
LOCATION:Hall Administration Building\, 28353 Herbert\, Madison Heights\, MI\, 48071
CATEGORIES:Christian Service,Miscellaneous
ORGANIZER;CN="Deborah Tourville":MAILTO:debbie@stvincentferrer.net
GEO:42.4992176;-83.0971204
X-APPLE-STRUCTURED-LOCATION;VALUE=URI;X-ADDRESS=Hall Administration Building 28353 Herbert Madison Heights MI 48071;X-APPLE-RADIUS=500;X-TITLE=28353 Herbert:geo:-83.0971204,42.4992176
END:VEVENT
BEGIN:VEVENT
DTSTART;TZID=America/Detroit:20231101T190000
DTEND;TZID=America/Detroit:20231101T200000
DTSTAMP:20260425T125412
CREATED:20230927T182856Z
LAST-MODIFIED:20230927T182856Z
UID:10004412-1698865200-1698868800@stvincentferrer.net
SUMMARY:All Saints Masses 8am and 7pm
DESCRIPTION:
URL:https://stvincentferrer.net/event/all-saints-masses-8am-and-7pm/2023-11-01/2/
LOCATION:St. Vincent Ferrer Church\, 28353 Herbert\, Madison Heights\, MI\, 48071
CATEGORIES:Mass,Special Mass
ATTACH;FMTTYPE=image/jpeg:https://stvincentferrer.net/wp-content/uploads/2023/09/Saints1Nov.jpg
GEO:42.4992176;-83.0971204
X-APPLE-STRUCTURED-LOCATION;VALUE=URI;X-ADDRESS=St. Vincent Ferrer Church 28353 Herbert Madison Heights MI 48071;X-APPLE-RADIUS=500;X-TITLE=28353 Herbert:geo:-83.0971204,42.4992176
END:VEVENT
BEGIN:VEVENT
DTSTART;TZID=America/Detroit:20231102T080000
DTEND;TZID=America/Detroit:20231102T090000
DTSTAMP:20260425T125412
CREATED:20230927T183551Z
LAST-MODIFIED:20230927T183551Z
UID:10004413-1698912000-1698915600@stvincentferrer.net
SUMMARY:All Souls Mass 8am
DESCRIPTION:
URL:https://stvincentferrer.net/event/all-souls-mass-8am/
LOCATION:St. Vincent Ferrer Church\, 28353 Herbert\, Madison Heights\, MI\, 48071
CATEGORIES:Special Mass
ATTACH;FMTTYPE=image/jpeg:https://stvincentferrer.net/wp-content/uploads/2017/10/all-souls.jpg
GEO:42.4992176;-83.0971204
X-APPLE-STRUCTURED-LOCATION;VALUE=URI;X-ADDRESS=St. Vincent Ferrer Church 28353 Herbert Madison Heights MI 48071;X-APPLE-RADIUS=500;X-TITLE=28353 Herbert:geo:-83.0971204,42.4992176
END:VEVENT
BEGIN:VEVENT
DTSTART;TZID=America/Detroit:20231102T190000
DTEND;TZID=America/Detroit:20231102T200000
DTSTAMP:20260425T125412
CREATED:20231010T192133Z
LAST-MODIFIED:20231010T192134Z
UID:10004030-1698951600-1698955200@stvincentferrer.net
SUMMARY:Catechesis for Adults and Youth - Come and Listen to the Announcement of the Good News of Jesus Christ
DESCRIPTION:
URL:https://stvincentferrer.net/event/catechesis-for-adults-and-youth-come-and-listen-to-the-announcement-of-the-good-news-of-jesus-christ-2/2023-11-02/
LOCATION:Hall Administration Building\, 28353 Herbert\, Madison Heights\, MI\, 48071
CATEGORIES:Adult Faith Formation,Miscellaneous,Youth Faith Formation
ORGANIZER;CN="Matthew Zinser":MAILTO:Matthew@stvincentferrer.net
GEO:42.4992176;-83.0971204
X-APPLE-STRUCTURED-LOCATION;VALUE=URI;X-ADDRESS=Hall Administration Building 28353 Herbert Madison Heights MI 48071;X-APPLE-RADIUS=500;X-TITLE=28353 Herbert:geo:-83.0971204,42.4992176
END:VEVENT
BEGIN:VEVENT
DTSTART;VALUE=DATE:20231105
DTEND;VALUE=DATE:20231112
DTSTAMP:20260425T125412
CREATED:20231003T142838Z
LAST-MODIFIED:20231003T143225Z
UID:10004442-1699142400-1699747199@stvincentferrer.net
SUMMARY:National Vocations Awareness Week 5th - 11th
DESCRIPTION:
URL:https://stvincentferrer.net/event/national-vocations-awareness-week-5th-11th/
CATEGORIES:Miscellaneous
END:VEVENT
BEGIN:VEVENT
DTSTART;TZID=America/Detroit:20231105T020000
DTEND;TZID=America/Detroit:20231105T020000
DTSTAMP:20260425T125412
CREATED:20231024T164323Z
LAST-MODIFIED:20231024T164323Z
UID:10004468-1699149600-1699149600@stvincentferrer.net
SUMMARY:Fall Back - Time change
DESCRIPTION:Nov 5\, 2023 – Daylight Saving Time Ends\nWhen local daylight time is about to reach\nSunday\, November 5\, 2023\, 2:00:00 am clocks are turned backward 1 hour to\nSunday\, November 5\, 2023\, 1:00:00 am local standard time instead. \nSunrise and sunset will be about 1 hour earlier on Nov 5\, 2023 than the day before. There will be more light in the morning.
URL:https://stvincentferrer.net/event/fall-back-time-change/
CATEGORIES:Miscellaneous
END:VEVENT
BEGIN:VEVENT
DTSTART;TZID=America/Detroit:20231106T181500
DTEND;TZID=America/Detroit:20231106T193000
DTSTAMP:20260425T125412
CREATED:20231010T142215Z
LAST-MODIFIED:20240327T171617Z
UID:10004419-1699294500-1699299000@stvincentferrer.net
SUMMARY:Faith Formation  6:15pm - 7:30pm
DESCRIPTION:Faith Formation is a continuing process of coming to know the love of God and letting that love flow to others in thought\, word\, and action.\nScripture based lessons lead young people to know the plan of God who creates us\, redeems us\, and leads us in love to true happiness.
URL:https://stvincentferrer.net/event/faith-formation-615pm-730pm-2/2023-11-06/
CATEGORIES:Youth Faith Formation
ATTACH;FMTTYPE=image/jpeg:https://stvincentferrer.net/wp-content/uploads/2021/09/faith-formation.jpg
END:VEVENT
BEGIN:VEVENT
DTSTART;TZID=America/Detroit:20231106T190000
DTEND;TZID=America/Detroit:20231106T200000
DTSTAMP:20260425T125412
CREATED:20231010T192133Z
LAST-MODIFIED:20231010T192134Z
UID:10004031-1699297200-1699300800@stvincentferrer.net
SUMMARY:Catechesis for Adults and Youth - Come and Listen to the Announcement of the Good News of Jesus Christ
DESCRIPTION:
URL:https://stvincentferrer.net/event/catechesis-for-adults-and-youth-come-and-listen-to-the-announcement-of-the-good-news-of-jesus-christ-2/2023-11-06/
LOCATION:Hall Administration Building\, 28353 Herbert\, Madison Heights\, MI\, 48071
CATEGORIES:Adult Faith Formation,Miscellaneous,Youth Faith Formation
ORGANIZER;CN="Matthew Zinser":MAILTO:Matthew@stvincentferrer.net
GEO:42.4992176;-83.0971204
X-APPLE-STRUCTURED-LOCATION;VALUE=URI;X-ADDRESS=Hall Administration Building 28353 Herbert Madison Heights MI 48071;X-APPLE-RADIUS=500;X-TITLE=28353 Herbert:geo:-83.0971204,42.4992176
END:VEVENT
BEGIN:VEVENT
DTSTART;TZID=America/Detroit:20231107T190000
DTEND;TZID=America/Detroit:20231107T200000
DTSTAMP:20260425T125412
CREATED:20231003T144955Z
LAST-MODIFIED:20231003T144955Z
UID:10004449-1699383600-1699387200@stvincentferrer.net
SUMMARY:Mass of Remembrance 7pm
DESCRIPTION:
URL:https://stvincentferrer.net/event/mass-of-remembrance-7pm/
LOCATION:St. Vincent Ferrer Church\, 28353 Herbert\, Madison Heights\, MI\, 48071
CATEGORIES:Christian Service,Mass,Miscellaneous,Special Mass
GEO:42.4992176;-83.0971204
X-APPLE-STRUCTURED-LOCATION;VALUE=URI;X-ADDRESS=St. Vincent Ferrer Church 28353 Herbert Madison Heights MI 48071;X-APPLE-RADIUS=500;X-TITLE=28353 Herbert:geo:-83.0971204,42.4992176
END:VEVENT
BEGIN:VEVENT
DTSTART;TZID=America/Detroit:20231108T090000
DTEND;TZID=America/Detroit:20231108T110000
DTSTAMP:20260425T125412
CREATED:20230920T190940Z
LAST-MODIFIED:20231121T154941Z
UID:10003787-1699434000-1699441200@stvincentferrer.net
SUMMARY:Wednesday Mornings Book Study - How Big is Your God? By Paul Coutinho\, SJ
DESCRIPTION:The Wednesday Morning Book Study begins September 13@ 9am in the Parish Administration Building. The book will be studied over a 16-week period allowing us to prayerfully reflect on the chapters. Each class will offer a time for teaching\, reflection\, and sharing.\nA small breakfast is offered so please let the office know if you are attending\, 248-542-8720.
URL:https://stvincentferrer.net/event/wednesday-mornings-book-study-how-big-is-your-god-by-paul-coutinho-sj-2/2023-11-08/
LOCATION:Hall Administration Building\, 28353 Herbert\, Madison Heights\, MI\, 48071
CATEGORIES:Christian Service,Miscellaneous
ORGANIZER;CN="Deborah Tourville":MAILTO:debbie@stvincentferrer.net
GEO:42.4992176;-83.0971204
X-APPLE-STRUCTURED-LOCATION;VALUE=URI;X-ADDRESS=Hall Administration Building 28353 Herbert Madison Heights MI 48071;X-APPLE-RADIUS=500;X-TITLE=28353 Herbert:geo:-83.0971204,42.4992176
END:VEVENT
BEGIN:VEVENT
DTSTART;TZID=America/Detroit:20231109T190000
DTEND;TZID=America/Detroit:20231109T200000
DTSTAMP:20260425T125412
CREATED:20231010T192133Z
LAST-MODIFIED:20231010T192134Z
UID:10004032-1699556400-1699560000@stvincentferrer.net
SUMMARY:Catechesis for Adults and Youth - Come and Listen to the Announcement of the Good News of Jesus Christ
DESCRIPTION:
URL:https://stvincentferrer.net/event/catechesis-for-adults-and-youth-come-and-listen-to-the-announcement-of-the-good-news-of-jesus-christ-2/2023-11-09/
LOCATION:Hall Administration Building\, 28353 Herbert\, Madison Heights\, MI\, 48071
CATEGORIES:Adult Faith Formation,Miscellaneous,Youth Faith Formation
ORGANIZER;CN="Matthew Zinser":MAILTO:Matthew@stvincentferrer.net
GEO:42.4992176;-83.0971204
X-APPLE-STRUCTURED-LOCATION;VALUE=URI;X-ADDRESS=Hall Administration Building 28353 Herbert Madison Heights MI 48071;X-APPLE-RADIUS=500;X-TITLE=28353 Herbert:geo:-83.0971204,42.4992176
END:VEVENT
BEGIN:VEVENT
DTSTART;TZID=America/Detroit:20231111T090000
DTEND;TZID=America/Detroit:20231111T110000
DTSTAMP:20260425T125412
CREATED:20240314T141554Z
LAST-MODIFIED:20240320T122334Z
UID:10003247-1699693200-1699700400@stvincentferrer.net
SUMMARY:Men's Fellowship and Scripture Reflection
DESCRIPTION:The men’s fellowship group gathers for a scripture reflection/sharing every other Saturday at 9am in the Faith Formation office of the school building.
URL:https://stvincentferrer.net/event/mens-fellowship-and-scripture-reflection-2/2023-11-11/
LOCATION:Faith Formation Office\, 1075 E. Gardenia\, Madison Heights\, MI\, United States
CATEGORIES:Christian Service
ATTACH;FMTTYPE=image/png:https://stvincentferrer.net/wp-content/uploads/2022/01/Mens-Fellowship-1-1.png
ORGANIZER;CN="Tom Karolski":MAILTO:debbie@stvincentferrer.net
GEO:42.4991272;-83.0960313
X-APPLE-STRUCTURED-LOCATION;VALUE=URI;X-ADDRESS=Faith Formation Office 1075 E. Gardenia Madison Heights MI United States;X-APPLE-RADIUS=500;X-TITLE=1075 E. Gardenia:geo:-83.0960313,42.4991272
END:VEVENT
BEGIN:VEVENT
DTSTART;TZID=America/Detroit:20231111T160000
DTEND;TZID=America/Detroit:20231111T170000
DTSTAMP:20260425T125412
CREATED:20231102T191400Z
LAST-MODIFIED:20231102T191400Z
UID:10004497-1699718400-1699722000@stvincentferrer.net
SUMMARY:Veterans Day - 4pm Mass
DESCRIPTION:Thank you for your service.
URL:https://stvincentferrer.net/event/veterans-day-4pm-mass/
LOCATION:St. Vincent Ferrer Church\, 28353 Herbert\, Madison Heights\, MI\, 48071
CATEGORIES:Mass
ATTACH;FMTTYPE=image/jpeg:https://stvincentferrer.net/wp-content/uploads/2023/10/veterans-day-thank-you-DP1-e1540732806593.jpg
GEO:42.4992176;-83.0971204
X-APPLE-STRUCTURED-LOCATION;VALUE=URI;X-ADDRESS=St. Vincent Ferrer Church 28353 Herbert Madison Heights MI 48071;X-APPLE-RADIUS=500;X-TITLE=28353 Herbert:geo:-83.0971204,42.4992176
END:VEVENT
BEGIN:VEVENT
DTSTART;TZID=America/Detroit:20231112T100000
DTEND;TZID=America/Detroit:20231112T110000
DTSTAMP:20260425T125412
CREATED:20231023T170642Z
LAST-MODIFIED:20231023T170642Z
UID:10004466-1699783200-1699786800@stvincentferrer.net
SUMMARY:Blood Pressure Checks after Mass
DESCRIPTION:
URL:https://stvincentferrer.net/event/blood-pressure-checks-after-mass-5/
CATEGORIES:Christian Service,Miscellaneous
ATTACH;FMTTYPE=image/jpeg:https://stvincentferrer.net/wp-content/uploads/2022/12/blood-pressure.jpg
END:VEVENT
BEGIN:VEVENT
DTSTART;TZID=America/Detroit:20231112T100000
DTEND;TZID=America/Detroit:20231112T113000
DTSTAMP:20260425T125412
CREATED:20231023T170401Z
LAST-MODIFIED:20231023T170401Z
UID:10004465-1699783200-1699788600@stvincentferrer.net
SUMMARY:Coffee and Donuts after Mass
DESCRIPTION:
URL:https://stvincentferrer.net/event/coffee-and-donuts-after-mass-2/
LOCATION:Church Hall\, 28353 Herbert\, Madison Heights\, MI\, 48071
CATEGORIES:Christian Service,Miscellaneous
ATTACH;FMTTYPE=image/jpeg:https://stvincentferrer.net/wp-content/uploads/2023/06/donuts23.jpg
GEO:42.4992176;-83.0971204
X-APPLE-STRUCTURED-LOCATION;VALUE=URI;X-ADDRESS=Church Hall 28353 Herbert Madison Heights MI 48071;X-APPLE-RADIUS=500;X-TITLE=28353 Herbert:geo:-83.0971204,42.4992176
END:VEVENT
BEGIN:VEVENT
DTSTART;TZID=America/Detroit:20231113T181500
DTEND;TZID=America/Detroit:20231113T193000
DTSTAMP:20260425T125412
CREATED:20231010T142215Z
LAST-MODIFIED:20240327T171617Z
UID:10004420-1699899300-1699903800@stvincentferrer.net
SUMMARY:Faith Formation  6:15pm - 7:30pm
DESCRIPTION:Faith Formation is a continuing process of coming to know the love of God and letting that love flow to others in thought\, word\, and action.\nScripture based lessons lead young people to know the plan of God who creates us\, redeems us\, and leads us in love to true happiness.
URL:https://stvincentferrer.net/event/faith-formation-615pm-730pm-2/2023-11-13/
CATEGORIES:Youth Faith Formation
ATTACH;FMTTYPE=image/jpeg:https://stvincentferrer.net/wp-content/uploads/2021/09/faith-formation.jpg
END:VEVENT
BEGIN:VEVENT
DTSTART;TZID=America/Detroit:20231113T190000
DTEND;TZID=America/Detroit:20231113T200000
DTSTAMP:20260425T125412
CREATED:20231010T192133Z
LAST-MODIFIED:20231010T192134Z
UID:10004033-1699902000-1699905600@stvincentferrer.net
SUMMARY:Catechesis for Adults and Youth - Come and Listen to the Announcement of the Good News of Jesus Christ
DESCRIPTION:
URL:https://stvincentferrer.net/event/catechesis-for-adults-and-youth-come-and-listen-to-the-announcement-of-the-good-news-of-jesus-christ-2/2023-11-13/
LOCATION:Hall Administration Building\, 28353 Herbert\, Madison Heights\, MI\, 48071
CATEGORIES:Adult Faith Formation,Miscellaneous,Youth Faith Formation
ORGANIZER;CN="Matthew Zinser":MAILTO:Matthew@stvincentferrer.net
GEO:42.4992176;-83.0971204
X-APPLE-STRUCTURED-LOCATION;VALUE=URI;X-ADDRESS=Hall Administration Building 28353 Herbert Madison Heights MI 48071;X-APPLE-RADIUS=500;X-TITLE=28353 Herbert:geo:-83.0971204,42.4992176
END:VEVENT
BEGIN:VEVENT
DTSTART;TZID=America/Detroit:20231115T090000
DTEND;TZID=America/Detroit:20231115T110000
DTSTAMP:20260425T125412
CREATED:20230920T190940Z
LAST-MODIFIED:20231121T154941Z
UID:10003788-1700038800-1700046000@stvincentferrer.net
SUMMARY:Wednesday Mornings Book Study - How Big is Your God? By Paul Coutinho\, SJ
DESCRIPTION:The Wednesday Morning Book Study begins September 13@ 9am in the Parish Administration Building. The book will be studied over a 16-week period allowing us to prayerfully reflect on the chapters. Each class will offer a time for teaching\, reflection\, and sharing.\nA small breakfast is offered so please let the office know if you are attending\, 248-542-8720.
URL:https://stvincentferrer.net/event/wednesday-mornings-book-study-how-big-is-your-god-by-paul-coutinho-sj-2/2023-11-15/
LOCATION:Hall Administration Building\, 28353 Herbert\, Madison Heights\, MI\, 48071
CATEGORIES:Christian Service,Miscellaneous
ORGANIZER;CN="Deborah Tourville":MAILTO:debbie@stvincentferrer.net
GEO:42.4992176;-83.0971204
X-APPLE-STRUCTURED-LOCATION;VALUE=URI;X-ADDRESS=Hall Administration Building 28353 Herbert Madison Heights MI 48071;X-APPLE-RADIUS=500;X-TITLE=28353 Herbert:geo:-83.0971204,42.4992176
END:VEVENT
BEGIN:VEVENT
DTSTART;TZID=America/Detroit:20231116T183000
DTEND;TZID=America/Detroit:20231116T200000
DTSTAMP:20260425T125412
CREATED:20231102T190845Z
LAST-MODIFIED:20231116T124715Z
UID:10004496-1700159400-1700164800@stvincentferrer.net
SUMMARY:Prayer Blanket and Card Making - CANCELED for tonight.
DESCRIPTION:
URL:https://stvincentferrer.net/event/prayer-blanket-and-card-making-630pm-church-hall/
LOCATION:Church Hall\, 28353 Herbert\, Madison Heights\, MI\, 48071
CATEGORIES:Christian Service,Miscellaneous
ORGANIZER;CN="Christian Service":MAILTO:MaryAnn@stvincentferrer.net
GEO:42.4992176;-83.0971204
X-APPLE-STRUCTURED-LOCATION;VALUE=URI;X-ADDRESS=Church Hall 28353 Herbert Madison Heights MI 48071;X-APPLE-RADIUS=500;X-TITLE=28353 Herbert:geo:-83.0971204,42.4992176
END:VEVENT
BEGIN:VEVENT
DTSTART;TZID=America/Detroit:20231116T190000
DTEND;TZID=America/Detroit:20231116T200000
DTSTAMP:20260425T125412
CREATED:20231010T192133Z
LAST-MODIFIED:20231010T192134Z
UID:10004034-1700161200-1700164800@stvincentferrer.net
SUMMARY:Catechesis for Adults and Youth - Come and Listen to the Announcement of the Good News of Jesus Christ
DESCRIPTION:
URL:https://stvincentferrer.net/event/catechesis-for-adults-and-youth-come-and-listen-to-the-announcement-of-the-good-news-of-jesus-christ-2/2023-11-16/
LOCATION:Hall Administration Building\, 28353 Herbert\, Madison Heights\, MI\, 48071
CATEGORIES:Adult Faith Formation,Miscellaneous,Youth Faith Formation
ORGANIZER;CN="Matthew Zinser":MAILTO:Matthew@stvincentferrer.net
GEO:42.4992176;-83.0971204
X-APPLE-STRUCTURED-LOCATION;VALUE=URI;X-ADDRESS=Hall Administration Building 28353 Herbert Madison Heights MI 48071;X-APPLE-RADIUS=500;X-TITLE=28353 Herbert:geo:-83.0971204,42.4992176
END:VEVENT
BEGIN:VEVENT
DTSTART;TZID=America/Detroit:20231120T181500
DTEND;TZID=America/Detroit:20231120T193000
DTSTAMP:20260425T125412
CREATED:20231010T142215Z
LAST-MODIFIED:20240327T171617Z
UID:10004421-1700504100-1700508600@stvincentferrer.net
SUMMARY:Faith Formation  6:15pm - 7:30pm
DESCRIPTION:Faith Formation is a continuing process of coming to know the love of God and letting that love flow to others in thought\, word\, and action.\nScripture based lessons lead young people to know the plan of God who creates us\, redeems us\, and leads us in love to true happiness.
URL:https://stvincentferrer.net/event/faith-formation-615pm-730pm-2/2023-11-20/
CATEGORIES:Youth Faith Formation
ATTACH;FMTTYPE=image/jpeg:https://stvincentferrer.net/wp-content/uploads/2021/09/faith-formation.jpg
END:VEVENT
BEGIN:VEVENT
DTSTART;TZID=America/Detroit:20231122T090000
DTEND;TZID=America/Detroit:20231122T110000
DTSTAMP:20260425T125412
CREATED:20230920T190940Z
LAST-MODIFIED:20231121T154941Z
UID:10003789-1700643600-1700650800@stvincentferrer.net
SUMMARY:Wednesday Mornings Book Study - How Big is Your God? By Paul Coutinho\, SJ
DESCRIPTION:The Wednesday Morning Book Study begins September 13@ 9am in the Parish Administration Building. The book will be studied over a 16-week period allowing us to prayerfully reflect on the chapters. Each class will offer a time for teaching\, reflection\, and sharing.\nA small breakfast is offered so please let the office know if you are attending\, 248-542-8720.
URL:https://stvincentferrer.net/event/wednesday-mornings-book-study-how-big-is-your-god-by-paul-coutinho-sj-2/2023-11-22/
LOCATION:Hall Administration Building\, 28353 Herbert\, Madison Heights\, MI\, 48071
CATEGORIES:Christian Service,Miscellaneous
ORGANIZER;CN="Deborah Tourville":MAILTO:debbie@stvincentferrer.net
GEO:42.4992176;-83.0971204
X-APPLE-STRUCTURED-LOCATION;VALUE=URI;X-ADDRESS=Hall Administration Building 28353 Herbert Madison Heights MI 48071;X-APPLE-RADIUS=500;X-TITLE=28353 Herbert:geo:-83.0971204,42.4992176
END:VEVENT
BEGIN:VEVENT
DTSTART;TZID=America/Detroit:20231123T080000
DTEND;TZID=America/Detroit:20231124T170000
DTSTAMP:20260425T125412
CREATED:20231010T191452Z
LAST-MODIFIED:20231010T191452Z
UID:10004454-1700726400-1700845200@stvincentferrer.net
SUMMARY:Office Closed
DESCRIPTION:
URL:https://stvincentferrer.net/event/office-closed-7/
LOCATION:Parish Office\, 28353 Herbert St.\, Madison Heights\, MI\, 48071\, United States
CATEGORIES:Miscellaneous
ATTACH;FMTTYPE=image/jpeg:https://stvincentferrer.net/wp-content/uploads/2022/12/20210719_100601-scaled.jpg
GEO:42.4991293;-83.0972391
X-APPLE-STRUCTURED-LOCATION;VALUE=URI;X-ADDRESS=Parish Office 28353 Herbert St. Madison Heights MI 48071 United States;X-APPLE-RADIUS=500;X-TITLE=28353 Herbert St.:geo:-83.0972391,42.4991293
END:VEVENT
BEGIN:VEVENT
DTSTART;TZID=America/Detroit:20231123T090000
DTEND;TZID=America/Detroit:20231123T100000
DTSTAMP:20260425T125412
CREATED:20230907T183610Z
LAST-MODIFIED:20230907T183610Z
UID:10004093-1700730000-1700733600@stvincentferrer.net
SUMMARY:Thanksgiving
DESCRIPTION:
URL:https://stvincentferrer.net/event/thanksgiving/
CATEGORIES:Worship
ATTACH;FMTTYPE=image/jpeg:https://stvincentferrer.net/wp-content/uploads/2021/10/thanksgiving-day.jpeg
END:VEVENT
BEGIN:VEVENT
DTSTART;TZID=America/Detroit:20231125T080000
DTEND;TZID=America/Detroit:20231210T170000
DTSTAMP:20260425T125412
CREATED:20231102T194335Z
LAST-MODIFIED:20231102T194703Z
UID:10004498-1700899200-1702227600@stvincentferrer.net
SUMMARY:Virtual Giving Tree and Tree in Church with Tags available to pick up. November 25th - December 10th
DESCRIPTION:Please support these Charities and help those in need.\nMary’s Children Family Center\nSanctum House\nPope Francis Center\nOakland County  Jail Outreach Ministry
URL:https://stvincentferrer.net/event/virtual-giving-tree-and-tree-in-church-with-tags-available-to-pick-up/
CATEGORIES:Christian Service
ORGANIZER;CN="Christian Service":MAILTO:MaryAnn@stvincentferrer.net
END:VEVENT
BEGIN:VEVENT
DTSTART;TZID=America/Detroit:20231125T090000
DTEND;TZID=America/Detroit:20231125T110000
DTSTAMP:20260425T125412
CREATED:20240314T141554Z
LAST-MODIFIED:20240320T122334Z
UID:10003248-1700902800-1700910000@stvincentferrer.net
SUMMARY:Men's Fellowship and Scripture Reflection
DESCRIPTION:The men’s fellowship group gathers for a scripture reflection/sharing every other Saturday at 9am in the Faith Formation office of the school building.
URL:https://stvincentferrer.net/event/mens-fellowship-and-scripture-reflection-2/2023-11-25/
LOCATION:Faith Formation Office\, 1075 E. Gardenia\, Madison Heights\, MI\, United States
CATEGORIES:Christian Service
ATTACH;FMTTYPE=image/png:https://stvincentferrer.net/wp-content/uploads/2022/01/Mens-Fellowship-1-1.png
ORGANIZER;CN="Tom Karolski":MAILTO:debbie@stvincentferrer.net
GEO:42.4991272;-83.0960313
X-APPLE-STRUCTURED-LOCATION;VALUE=URI;X-ADDRESS=Faith Formation Office 1075 E. Gardenia Madison Heights MI United States;X-APPLE-RADIUS=500;X-TITLE=1075 E. Gardenia:geo:-83.0960313,42.4991272
END:VEVENT
BEGIN:VEVENT
DTSTART;TZID=America/Detroit:20231125T160000
DTEND;TZID=America/Detroit:20231125T170000
DTSTAMP:20260425T125412
CREATED:20231017T195346Z
LAST-MODIFIED:20231017T195346Z
UID:10004463-1700928000-1700931600@stvincentferrer.net
SUMMARY:Healing Mass 4pm
DESCRIPTION:Beyond the use of the Sacrament of Reconciliation\, we have a Monthly Healing Mass the last Saturday of each month. After the regular 4:00 pm Mass\, prayer teams are available for healing prayer or for the Sacrament of the Anointing of the Sick. Many come and find hope\, consolation\, and healing in this ministry.
URL:https://stvincentferrer.net/event/healing-mass-4pm-18/
LOCATION:St. Vincent Ferrer Church\, 28353 Herbert\, Madison Heights\, MI\, 48071
CATEGORIES:Healing Ministry,Special Mass
ATTACH;FMTTYPE=image/jpeg:https://stvincentferrer.net/wp-content/uploads/2022/11/healing-mass.jpg
GEO:42.4992176;-83.0971204
X-APPLE-STRUCTURED-LOCATION;VALUE=URI;X-ADDRESS=St. Vincent Ferrer Church 28353 Herbert Madison Heights MI 48071;X-APPLE-RADIUS=500;X-TITLE=28353 Herbert:geo:-83.0971204,42.4992176
END:VEVENT
BEGIN:VEVENT
DTSTART;TZID=America/Detroit:20231127T181500
DTEND;TZID=America/Detroit:20231127T193000
DTSTAMP:20260425T125412
CREATED:20231010T142215Z
LAST-MODIFIED:20240327T171617Z
UID:10004422-1701108900-1701113400@stvincentferrer.net
SUMMARY:Faith Formation  6:15pm - 7:30pm
DESCRIPTION:Faith Formation is a continuing process of coming to know the love of God and letting that love flow to others in thought\, word\, and action.\nScripture based lessons lead young people to know the plan of God who creates us\, redeems us\, and leads us in love to true happiness.
URL:https://stvincentferrer.net/event/faith-formation-615pm-730pm-2/2023-11-27/
CATEGORIES:Youth Faith Formation
ATTACH;FMTTYPE=image/jpeg:https://stvincentferrer.net/wp-content/uploads/2021/09/faith-formation.jpg
END:VEVENT
END:VCALENDAR