BEGIN:VCALENDAR
VERSION:2.0
PRODID:-//St. Vincent Ferrer Catholic Church - ECPv6.15.20//NONSGML v1.0//EN
CALSCALE:GREGORIAN
METHOD:PUBLISH
X-ORIGINAL-URL:https://stvincentferrer.net
X-WR-CALDESC:Events for St. Vincent Ferrer Catholic Church
REFRESH-INTERVAL;VALUE=DURATION:PT1H
X-Robots-Tag:noindex
X-PUBLISHED-TTL:PT1H
BEGIN:VTIMEZONE
TZID:America/Detroit
BEGIN:DAYLIGHT
TZOFFSETFROM:-0500
TZOFFSETTO:-0400
TZNAME:EDT
DTSTART:20220313T070000
END:DAYLIGHT
BEGIN:STANDARD
TZOFFSETFROM:-0400
TZOFFSETTO:-0500
TZNAME:EST
DTSTART:20221106T060000
END:STANDARD
BEGIN:DAYLIGHT
TZOFFSETFROM:-0500
TZOFFSETTO:-0400
TZNAME:EDT
DTSTART:20230312T070000
END:DAYLIGHT
BEGIN:STANDARD
TZOFFSETFROM:-0400
TZOFFSETTO:-0500
TZNAME:EST
DTSTART:20231105T060000
END:STANDARD
BEGIN:DAYLIGHT
TZOFFSETFROM:-0500
TZOFFSETTO:-0400
TZNAME:EDT
DTSTART:20240310T070000
END:DAYLIGHT
BEGIN:STANDARD
TZOFFSETFROM:-0400
TZOFFSETTO:-0500
TZNAME:EST
DTSTART:20241103T060000
END:STANDARD
END:VTIMEZONE
BEGIN:VEVENT
DTSTART;TZID=America/Detroit:20231001T090000
DTEND;TZID=America/Detroit:20231001T100000
DTSTAMP:20260425T144630
CREATED:20230920T163142Z
LAST-MODIFIED:20230920T163142Z
UID:10004270-1696150800-1696154400@stvincentferrer.net
SUMMARY:Respect Life Sunday
DESCRIPTION:
URL:https://stvincentferrer.net/event/respect-life-sunday-2/
LOCATION:St. Vincent Ferrer Church\, 28353 Herbert\, Madison Heights\, MI\, 48071
CATEGORIES:Mass,Worship
ATTACH;FMTTYPE=image/jpeg:https://stvincentferrer.net/wp-content/uploads/2023/06/2023-church-2-scaled.jpg
GEO:42.4992176;-83.0971204
X-APPLE-STRUCTURED-LOCATION;VALUE=URI;X-ADDRESS=St. Vincent Ferrer Church 28353 Herbert Madison Heights MI 48071;X-APPLE-RADIUS=500;X-TITLE=28353 Herbert:geo:-83.0971204,42.4992176
END:VEVENT
BEGIN:VEVENT
DTSTART;TZID=America/Detroit:20231002T181500
DTEND;TZID=America/Detroit:20231002T193000
DTSTAMP:20260425T144630
CREATED:20230927T185354Z
LAST-MODIFIED:20230927T185354Z
UID:10004414-1696270500-1696275000@stvincentferrer.net
SUMMARY:Faith Formation  6:15pm - 7:30pm
DESCRIPTION:Faith Formation is a continuing process of coming to know the love of God and letting that love flow to others in thought\, word\, and action.\nScripture based lessons lead young people to know the plan of God who creates us\, redeems us\, and leads us in love to true happiness.
URL:https://stvincentferrer.net/event/faith-formation-615pm-730pm/2023-10-02/
CATEGORIES:Youth Faith Formation
ATTACH;FMTTYPE=image/jpeg:https://stvincentferrer.net/wp-content/uploads/2021/09/faith-formation.jpg
END:VEVENT
BEGIN:VEVENT
DTSTART;TZID=America/Detroit:20231002T190000
DTEND;TZID=America/Detroit:20231002T200000
DTSTAMP:20260425T144630
CREATED:20230907T183240Z
LAST-MODIFIED:20230907T183240Z
UID:10004021-1696273200-1696276800@stvincentferrer.net
SUMMARY:Catechesis for Adults and Youth - Come and Listen to the Announcement of the Good News of Jesus Christ
DESCRIPTION:
URL:https://stvincentferrer.net/event/catechesis-for-adults-and-youth-come-and-listen-to-the-announcement-of-the-good-news-of-jesus-christ/2023-10-02/
LOCATION:Hall Administration Building\, 28353 Herbert\, Madison Heights\, MI\, 48071
CATEGORIES:Adult Faith Formation,Miscellaneous,Youth Faith Formation
ORGANIZER;CN="Matthew Zinser":MAILTO:Matthew@stvincentferrer.net
GEO:42.4992176;-83.0971204
X-APPLE-STRUCTURED-LOCATION;VALUE=URI;X-ADDRESS=Hall Administration Building 28353 Herbert Madison Heights MI 48071;X-APPLE-RADIUS=500;X-TITLE=28353 Herbert:geo:-83.0971204,42.4992176
END:VEVENT
BEGIN:VEVENT
DTSTART;TZID=America/Detroit:20231005T190000
DTEND;TZID=America/Detroit:20231005T200000
DTSTAMP:20260425T144630
CREATED:20230907T183240Z
LAST-MODIFIED:20230907T183240Z
UID:10004022-1696532400-1696536000@stvincentferrer.net
SUMMARY:Catechesis for Adults and Youth - Come and Listen to the Announcement of the Good News of Jesus Christ
DESCRIPTION:
URL:https://stvincentferrer.net/event/catechesis-for-adults-and-youth-come-and-listen-to-the-announcement-of-the-good-news-of-jesus-christ/2023-10-05/
LOCATION:Hall Administration Building\, 28353 Herbert\, Madison Heights\, MI\, 48071
CATEGORIES:Adult Faith Formation,Miscellaneous,Youth Faith Formation
ORGANIZER;CN="Matthew Zinser":MAILTO:Matthew@stvincentferrer.net
GEO:42.4992176;-83.0971204
X-APPLE-STRUCTURED-LOCATION;VALUE=URI;X-ADDRESS=Hall Administration Building 28353 Herbert Madison Heights MI 48071;X-APPLE-RADIUS=500;X-TITLE=28353 Herbert:geo:-83.0971204,42.4992176
END:VEVENT
BEGIN:VEVENT
DTSTART;TZID=America/Detroit:20231008T100000
DTEND;TZID=America/Detroit:20231008T110000
DTSTAMP:20260425T144630
CREATED:20230913T183631Z
LAST-MODIFIED:20230913T183631Z
UID:10004224-1696759200-1696762800@stvincentferrer.net
SUMMARY:Coffee and Donuts - Sponsored by the Knights of Columbus
DESCRIPTION:
URL:https://stvincentferrer.net/event/coffee-and-donuts-sponsored-by-the-knights-of-columbus/
LOCATION:Church Hall\, 28353 Herbert\, Madison Heights\, MI\, 48071
CATEGORIES:Christian Service,Miscellaneous
ATTACH;FMTTYPE=image/jpeg:https://stvincentferrer.net/wp-content/uploads/2022/12/coffee-and-donuts.jpg
GEO:42.4992176;-83.0971204
X-APPLE-STRUCTURED-LOCATION;VALUE=URI;X-ADDRESS=Church Hall 28353 Herbert Madison Heights MI 48071;X-APPLE-RADIUS=500;X-TITLE=28353 Herbert:geo:-83.0971204,42.4992176
END:VEVENT
BEGIN:VEVENT
DTSTART;TZID=America/Detroit:20231008T100000
DTEND;TZID=America/Detroit:20231008T110000
DTSTAMP:20260425T144630
CREATED:20230913T183836Z
LAST-MODIFIED:20230913T183836Z
UID:10004225-1696759200-1696762800@stvincentferrer.net
SUMMARY:Blood Pressure Checks after Mass
DESCRIPTION:
URL:https://stvincentferrer.net/event/blood-pressure-checks-after-mass-4/
LOCATION:Church Hall\, 28353 Herbert\, Madison Heights\, MI\, 48071
CATEGORIES:Miscellaneous
ATTACH;FMTTYPE=image/jpeg:https://stvincentferrer.net/wp-content/uploads/2022/12/blood-pressure.jpg
GEO:42.4992176;-83.0971204
X-APPLE-STRUCTURED-LOCATION;VALUE=URI;X-ADDRESS=Church Hall 28353 Herbert Madison Heights MI 48071;X-APPLE-RADIUS=500;X-TITLE=28353 Herbert:geo:-83.0971204,42.4992176
END:VEVENT
BEGIN:VEVENT
DTSTART;TZID=America/Detroit:20231009T181500
DTEND;TZID=America/Detroit:20231009T193000
DTSTAMP:20260425T144630
CREATED:20230927T185354Z
LAST-MODIFIED:20230927T185354Z
UID:10004415-1696875300-1696879800@stvincentferrer.net
SUMMARY:Faith Formation  6:15pm - 7:30pm
DESCRIPTION:Faith Formation is a continuing process of coming to know the love of God and letting that love flow to others in thought\, word\, and action.\nScripture based lessons lead young people to know the plan of God who creates us\, redeems us\, and leads us in love to true happiness.
URL:https://stvincentferrer.net/event/faith-formation-615pm-730pm/2023-10-09/
CATEGORIES:Youth Faith Formation
ATTACH;FMTTYPE=image/jpeg:https://stvincentferrer.net/wp-content/uploads/2021/09/faith-formation.jpg
END:VEVENT
BEGIN:VEVENT
DTSTART;TZID=America/Detroit:20231009T190000
DTEND;TZID=America/Detroit:20231009T200000
DTSTAMP:20260425T144630
CREATED:20230907T183240Z
LAST-MODIFIED:20230907T183240Z
UID:10004023-1696878000-1696881600@stvincentferrer.net
SUMMARY:Catechesis for Adults and Youth - Come and Listen to the Announcement of the Good News of Jesus Christ
DESCRIPTION:
URL:https://stvincentferrer.net/event/catechesis-for-adults-and-youth-come-and-listen-to-the-announcement-of-the-good-news-of-jesus-christ/2023-10-09/
LOCATION:Hall Administration Building\, 28353 Herbert\, Madison Heights\, MI\, 48071
CATEGORIES:Adult Faith Formation,Miscellaneous,Youth Faith Formation
ORGANIZER;CN="Matthew Zinser":MAILTO:Matthew@stvincentferrer.net
GEO:42.4992176;-83.0971204
X-APPLE-STRUCTURED-LOCATION;VALUE=URI;X-ADDRESS=Hall Administration Building 28353 Herbert Madison Heights MI 48071;X-APPLE-RADIUS=500;X-TITLE=28353 Herbert:geo:-83.0971204,42.4992176
END:VEVENT
BEGIN:VEVENT
DTSTART;TZID=America/Detroit:20231011T090000
DTEND;TZID=America/Detroit:20231011T110000
DTSTAMP:20260425T144630
CREATED:20230920T190940Z
LAST-MODIFIED:20231121T154941Z
UID:10003783-1697014800-1697022000@stvincentferrer.net
SUMMARY:Wednesday Mornings Book Study - How Big is Your God? By Paul Coutinho\, SJ
DESCRIPTION:The Wednesday Morning Book Study begins September 13@ 9am in the Parish Administration Building. The book will be studied over a 16-week period allowing us to prayerfully reflect on the chapters. Each class will offer a time for teaching\, reflection\, and sharing.\nA small breakfast is offered so please let the office know if you are attending\, 248-542-8720.
URL:https://stvincentferrer.net/event/wednesday-mornings-book-study-how-big-is-your-god-by-paul-coutinho-sj-2/2023-10-11/
LOCATION:Hall Administration Building\, 28353 Herbert\, Madison Heights\, MI\, 48071
CATEGORIES:Christian Service,Miscellaneous
ORGANIZER;CN="Deborah Tourville":MAILTO:debbie@stvincentferrer.net
GEO:42.4992176;-83.0971204
X-APPLE-STRUCTURED-LOCATION;VALUE=URI;X-ADDRESS=Hall Administration Building 28353 Herbert Madison Heights MI 48071;X-APPLE-RADIUS=500;X-TITLE=28353 Herbert:geo:-83.0971204,42.4992176
END:VEVENT
BEGIN:VEVENT
DTSTART;TZID=America/Detroit:20231011T190000
DTEND;TZID=America/Detroit:20231011T200000
DTSTAMP:20260425T144630
CREATED:20230921T184735Z
LAST-MODIFIED:20231011T143306Z
UID:10004276-1697050800-1697054400@stvincentferrer.net
SUMMARY:Eucharistic Miracles Presentation 7pm
DESCRIPTION:
URL:https://stvincentferrer.net/event/eucharistic-miracles-presentation/
CATEGORIES:Adult Faith Formation,Christian Service,Committee Meeting,Healing Ministry,Mass,Miscellaneous,Music,Worship,Youth Faith Formation
END:VEVENT
BEGIN:VEVENT
DTSTART;TZID=America/Detroit:20231012T190000
DTEND;TZID=America/Detroit:20231012T200000
DTSTAMP:20260425T144630
CREATED:20231010T192133Z
LAST-MODIFIED:20231010T192134Z
UID:10004024-1697137200-1697140800@stvincentferrer.net
SUMMARY:Catechesis for Adults and Youth - Come and Listen to the Announcement of the Good News of Jesus Christ
DESCRIPTION:
URL:https://stvincentferrer.net/event/catechesis-for-adults-and-youth-come-and-listen-to-the-announcement-of-the-good-news-of-jesus-christ-2/2023-10-12/
LOCATION:Hall Administration Building\, 28353 Herbert\, Madison Heights\, MI\, 48071
CATEGORIES:Adult Faith Formation,Miscellaneous,Youth Faith Formation
ORGANIZER;CN="Matthew Zinser":MAILTO:Matthew@stvincentferrer.net
GEO:42.4992176;-83.0971204
X-APPLE-STRUCTURED-LOCATION;VALUE=URI;X-ADDRESS=Hall Administration Building 28353 Herbert Madison Heights MI 48071;X-APPLE-RADIUS=500;X-TITLE=28353 Herbert:geo:-83.0971204,42.4992176
END:VEVENT
BEGIN:VEVENT
DTSTART;TZID=America/Detroit:20231014T090000
DTEND;TZID=America/Detroit:20231014T110000
DTSTAMP:20260425T144630
CREATED:20240314T141554Z
LAST-MODIFIED:20240320T122334Z
UID:10003245-1697274000-1697281200@stvincentferrer.net
SUMMARY:Men's Fellowship and Scripture Reflection
DESCRIPTION:The men’s fellowship group gathers for a scripture reflection/sharing every other Saturday at 9am in the Faith Formation office of the school building.
URL:https://stvincentferrer.net/event/mens-fellowship-and-scripture-reflection-2/2023-10-14/
LOCATION:Faith Formation Office\, 1075 E. Gardenia\, Madison Heights\, MI\, United States
CATEGORIES:Christian Service
ATTACH;FMTTYPE=image/png:https://stvincentferrer.net/wp-content/uploads/2022/01/Mens-Fellowship-1-1.png
ORGANIZER;CN="Tom Karolski":MAILTO:debbie@stvincentferrer.net
GEO:42.4991272;-83.0960313
X-APPLE-STRUCTURED-LOCATION;VALUE=URI;X-ADDRESS=Faith Formation Office 1075 E. Gardenia Madison Heights MI United States;X-APPLE-RADIUS=500;X-TITLE=1075 E. Gardenia:geo:-83.0960313,42.4991272
END:VEVENT
BEGIN:VEVENT
DTSTART;TZID=America/Detroit:20231014T090000
DTEND;TZID=America/Detroit:20231014T120000
DTSTAMP:20260425T144630
CREATED:20230913T201709Z
LAST-MODIFIED:20231012T130709Z
UID:10004228-1697274000-1697284800@stvincentferrer.net
SUMMARY:Mercy In Action - Multiple Events
DESCRIPTION:Exposition of the Blessed Sacrament followed by Adoration and Benediction at Noon. In church 9am to Noon.\n\nRosary  -Administration Bldg. Patio Begins 10am\n\nSnack Bag Decorating and Filling Administration Bldg. – Begins 9:30am\n\nPrayer Blanket Decorating Administration Bldg.  -Begins 9:30am\n\nMaking Baby Hats Administration Bldg. – Begins 9:30am\n\nBlessing Bag Items Administration Bldg. – Begins 9:30am\n\nPrescription eye glasses and hearing aid collection boxes located at entrance doors of church.\n\nSt. Vincent de Paul Clothing Drive\nTruck open Sat. 9-12 & 3:15 to 4pm and\nSun. 8:15-8:45am & after
URL:https://stvincentferrer.net/event/mercy-in-action-multiple-events/
LOCATION:Hall Administration Building\, 28353 Herbert\, Madison Heights\, MI\, 48071
CATEGORIES:Christian Service,Miscellaneous
GEO:42.4992176;-83.0971204
X-APPLE-STRUCTURED-LOCATION;VALUE=URI;X-ADDRESS=Hall Administration Building 28353 Herbert Madison Heights MI 48071;X-APPLE-RADIUS=500;X-TITLE=28353 Herbert:geo:-83.0971204,42.4992176
END:VEVENT
BEGIN:VEVENT
DTSTART;TZID=America/Detroit:20231014T090000
DTEND;TZID=America/Detroit:20231022T130000
DTSTAMP:20260425T144630
CREATED:20231013T150838Z
LAST-MODIFIED:20231013T150838Z
UID:10004456-1697274000-1697979600@stvincentferrer.net
SUMMARY:Sacred Heart Major Seminary collecting Candy for Halloween Oct. 14th - Oct. 22nd
DESCRIPTION:It’s that time of the year again! Halloween is just around the corner\, and Sacred Heart Major Seminary needs your help. Each year the seminary community opens their doors and their hearts to over 2000 children from the surrounding Detroit neighborhood so that the kids can have a fun and safe place to play games and trick-or-treat. But they need your help to make this year a success! They are asking for donations of Halloween candy that will then be passed out to the many kids.\nPlace candy donations in the marked basket in back of church or drop off at Parish Office during week. Donations accepted thru Sunday\, Oct. 22nd.
URL:https://stvincentferrer.net/event/sacred-heart-major-seminary-collecting-candy-for-halloween-oct-14th-oct-22nd/
CATEGORIES:Christian Service,Miscellaneous
ORGANIZER;CN="Christian Service":MAILTO:MaryAnn@stvincentferrer.net
END:VEVENT
BEGIN:VEVENT
DTSTART;TZID=America/Detroit:20231016T181500
DTEND;TZID=America/Detroit:20231016T193000
DTSTAMP:20260425T144630
CREATED:20231010T142215Z
LAST-MODIFIED:20240327T171617Z
UID:10004416-1697480100-1697484600@stvincentferrer.net
SUMMARY:Faith Formation  6:15pm - 7:30pm
DESCRIPTION:Faith Formation is a continuing process of coming to know the love of God and letting that love flow to others in thought\, word\, and action.\nScripture based lessons lead young people to know the plan of God who creates us\, redeems us\, and leads us in love to true happiness.
URL:https://stvincentferrer.net/event/faith-formation-615pm-730pm-2/2023-10-16/
CATEGORIES:Youth Faith Formation
ATTACH;FMTTYPE=image/jpeg:https://stvincentferrer.net/wp-content/uploads/2021/09/faith-formation.jpg
END:VEVENT
BEGIN:VEVENT
DTSTART;TZID=America/Detroit:20231016T190000
DTEND;TZID=America/Detroit:20231016T200000
DTSTAMP:20260425T144630
CREATED:20231010T192133Z
LAST-MODIFIED:20231010T192134Z
UID:10004025-1697482800-1697486400@stvincentferrer.net
SUMMARY:Catechesis for Adults and Youth - Come and Listen to the Announcement of the Good News of Jesus Christ
DESCRIPTION:
URL:https://stvincentferrer.net/event/catechesis-for-adults-and-youth-come-and-listen-to-the-announcement-of-the-good-news-of-jesus-christ-2/2023-10-16/
LOCATION:Hall Administration Building\, 28353 Herbert\, Madison Heights\, MI\, 48071
CATEGORIES:Adult Faith Formation,Miscellaneous,Youth Faith Formation
ORGANIZER;CN="Matthew Zinser":MAILTO:Matthew@stvincentferrer.net
GEO:42.4992176;-83.0971204
X-APPLE-STRUCTURED-LOCATION;VALUE=URI;X-ADDRESS=Hall Administration Building 28353 Herbert Madison Heights MI 48071;X-APPLE-RADIUS=500;X-TITLE=28353 Herbert:geo:-83.0971204,42.4992176
END:VEVENT
BEGIN:VEVENT
DTSTART;TZID=America/Detroit:20231018T090000
DTEND;TZID=America/Detroit:20231018T110000
DTSTAMP:20260425T144630
CREATED:20230920T190940Z
LAST-MODIFIED:20231121T154941Z
UID:10003784-1697619600-1697626800@stvincentferrer.net
SUMMARY:Wednesday Mornings Book Study - How Big is Your God? By Paul Coutinho\, SJ
DESCRIPTION:The Wednesday Morning Book Study begins September 13@ 9am in the Parish Administration Building. The book will be studied over a 16-week period allowing us to prayerfully reflect on the chapters. Each class will offer a time for teaching\, reflection\, and sharing.\nA small breakfast is offered so please let the office know if you are attending\, 248-542-8720.
URL:https://stvincentferrer.net/event/wednesday-mornings-book-study-how-big-is-your-god-by-paul-coutinho-sj-2/2023-10-18/
LOCATION:Hall Administration Building\, 28353 Herbert\, Madison Heights\, MI\, 48071
CATEGORIES:Christian Service,Miscellaneous
ORGANIZER;CN="Deborah Tourville":MAILTO:debbie@stvincentferrer.net
GEO:42.4992176;-83.0971204
X-APPLE-STRUCTURED-LOCATION;VALUE=URI;X-ADDRESS=Hall Administration Building 28353 Herbert Madison Heights MI 48071;X-APPLE-RADIUS=500;X-TITLE=28353 Herbert:geo:-83.0971204,42.4992176
END:VEVENT
BEGIN:VEVENT
DTSTART;TZID=America/Detroit:20231019T190000
DTEND;TZID=America/Detroit:20231019T200000
DTSTAMP:20260425T144630
CREATED:20231010T192133Z
LAST-MODIFIED:20231010T192134Z
UID:10004026-1697742000-1697745600@stvincentferrer.net
SUMMARY:Catechesis for Adults and Youth - Come and Listen to the Announcement of the Good News of Jesus Christ
DESCRIPTION:
URL:https://stvincentferrer.net/event/catechesis-for-adults-and-youth-come-and-listen-to-the-announcement-of-the-good-news-of-jesus-christ-2/2023-10-19/
LOCATION:Hall Administration Building\, 28353 Herbert\, Madison Heights\, MI\, 48071
CATEGORIES:Adult Faith Formation,Miscellaneous,Youth Faith Formation
ORGANIZER;CN="Matthew Zinser":MAILTO:Matthew@stvincentferrer.net
GEO:42.4992176;-83.0971204
X-APPLE-STRUCTURED-LOCATION;VALUE=URI;X-ADDRESS=Hall Administration Building 28353 Herbert Madison Heights MI 48071;X-APPLE-RADIUS=500;X-TITLE=28353 Herbert:geo:-83.0971204,42.4992176
END:VEVENT
BEGIN:VEVENT
DTSTART;TZID=America/Detroit:20231021T160000
DTEND;TZID=America/Detroit:20231022T100000
DTSTAMP:20260425T144630
CREATED:20231012T151225Z
LAST-MODIFIED:20231012T151225Z
UID:10004455-1697904000-1697968800@stvincentferrer.net
SUMMARY:World Mission Sunday
DESCRIPTION:World Mission Sunday\, the annual worldwide Eucharistic celebration for missions and missionaries around the world\, takes place the weekend of Oct. 21-22. This is an opportunity for Catholics to give to those throughout the world in desperate need of food\, shelter\, medical care\, and hope.
URL:https://stvincentferrer.net/event/world-mission-sunday/
LOCATION:St. Vincent Ferrer Church\, 28353 Herbert\, Madison Heights\, MI\, 48071
CATEGORIES:Christian Service,Miscellaneous
GEO:42.4992176;-83.0971204
X-APPLE-STRUCTURED-LOCATION;VALUE=URI;X-ADDRESS=St. Vincent Ferrer Church 28353 Herbert Madison Heights MI 48071;X-APPLE-RADIUS=500;X-TITLE=28353 Herbert:geo:-83.0971204,42.4992176
END:VEVENT
BEGIN:VEVENT
DTSTART;VALUE=DATE:20231023
DTEND;VALUE=DATE:20231024
DTSTAMP:20260425T144630
CREATED:20231023T170038Z
LAST-MODIFIED:20231023T170038Z
UID:10004464-1698019200-1698105599@stvincentferrer.net
SUMMARY:VETERANS DAY
DESCRIPTION:
URL:https://stvincentferrer.net/event/veterans-day/
CATEGORIES:Miscellaneous
ATTACH;FMTTYPE=image/jpeg:https://stvincentferrer.net/wp-content/uploads/2023/10/veterans-day-thank-you-DP1-e1540732806593.jpg
END:VEVENT
BEGIN:VEVENT
DTSTART;TZID=America/Detroit:20231023T181500
DTEND;TZID=America/Detroit:20231023T193000
DTSTAMP:20260425T144630
CREATED:20231010T142215Z
LAST-MODIFIED:20240327T171617Z
UID:10004417-1698084900-1698089400@stvincentferrer.net
SUMMARY:Faith Formation  6:15pm - 7:30pm
DESCRIPTION:Faith Formation is a continuing process of coming to know the love of God and letting that love flow to others in thought\, word\, and action.\nScripture based lessons lead young people to know the plan of God who creates us\, redeems us\, and leads us in love to true happiness.
URL:https://stvincentferrer.net/event/faith-formation-615pm-730pm-2/2023-10-23/
CATEGORIES:Youth Faith Formation
ATTACH;FMTTYPE=image/jpeg:https://stvincentferrer.net/wp-content/uploads/2021/09/faith-formation.jpg
END:VEVENT
BEGIN:VEVENT
DTSTART;TZID=America/Detroit:20231023T190000
DTEND;TZID=America/Detroit:20231023T200000
DTSTAMP:20260425T144630
CREATED:20231010T192133Z
LAST-MODIFIED:20231010T192134Z
UID:10004027-1698087600-1698091200@stvincentferrer.net
SUMMARY:Catechesis for Adults and Youth - Come and Listen to the Announcement of the Good News of Jesus Christ
DESCRIPTION:
URL:https://stvincentferrer.net/event/catechesis-for-adults-and-youth-come-and-listen-to-the-announcement-of-the-good-news-of-jesus-christ-2/2023-10-23/
LOCATION:Hall Administration Building\, 28353 Herbert\, Madison Heights\, MI\, 48071
CATEGORIES:Adult Faith Formation,Miscellaneous,Youth Faith Formation
ORGANIZER;CN="Matthew Zinser":MAILTO:Matthew@stvincentferrer.net
GEO:42.4992176;-83.0971204
X-APPLE-STRUCTURED-LOCATION;VALUE=URI;X-ADDRESS=Hall Administration Building 28353 Herbert Madison Heights MI 48071;X-APPLE-RADIUS=500;X-TITLE=28353 Herbert:geo:-83.0971204,42.4992176
END:VEVENT
BEGIN:VEVENT
DTSTART;TZID=America/Detroit:20231025T090000
DTEND;TZID=America/Detroit:20231025T110000
DTSTAMP:20260425T144630
CREATED:20230920T190940Z
LAST-MODIFIED:20231121T154941Z
UID:10003785-1698224400-1698231600@stvincentferrer.net
SUMMARY:Wednesday Mornings Book Study - How Big is Your God? By Paul Coutinho\, SJ
DESCRIPTION:The Wednesday Morning Book Study begins September 13@ 9am in the Parish Administration Building. The book will be studied over a 16-week period allowing us to prayerfully reflect on the chapters. Each class will offer a time for teaching\, reflection\, and sharing.\nA small breakfast is offered so please let the office know if you are attending\, 248-542-8720.
URL:https://stvincentferrer.net/event/wednesday-mornings-book-study-how-big-is-your-god-by-paul-coutinho-sj-2/2023-10-25/
LOCATION:Hall Administration Building\, 28353 Herbert\, Madison Heights\, MI\, 48071
CATEGORIES:Christian Service,Miscellaneous
ORGANIZER;CN="Deborah Tourville":MAILTO:debbie@stvincentferrer.net
GEO:42.4992176;-83.0971204
X-APPLE-STRUCTURED-LOCATION;VALUE=URI;X-ADDRESS=Hall Administration Building 28353 Herbert Madison Heights MI 48071;X-APPLE-RADIUS=500;X-TITLE=28353 Herbert:geo:-83.0971204,42.4992176
END:VEVENT
BEGIN:VEVENT
DTSTART;TZID=America/Detroit:20231026T180000
DTEND;TZID=America/Detroit:20231026T203000
DTSTAMP:20260425T144630
CREATED:20230913T200931Z
LAST-MODIFIED:20230913T200931Z
UID:10004226-1698343200-1698352200@stvincentferrer.net
SUMMARY:Prayer Blanket 6pm- Church Hall. All are welcome
DESCRIPTION:Please come and join us.
URL:https://stvincentferrer.net/event/prayer-blanket-6pm-church-hall-all-are-welcome/
LOCATION:Church Hall\, 28353 Herbert\, Madison Heights\, MI\, 48071
CATEGORIES:Christian Service,Miscellaneous
GEO:42.4992176;-83.0971204
X-APPLE-STRUCTURED-LOCATION;VALUE=URI;X-ADDRESS=Church Hall 28353 Herbert Madison Heights MI 48071;X-APPLE-RADIUS=500;X-TITLE=28353 Herbert:geo:-83.0971204,42.4992176
END:VEVENT
BEGIN:VEVENT
DTSTART;TZID=America/Detroit:20231026T190000
DTEND;TZID=America/Detroit:20231026T200000
DTSTAMP:20260425T144630
CREATED:20231010T192133Z
LAST-MODIFIED:20231010T192134Z
UID:10004028-1698346800-1698350400@stvincentferrer.net
SUMMARY:Catechesis for Adults and Youth - Come and Listen to the Announcement of the Good News of Jesus Christ
DESCRIPTION:
URL:https://stvincentferrer.net/event/catechesis-for-adults-and-youth-come-and-listen-to-the-announcement-of-the-good-news-of-jesus-christ-2/2023-10-26/
LOCATION:Hall Administration Building\, 28353 Herbert\, Madison Heights\, MI\, 48071
CATEGORIES:Adult Faith Formation,Miscellaneous,Youth Faith Formation
ORGANIZER;CN="Matthew Zinser":MAILTO:Matthew@stvincentferrer.net
GEO:42.4992176;-83.0971204
X-APPLE-STRUCTURED-LOCATION;VALUE=URI;X-ADDRESS=Hall Administration Building 28353 Herbert Madison Heights MI 48071;X-APPLE-RADIUS=500;X-TITLE=28353 Herbert:geo:-83.0971204,42.4992176
END:VEVENT
BEGIN:VEVENT
DTSTART;TZID=America/Detroit:20231028T090000
DTEND;TZID=America/Detroit:20231028T110000
DTSTAMP:20260425T144630
CREATED:20240314T141554Z
LAST-MODIFIED:20240320T122334Z
UID:10003246-1698483600-1698490800@stvincentferrer.net
SUMMARY:Men's Fellowship and Scripture Reflection
DESCRIPTION:The men’s fellowship group gathers for a scripture reflection/sharing every other Saturday at 9am in the Faith Formation office of the school building.
URL:https://stvincentferrer.net/event/mens-fellowship-and-scripture-reflection-2/2023-10-28/
LOCATION:Faith Formation Office\, 1075 E. Gardenia\, Madison Heights\, MI\, United States
CATEGORIES:Christian Service
ATTACH;FMTTYPE=image/png:https://stvincentferrer.net/wp-content/uploads/2022/01/Mens-Fellowship-1-1.png
ORGANIZER;CN="Tom Karolski":MAILTO:debbie@stvincentferrer.net
GEO:42.4991272;-83.0960313
X-APPLE-STRUCTURED-LOCATION;VALUE=URI;X-ADDRESS=Faith Formation Office 1075 E. Gardenia Madison Heights MI United States;X-APPLE-RADIUS=500;X-TITLE=1075 E. Gardenia:geo:-83.0960313,42.4991272
END:VEVENT
BEGIN:VEVENT
DTSTART;TZID=America/Detroit:20231028T090000
DTEND;TZID=America/Detroit:20231119T163000
DTSTAMP:20260425T144630
CREATED:20231010T145721Z
LAST-MODIFIED:20231010T145721Z
UID:10004451-1698483600-1700411400@stvincentferrer.net
SUMMARY:Thanksgiving Food Drive October 28 - November 19th\, 2023
DESCRIPTION:
URL:https://stvincentferrer.net/event/thanksgiving-food-drive-october-28-november-19th-2023/
LOCATION:St. Vincent Ferrer Church\, 28353 Herbert\, Madison Heights\, MI\, 48071
CATEGORIES:Christian Service,Miscellaneous
ATTACH;FMTTYPE=image/jpeg:https://stvincentferrer.net/wp-content/uploads/2021/10/thanksgiving-day.jpeg
ORGANIZER;CN="Christian Service":MAILTO:MaryAnn@stvincentferrer.net
GEO:42.4992176;-83.0971204
X-APPLE-STRUCTURED-LOCATION;VALUE=URI;X-ADDRESS=St. Vincent Ferrer Church 28353 Herbert Madison Heights MI 48071;X-APPLE-RADIUS=500;X-TITLE=28353 Herbert:geo:-83.0971204,42.4992176
END:VEVENT
BEGIN:VEVENT
DTSTART;TZID=America/Detroit:20231028T160000
DTEND;TZID=America/Detroit:20231028T170000
DTSTAMP:20260425T144630
CREATED:20230913T201200Z
LAST-MODIFIED:20230913T201200Z
UID:10004227-1698508800-1698512400@stvincentferrer.net
SUMMARY:Healing Mass 4pm
DESCRIPTION:
URL:https://stvincentferrer.net/event/healing-mass-4pm-17/
LOCATION:St. Vincent Ferrer Church\, 28353 Herbert\, Madison Heights\, MI\, 48071
CATEGORIES:Special Mass,Worship
ATTACH;FMTTYPE=image/jpeg:https://stvincentferrer.net/wp-content/uploads/2021/12/healing.jpeg
GEO:42.4992176;-83.0971204
X-APPLE-STRUCTURED-LOCATION;VALUE=URI;X-ADDRESS=St. Vincent Ferrer Church 28353 Herbert Madison Heights MI 48071;X-APPLE-RADIUS=500;X-TITLE=28353 Herbert:geo:-83.0971204,42.4992176
END:VEVENT
BEGIN:VEVENT
DTSTART;TZID=America/Detroit:20231030T181500
DTEND;TZID=America/Detroit:20231030T193000
DTSTAMP:20260425T144630
CREATED:20231010T142215Z
LAST-MODIFIED:20240327T171617Z
UID:10004418-1698689700-1698694200@stvincentferrer.net
SUMMARY:Faith Formation  6:15pm - 7:30pm
DESCRIPTION:Faith Formation is a continuing process of coming to know the love of God and letting that love flow to others in thought\, word\, and action.\nScripture based lessons lead young people to know the plan of God who creates us\, redeems us\, and leads us in love to true happiness.
URL:https://stvincentferrer.net/event/faith-formation-615pm-730pm-2/2023-10-30/
CATEGORIES:Youth Faith Formation
ATTACH;FMTTYPE=image/jpeg:https://stvincentferrer.net/wp-content/uploads/2021/09/faith-formation.jpg
END:VEVENT
BEGIN:VEVENT
DTSTART;TZID=America/Detroit:20231030T190000
DTEND;TZID=America/Detroit:20231030T200000
DTSTAMP:20260425T144630
CREATED:20231010T192133Z
LAST-MODIFIED:20231010T192134Z
UID:10004029-1698692400-1698696000@stvincentferrer.net
SUMMARY:Catechesis for Adults and Youth - Come and Listen to the Announcement of the Good News of Jesus Christ
DESCRIPTION:
URL:https://stvincentferrer.net/event/catechesis-for-adults-and-youth-come-and-listen-to-the-announcement-of-the-good-news-of-jesus-christ-2/2023-10-30/
LOCATION:Hall Administration Building\, 28353 Herbert\, Madison Heights\, MI\, 48071
CATEGORIES:Adult Faith Formation,Miscellaneous,Youth Faith Formation
ORGANIZER;CN="Matthew Zinser":MAILTO:Matthew@stvincentferrer.net
GEO:42.4992176;-83.0971204
X-APPLE-STRUCTURED-LOCATION;VALUE=URI;X-ADDRESS=Hall Administration Building 28353 Herbert Madison Heights MI 48071;X-APPLE-RADIUS=500;X-TITLE=28353 Herbert:geo:-83.0971204,42.4992176
END:VEVENT
END:VCALENDAR