BEGIN:VCALENDAR
VERSION:2.0
PRODID:-//St. Vincent Ferrer Catholic Church - ECPv6.15.20//NONSGML v1.0//EN
CALSCALE:GREGORIAN
METHOD:PUBLISH
X-ORIGINAL-URL:https://stvincentferrer.net
X-WR-CALDESC:Events for St. Vincent Ferrer Catholic Church
REFRESH-INTERVAL;VALUE=DURATION:PT1H
X-Robots-Tag:noindex
X-PUBLISHED-TTL:PT1H
BEGIN:VTIMEZONE
TZID:America/Detroit
BEGIN:DAYLIGHT
TZOFFSETFROM:-0500
TZOFFSETTO:-0400
TZNAME:EDT
DTSTART:20220313T070000
END:DAYLIGHT
BEGIN:STANDARD
TZOFFSETFROM:-0400
TZOFFSETTO:-0500
TZNAME:EST
DTSTART:20221106T060000
END:STANDARD
BEGIN:DAYLIGHT
TZOFFSETFROM:-0500
TZOFFSETTO:-0400
TZNAME:EDT
DTSTART:20230312T070000
END:DAYLIGHT
BEGIN:STANDARD
TZOFFSETFROM:-0400
TZOFFSETTO:-0500
TZNAME:EST
DTSTART:20231105T060000
END:STANDARD
BEGIN:DAYLIGHT
TZOFFSETFROM:-0500
TZOFFSETTO:-0400
TZNAME:EDT
DTSTART:20240310T070000
END:DAYLIGHT
BEGIN:STANDARD
TZOFFSETFROM:-0400
TZOFFSETTO:-0500
TZNAME:EST
DTSTART:20241103T060000
END:STANDARD
END:VTIMEZONE
BEGIN:VEVENT
DTSTART;TZID=America/Detroit:20230703T080000
DTEND;TZID=America/Detroit:20230703T170000
DTSTAMP:20260425T193834
CREATED:20230614T133829Z
LAST-MODIFIED:20230614T133829Z
UID:10003762-1688371200-1688403600@stvincentferrer.net
SUMMARY:Office Closed for Observance of Independence Day
DESCRIPTION:We will be closed July 3rd & 4th. The office will reopen on Wednesday July 5th.
URL:https://stvincentferrer.net/event/office-closed-for-observance-of-independence-day/2023-07-03/
LOCATION:Parish Office\, 28353 Herbert St.\, Madison Heights\, MI\, 48071\, United States
CATEGORIES:Miscellaneous
ATTACH;FMTTYPE=image/png:https://stvincentferrer.net/wp-content/uploads/2021/05/onenation.png
GEO:42.4991293;-83.0972391
X-APPLE-STRUCTURED-LOCATION;VALUE=URI;X-ADDRESS=Parish Office 28353 Herbert St. Madison Heights MI 48071 United States;X-APPLE-RADIUS=500;X-TITLE=28353 Herbert St.:geo:-83.0972391,42.4991293
END:VEVENT
BEGIN:VEVENT
DTSTART;TZID=America/Detroit:20230704T080000
DTEND;TZID=America/Detroit:20230704T170000
DTSTAMP:20260425T193834
CREATED:20230614T133829Z
LAST-MODIFIED:20230614T133829Z
UID:10003763-1688457600-1688490000@stvincentferrer.net
SUMMARY:Office Closed for Observance of Independence Day
DESCRIPTION:We will be closed July 3rd & 4th. The office will reopen on Wednesday July 5th.
URL:https://stvincentferrer.net/event/office-closed-for-observance-of-independence-day/2023-07-04/
LOCATION:Parish Office\, 28353 Herbert St.\, Madison Heights\, MI\, 48071\, United States
CATEGORIES:Miscellaneous
ATTACH;FMTTYPE=image/png:https://stvincentferrer.net/wp-content/uploads/2021/05/onenation.png
GEO:42.4991293;-83.0972391
X-APPLE-STRUCTURED-LOCATION;VALUE=URI;X-ADDRESS=Parish Office 28353 Herbert St. Madison Heights MI 48071 United States;X-APPLE-RADIUS=500;X-TITLE=28353 Herbert St.:geo:-83.0972391,42.4991293
END:VEVENT
BEGIN:VEVENT
DTSTART;TZID=America/Detroit:20230704T090000
DTEND;TZID=America/Detroit:20230704T100000
DTSTAMP:20260425T193834
CREATED:20230517T202050Z
LAST-MODIFIED:20230517T202050Z
UID:10003758-1688461200-1688464800@stvincentferrer.net
SUMMARY:July 4th Mass 9am
DESCRIPTION:
URL:https://stvincentferrer.net/event/july-4th-mass-9am/
LOCATION:St. Vincent Ferrer Church\, 28353 Herbert\, Madison Heights\, MI\, 48071
CATEGORIES:Mass,Special Mass
ATTACH;FMTTYPE=image/jpeg:https://stvincentferrer.net/wp-content/uploads/2017/06/4h-of-July.jpg
GEO:42.4992176;-83.0971204
X-APPLE-STRUCTURED-LOCATION;VALUE=URI;X-ADDRESS=St. Vincent Ferrer Church 28353 Herbert Madison Heights MI 48071;X-APPLE-RADIUS=500;X-TITLE=28353 Herbert:geo:-83.0971204,42.4992176
END:VEVENT
BEGIN:VEVENT
DTSTART;TZID=America/Detroit:20230707T090000
DTEND;TZID=America/Detroit:20230707T163000
DTSTAMP:20260425T193834
CREATED:20230508T121458Z
LAST-MODIFIED:20230508T121735Z
UID:10003504-1688720400-1688747400@stvincentferrer.net
SUMMARY:Summer Hours  - Office Closed on Fridays
DESCRIPTION:
URL:https://stvincentferrer.net/event/summer-hours-office-closed-on-fridays/2023-07-07/
LOCATION:Parish Office\, 28353 Herbert St.\, Madison Heights\, MI\, 48071\, United States
CATEGORIES:Miscellaneous
GEO:42.4991293;-83.0972391
X-APPLE-STRUCTURED-LOCATION;VALUE=URI;X-ADDRESS=Parish Office 28353 Herbert St. Madison Heights MI 48071 United States;X-APPLE-RADIUS=500;X-TITLE=28353 Herbert St.:geo:-83.0972391,42.4991293
END:VEVENT
BEGIN:VEVENT
DTSTART;TZID=America/Detroit:20230708T090000
DTEND;TZID=America/Detroit:20230708T110000
DTSTAMP:20260425T193834
CREATED:20240314T141554Z
LAST-MODIFIED:20240320T122334Z
UID:10003238-1688806800-1688814000@stvincentferrer.net
SUMMARY:Men's Fellowship and Scripture Reflection
DESCRIPTION:The men’s fellowship group gathers for a scripture reflection/sharing every other Saturday at 9am in the Faith Formation office of the school building.
URL:https://stvincentferrer.net/event/mens-fellowship-and-scripture-reflection-2/2023-07-08/
LOCATION:Faith Formation Office\, 1075 E. Gardenia\, Madison Heights\, MI\, United States
CATEGORIES:Christian Service
ATTACH;FMTTYPE=image/png:https://stvincentferrer.net/wp-content/uploads/2022/01/Mens-Fellowship-1-1.png
ORGANIZER;CN="Tom Karolski":MAILTO:debbie@stvincentferrer.net
GEO:42.4991272;-83.0960313
X-APPLE-STRUCTURED-LOCATION;VALUE=URI;X-ADDRESS=Faith Formation Office 1075 E. Gardenia Madison Heights MI United States;X-APPLE-RADIUS=500;X-TITLE=1075 E. Gardenia:geo:-83.0960313,42.4991272
END:VEVENT
BEGIN:VEVENT
DTSTART;TZID=America/Detroit:20230710T190000
DTEND;TZID=America/Detroit:20230710T200000
DTSTAMP:20260425T193834
CREATED:20230517T133248Z
LAST-MODIFIED:20230720T194941Z
UID:10003751-1689015600-1689019200@stvincentferrer.net
SUMMARY:Pray the Rosary every 2nd and 4th Monday on the Admin. patio.
DESCRIPTION:Come join us at the Administration patio to pray the Rosary.\nRosary   For more info call the Parish office.  248-542-8720
URL:https://stvincentferrer.net/event/pray-the-rosary-every-2nd-and-4th-monday-may-thru-august-at-7pm-on-the-admin-patio/2023-07-10/
LOCATION:Patio\,  Admin. Building
CATEGORIES:Christian Service,Miscellaneous
ATTACH;FMTTYPE=image/jpeg:https://stvincentferrer.net/wp-content/uploads/2022/05/rosary.jpg
END:VEVENT
BEGIN:VEVENT
DTSTART;TZID=America/Detroit:20230714T090000
DTEND;TZID=America/Detroit:20230714T163000
DTSTAMP:20260425T193834
CREATED:20230508T121458Z
LAST-MODIFIED:20230508T121735Z
UID:10003505-1689325200-1689352200@stvincentferrer.net
SUMMARY:Summer Hours  - Office Closed on Fridays
DESCRIPTION:
URL:https://stvincentferrer.net/event/summer-hours-office-closed-on-fridays/2023-07-14/
LOCATION:Parish Office\, 28353 Herbert St.\, Madison Heights\, MI\, 48071\, United States
CATEGORIES:Miscellaneous
GEO:42.4991293;-83.0972391
X-APPLE-STRUCTURED-LOCATION;VALUE=URI;X-ADDRESS=Parish Office 28353 Herbert St. Madison Heights MI 48071 United States;X-APPLE-RADIUS=500;X-TITLE=28353 Herbert St.:geo:-83.0972391,42.4991293
END:VEVENT
BEGIN:VEVENT
DTSTART;TZID=America/Detroit:20230720T155900
DTEND;TZID=America/Detroit:20230720T155900
DTSTAMP:20260425T193834
CREATED:20230720T195953Z
LAST-MODIFIED:20230720T200006Z
UID:10003766-1689868740-1689868740@stvincentferrer.net
SUMMARY:Come and pray the Rosary Outside.  Every 2nd and 4th Monday of the month at 7pm
DESCRIPTION:Come and pray the Rosary Outside. Every\n2nd and 4th Monday of the month thru August.\nAdministration office Patio at 7pm.
URL:https://stvincentferrer.net/event/come-and-pray-the-rosary-outside-may-22-7pm-2/2023-07-20/
LOCATION:Patio\,  Admin. Building
CATEGORIES:Christian Service,Miscellaneous
ATTACH;FMTTYPE=image/jpeg:https://stvincentferrer.net/wp-content/uploads/2022/05/rosary.jpg
END:VEVENT
BEGIN:VEVENT
DTSTART;TZID=America/Detroit:20230721T090000
DTEND;TZID=America/Detroit:20230721T163000
DTSTAMP:20260425T193834
CREATED:20230508T121458Z
LAST-MODIFIED:20230508T121735Z
UID:10003506-1689930000-1689957000@stvincentferrer.net
SUMMARY:Summer Hours  - Office Closed on Fridays
DESCRIPTION:
URL:https://stvincentferrer.net/event/summer-hours-office-closed-on-fridays/2023-07-21/
LOCATION:Parish Office\, 28353 Herbert St.\, Madison Heights\, MI\, 48071\, United States
CATEGORIES:Miscellaneous
GEO:42.4991293;-83.0972391
X-APPLE-STRUCTURED-LOCATION;VALUE=URI;X-ADDRESS=Parish Office 28353 Herbert St. Madison Heights MI 48071 United States;X-APPLE-RADIUS=500;X-TITLE=28353 Herbert St.:geo:-83.0972391,42.4991293
END:VEVENT
BEGIN:VEVENT
DTSTART;TZID=America/Detroit:20230722T090000
DTEND;TZID=America/Detroit:20230722T110000
DTSTAMP:20260425T193834
CREATED:20240314T141554Z
LAST-MODIFIED:20240320T122334Z
UID:10003239-1690016400-1690023600@stvincentferrer.net
SUMMARY:Men's Fellowship and Scripture Reflection
DESCRIPTION:The men’s fellowship group gathers for a scripture reflection/sharing every other Saturday at 9am in the Faith Formation office of the school building.
URL:https://stvincentferrer.net/event/mens-fellowship-and-scripture-reflection-2/2023-07-22/
LOCATION:Faith Formation Office\, 1075 E. Gardenia\, Madison Heights\, MI\, United States
CATEGORIES:Christian Service
ATTACH;FMTTYPE=image/png:https://stvincentferrer.net/wp-content/uploads/2022/01/Mens-Fellowship-1-1.png
ORGANIZER;CN="Tom Karolski":MAILTO:debbie@stvincentferrer.net
GEO:42.4991272;-83.0960313
X-APPLE-STRUCTURED-LOCATION;VALUE=URI;X-ADDRESS=Faith Formation Office 1075 E. Gardenia Madison Heights MI United States;X-APPLE-RADIUS=500;X-TITLE=1075 E. Gardenia:geo:-83.0960313,42.4991272
END:VEVENT
BEGIN:VEVENT
DTSTART;TZID=America/Detroit:20230724T190000
DTEND;TZID=America/Detroit:20230724T200000
DTSTAMP:20260425T193834
CREATED:20230720T195953Z
LAST-MODIFIED:20230720T200006Z
UID:10003748-1690225200-1690228800@stvincentferrer.net
SUMMARY:Come and pray the Rosary Outside.  Every 2nd and 4th Monday of the month at 7pm
DESCRIPTION:Come and pray the Rosary Outside. Every\n2nd and 4th Monday of the month thru August.\nAdministration office Patio at 7pm.
URL:https://stvincentferrer.net/event/come-and-pray-the-rosary-outside-may-22-7pm-2/2023-07-24/
LOCATION:Patio\,  Admin. Building
CATEGORIES:Christian Service,Miscellaneous
ATTACH;FMTTYPE=image/jpeg:https://stvincentferrer.net/wp-content/uploads/2022/05/rosary.jpg
END:VEVENT
BEGIN:VEVENT
DTSTART;TZID=America/Detroit:20230728T090000
DTEND;TZID=America/Detroit:20230728T163000
DTSTAMP:20260425T193834
CREATED:20230508T121458Z
LAST-MODIFIED:20230508T121735Z
UID:10003507-1690534800-1690561800@stvincentferrer.net
SUMMARY:Summer Hours  - Office Closed on Fridays
DESCRIPTION:
URL:https://stvincentferrer.net/event/summer-hours-office-closed-on-fridays/2023-07-28/
LOCATION:Parish Office\, 28353 Herbert St.\, Madison Heights\, MI\, 48071\, United States
CATEGORIES:Miscellaneous
GEO:42.4991293;-83.0972391
X-APPLE-STRUCTURED-LOCATION;VALUE=URI;X-ADDRESS=Parish Office 28353 Herbert St. Madison Heights MI 48071 United States;X-APPLE-RADIUS=500;X-TITLE=28353 Herbert St.:geo:-83.0972391,42.4991293
END:VEVENT
BEGIN:VEVENT
DTSTART;TZID=America/Detroit:20230729T160000
DTEND;TZID=America/Detroit:20230729T170000
DTSTAMP:20260425T193834
CREATED:20230726T123029Z
LAST-MODIFIED:20230726T123106Z
UID:10003768-1690646400-1690650000@stvincentferrer.net
SUMMARY:Healing Mass
DESCRIPTION:
URL:https://stvincentferrer.net/event/healing-mass-4/
LOCATION:St. Vincent Ferrer Church\, 28353 Herbert\, Madison Heights\, MI\, 48071
CATEGORIES:Healing Ministry,Special Mass,Worship
ATTACH;FMTTYPE=image/jpeg:https://stvincentferrer.net/wp-content/uploads/2021/12/healing.jpeg
GEO:42.4992176;-83.0971204
X-APPLE-STRUCTURED-LOCATION;VALUE=URI;X-ADDRESS=St. Vincent Ferrer Church 28353 Herbert Madison Heights MI 48071;X-APPLE-RADIUS=500;X-TITLE=28353 Herbert:geo:-83.0971204,42.4992176
END:VEVENT
END:VCALENDAR