BEGIN:VCALENDAR
VERSION:2.0
PRODID:-//St. Vincent Ferrer Catholic Church - ECPv6.15.20//NONSGML v1.0//EN
CALSCALE:GREGORIAN
METHOD:PUBLISH
X-ORIGINAL-URL:https://stvincentferrer.net
X-WR-CALDESC:Events for St. Vincent Ferrer Catholic Church
REFRESH-INTERVAL;VALUE=DURATION:PT1H
X-Robots-Tag:noindex
X-PUBLISHED-TTL:PT1H
BEGIN:VTIMEZONE
TZID:America/Detroit
BEGIN:DAYLIGHT
TZOFFSETFROM:-0500
TZOFFSETTO:-0400
TZNAME:EDT
DTSTART:20220313T070000
END:DAYLIGHT
BEGIN:STANDARD
TZOFFSETFROM:-0400
TZOFFSETTO:-0500
TZNAME:EST
DTSTART:20221106T060000
END:STANDARD
BEGIN:DAYLIGHT
TZOFFSETFROM:-0500
TZOFFSETTO:-0400
TZNAME:EDT
DTSTART:20230312T070000
END:DAYLIGHT
BEGIN:STANDARD
TZOFFSETFROM:-0400
TZOFFSETTO:-0500
TZNAME:EST
DTSTART:20231105T060000
END:STANDARD
BEGIN:DAYLIGHT
TZOFFSETFROM:-0500
TZOFFSETTO:-0400
TZNAME:EDT
DTSTART:20240310T070000
END:DAYLIGHT
BEGIN:STANDARD
TZOFFSETFROM:-0400
TZOFFSETTO:-0500
TZNAME:EST
DTSTART:20241103T060000
END:STANDARD
END:VTIMEZONE
BEGIN:VEVENT
DTSTART;TZID=America/Detroit:20230602T090000
DTEND;TZID=America/Detroit:20230602T163000
DTSTAMP:20260425T211714
CREATED:20230508T121458Z
LAST-MODIFIED:20230508T121735Z
UID:10003499-1685696400-1685723400@stvincentferrer.net
SUMMARY:Summer Hours  - Office Closed on Fridays
DESCRIPTION:
URL:https://stvincentferrer.net/event/summer-hours-office-closed-on-fridays/2023-06-02/
LOCATION:Parish Office\, 28353 Herbert St.\, Madison Heights\, MI\, 48071\, United States
CATEGORIES:Miscellaneous
GEO:42.4991293;-83.0972391
X-APPLE-STRUCTURED-LOCATION;VALUE=URI;X-ADDRESS=Parish Office 28353 Herbert St. Madison Heights MI 48071 United States;X-APPLE-RADIUS=500;X-TITLE=28353 Herbert St.:geo:-83.0972391,42.4991293
END:VEVENT
BEGIN:VEVENT
DTSTART;TZID=America/Detroit:20230604T160000
DTEND;TZID=America/Detroit:20230604T170000
DTSTAMP:20260425T211714
CREATED:20230601T195308Z
LAST-MODIFIED:20230601T195308Z
UID:10003759-1685894400-1685898000@stvincentferrer.net
SUMMARY:Great Mission 2023 Rosie's Park 4:00pm June 4\, 11\, & 18th
DESCRIPTION:Come listen to the good news that can change your life.
URL:https://stvincentferrer.net/event/great-mission-2023-rosies-park-400pm-june-4-11-18th/2023-06-04/
LOCATION:Rosie’s Park\, 111 E. Farnum Ave\, Madison Heights\, MI\, United States
CATEGORIES:Adult Faith Formation,Christian Service,Worship,Youth Faith Formation
ORGANIZER;CN="Matthew Zinser":MAILTO:Matthew@stvincentferrer.net
GEO:42.4954637;-83.1048338
X-APPLE-STRUCTURED-LOCATION;VALUE=URI;X-ADDRESS=Rosie’s Park 111 E. Farnum Ave Madison Heights MI United States;X-APPLE-RADIUS=500;X-TITLE=111 E. Farnum Ave:geo:-83.1048338,42.4954637
END:VEVENT
BEGIN:VEVENT
DTSTART;TZID=America/Detroit:20230607T130000
DTEND;TZID=America/Detroit:20230607T150000
DTSTAMP:20260425T211714
CREATED:20230424T144022Z
LAST-MODIFIED:20230424T150649Z
UID:10003443-1686142800-1686150000@stvincentferrer.net
SUMMARY:Chosen Series Wednesdays at 1pm Admin. Hall
DESCRIPTION:
URL:https://stvincentferrer.net/event/chosen-series-wednesdays-at-1pm-admin-hall/2023-06-07/
LOCATION:Hall Administration Building\, 28353 Herbert\, Madison Heights\, MI\, 48071
CATEGORIES:Adult Faith Formation,Christian Service,Miscellaneous
ORGANIZER;CN="Deborah Tourville":MAILTO:debbie@stvincentferrer.net
GEO:42.4992176;-83.0971204
X-APPLE-STRUCTURED-LOCATION;VALUE=URI;X-ADDRESS=Hall Administration Building 28353 Herbert Madison Heights MI 48071;X-APPLE-RADIUS=500;X-TITLE=28353 Herbert:geo:-83.0971204,42.4992176
END:VEVENT
BEGIN:VEVENT
DTSTART;TZID=America/Detroit:20230609T090000
DTEND;TZID=America/Detroit:20230609T163000
DTSTAMP:20260425T211714
CREATED:20230508T121458Z
LAST-MODIFIED:20230508T121735Z
UID:10003500-1686301200-1686328200@stvincentferrer.net
SUMMARY:Summer Hours  - Office Closed on Fridays
DESCRIPTION:
URL:https://stvincentferrer.net/event/summer-hours-office-closed-on-fridays/2023-06-09/
LOCATION:Parish Office\, 28353 Herbert St.\, Madison Heights\, MI\, 48071\, United States
CATEGORIES:Miscellaneous
GEO:42.4991293;-83.0972391
X-APPLE-STRUCTURED-LOCATION;VALUE=URI;X-ADDRESS=Parish Office 28353 Herbert St. Madison Heights MI 48071 United States;X-APPLE-RADIUS=500;X-TITLE=28353 Herbert St.:geo:-83.0972391,42.4991293
END:VEVENT
BEGIN:VEVENT
DTSTART;TZID=America/Detroit:20230610T090000
DTEND;TZID=America/Detroit:20230610T110000
DTSTAMP:20260425T211714
CREATED:20240314T141554Z
LAST-MODIFIED:20240320T122334Z
UID:10003236-1686387600-1686394800@stvincentferrer.net
SUMMARY:Men's Fellowship and Scripture Reflection
DESCRIPTION:The men’s fellowship group gathers for a scripture reflection/sharing every other Saturday at 9am in the Faith Formation office of the school building.
URL:https://stvincentferrer.net/event/mens-fellowship-and-scripture-reflection-2/2023-06-10/
LOCATION:Faith Formation Office\, 1075 E. Gardenia\, Madison Heights\, MI\, United States
CATEGORIES:Christian Service
ATTACH;FMTTYPE=image/png:https://stvincentferrer.net/wp-content/uploads/2022/01/Mens-Fellowship-1-1.png
ORGANIZER;CN="Tom Karolski":MAILTO:debbie@stvincentferrer.net
GEO:42.4991272;-83.0960313
X-APPLE-STRUCTURED-LOCATION;VALUE=URI;X-ADDRESS=Faith Formation Office 1075 E. Gardenia Madison Heights MI United States;X-APPLE-RADIUS=500;X-TITLE=1075 E. Gardenia:geo:-83.0960313,42.4991272
END:VEVENT
BEGIN:VEVENT
DTSTART;TZID=America/Detroit:20230611T100000
DTEND;TZID=America/Detroit:20230611T110000
DTSTAMP:20260425T211714
CREATED:20230517T185836Z
LAST-MODIFIED:20230517T185836Z
UID:10003754-1686477600-1686481200@stvincentferrer.net
SUMMARY:Blood Pressure checks
DESCRIPTION:The parish Nurse will be doing Blood Pressure Checks after mass in the church hall. All are welcome.
URL:https://stvincentferrer.net/event/blood-pressure-checks-12/
LOCATION:Church Hall\, 28353 Herbert\, Madison Heights\, MI\, 48071
CATEGORIES:Miscellaneous
ATTACH;FMTTYPE=image/png:https://stvincentferrer.net/wp-content/uploads/2021/09/blood-pressure.png
GEO:42.4992176;-83.0971204
X-APPLE-STRUCTURED-LOCATION;VALUE=URI;X-ADDRESS=Church Hall 28353 Herbert Madison Heights MI 48071;X-APPLE-RADIUS=500;X-TITLE=28353 Herbert:geo:-83.0971204,42.4992176
END:VEVENT
BEGIN:VEVENT
DTSTART;TZID=America/Detroit:20230611T100000
DTEND;TZID=America/Detroit:20230611T110000
DTSTAMP:20260425T211714
CREATED:20230517T190214Z
LAST-MODIFIED:20230517T190249Z
UID:10003755-1686477600-1686481200@stvincentferrer.net
SUMMARY:Coffee and Donuts
DESCRIPTION:Coffee and Donuts will be available in the Church Hall.
URL:https://stvincentferrer.net/event/coffee-and-donuts-15/
LOCATION:Church Hall\, 28353 Herbert\, Madison Heights\, MI\, 48071
CATEGORIES:Miscellaneous
ATTACH;FMTTYPE=image/jpeg:https://stvincentferrer.net/wp-content/uploads/2017/03/coffee-and-donuts-clipart-coffeedonut.jpg
GEO:42.4992176;-83.0971204
X-APPLE-STRUCTURED-LOCATION;VALUE=URI;X-ADDRESS=Church Hall 28353 Herbert Madison Heights MI 48071;X-APPLE-RADIUS=500;X-TITLE=28353 Herbert:geo:-83.0971204,42.4992176
END:VEVENT
BEGIN:VEVENT
DTSTART;TZID=America/Detroit:20230611T160000
DTEND;TZID=America/Detroit:20230611T170000
DTSTAMP:20260425T211714
CREATED:20230601T195308Z
LAST-MODIFIED:20230601T195308Z
UID:10003760-1686499200-1686502800@stvincentferrer.net
SUMMARY:Great Mission 2023 Rosie's Park 4:00pm June 4\, 11\, & 18th
DESCRIPTION:Come listen to the good news that can change your life.
URL:https://stvincentferrer.net/event/great-mission-2023-rosies-park-400pm-june-4-11-18th/2023-06-11/
LOCATION:Rosie’s Park\, 111 E. Farnum Ave\, Madison Heights\, MI\, United States
CATEGORIES:Adult Faith Formation,Christian Service,Worship,Youth Faith Formation
ORGANIZER;CN="Matthew Zinser":MAILTO:Matthew@stvincentferrer.net
GEO:42.4954637;-83.1048338
X-APPLE-STRUCTURED-LOCATION;VALUE=URI;X-ADDRESS=Rosie’s Park 111 E. Farnum Ave Madison Heights MI United States;X-APPLE-RADIUS=500;X-TITLE=111 E. Farnum Ave:geo:-83.1048338,42.4954637
END:VEVENT
BEGIN:VEVENT
DTSTART;TZID=America/Detroit:20230612T190000
DTEND;TZID=America/Detroit:20230612T200000
DTSTAMP:20260425T211714
CREATED:20230517T133248Z
LAST-MODIFIED:20230720T194941Z
UID:10003750-1686596400-1686600000@stvincentferrer.net
SUMMARY:Pray the Rosary every 2nd and 4th Monday on the Admin. patio.
DESCRIPTION:Come join us at the Administration patio to pray the Rosary.\nRosary   For more info call the Parish office.  248-542-8720
URL:https://stvincentferrer.net/event/pray-the-rosary-every-2nd-and-4th-monday-may-thru-august-at-7pm-on-the-admin-patio/2023-06-12/
LOCATION:Patio\,  Admin. Building
CATEGORIES:Christian Service,Miscellaneous
ATTACH;FMTTYPE=image/jpeg:https://stvincentferrer.net/wp-content/uploads/2022/05/rosary.jpg
END:VEVENT
BEGIN:VEVENT
DTSTART;TZID=America/Detroit:20230614T130000
DTEND;TZID=America/Detroit:20230614T153000
DTSTAMP:20260425T211714
CREATED:20230517T192048Z
LAST-MODIFIED:20230614T134221Z
UID:10003756-1686747600-1686756600@stvincentferrer.net
SUMMARY:The Chosen series 1pm in the Administration Hall Season 3
DESCRIPTION:Call for more information- 248-542-8720
URL:https://stvincentferrer.net/event/last-showing-for-the-chosen-series-1pm-in-the-administration-hall/2023-06-14/
LOCATION:Hall Administration Building\, 28353 Herbert\, Madison Heights\, MI\, 48071
CATEGORIES:Christian Service,Miscellaneous
ORGANIZER;CN="Christian Service":MAILTO:MaryAnn@stvincentferrer.net
GEO:42.4992176;-83.0971204
X-APPLE-STRUCTURED-LOCATION;VALUE=URI;X-ADDRESS=Hall Administration Building 28353 Herbert Madison Heights MI 48071;X-APPLE-RADIUS=500;X-TITLE=28353 Herbert:geo:-83.0971204,42.4992176
END:VEVENT
BEGIN:VEVENT
DTSTART;TZID=America/Detroit:20230616T090000
DTEND;TZID=America/Detroit:20230616T163000
DTSTAMP:20260425T211714
CREATED:20230508T121458Z
LAST-MODIFIED:20230508T121735Z
UID:10003501-1686906000-1686933000@stvincentferrer.net
SUMMARY:Summer Hours  - Office Closed on Fridays
DESCRIPTION:
URL:https://stvincentferrer.net/event/summer-hours-office-closed-on-fridays/2023-06-16/
LOCATION:Parish Office\, 28353 Herbert St.\, Madison Heights\, MI\, 48071\, United States
CATEGORIES:Miscellaneous
GEO:42.4991293;-83.0972391
X-APPLE-STRUCTURED-LOCATION;VALUE=URI;X-ADDRESS=Parish Office 28353 Herbert St. Madison Heights MI 48071 United States;X-APPLE-RADIUS=500;X-TITLE=28353 Herbert St.:geo:-83.0972391,42.4991293
END:VEVENT
BEGIN:VEVENT
DTSTART;TZID=America/Detroit:20230618T090000
DTEND;TZID=America/Detroit:20230618T100000
DTSTAMP:20260425T211714
CREATED:20230511T191228Z
LAST-MODIFIED:20230511T191228Z
UID:10003563-1687078800-1687082400@stvincentferrer.net
SUMMARY:Father's Day Mass 9am
DESCRIPTION:
URL:https://stvincentferrer.net/event/fathers-day-mass-9am/
LOCATION:St. Vincent Ferrer Church\, 28353 Herbert\, Madison Heights\, MI\, 48071
CATEGORIES:Mass,Worship
ATTACH;FMTTYPE=image/jpeg:https://stvincentferrer.net/wp-content/uploads/2021/02/St.-Joseph-e1613509922425.jpg
GEO:42.4992176;-83.0971204
X-APPLE-STRUCTURED-LOCATION;VALUE=URI;X-ADDRESS=St. Vincent Ferrer Church 28353 Herbert Madison Heights MI 48071;X-APPLE-RADIUS=500;X-TITLE=28353 Herbert:geo:-83.0971204,42.4992176
END:VEVENT
BEGIN:VEVENT
DTSTART;TZID=America/Detroit:20230618T160000
DTEND;TZID=America/Detroit:20230618T170000
DTSTAMP:20260425T211714
CREATED:20230601T195308Z
LAST-MODIFIED:20230601T195308Z
UID:10003761-1687104000-1687107600@stvincentferrer.net
SUMMARY:Great Mission 2023 Rosie's Park 4:00pm June 4\, 11\, & 18th
DESCRIPTION:Come listen to the good news that can change your life.
URL:https://stvincentferrer.net/event/great-mission-2023-rosies-park-400pm-june-4-11-18th/2023-06-18/
LOCATION:Rosie’s Park\, 111 E. Farnum Ave\, Madison Heights\, MI\, United States
CATEGORIES:Adult Faith Formation,Christian Service,Worship,Youth Faith Formation
ORGANIZER;CN="Matthew Zinser":MAILTO:Matthew@stvincentferrer.net
GEO:42.4954637;-83.1048338
X-APPLE-STRUCTURED-LOCATION;VALUE=URI;X-ADDRESS=Rosie’s Park 111 E. Farnum Ave Madison Heights MI United States;X-APPLE-RADIUS=500;X-TITLE=111 E. Farnum Ave:geo:-83.1048338,42.4954637
END:VEVENT
BEGIN:VEVENT
DTSTART;TZID=America/Detroit:20230621T130000
DTEND;TZID=America/Detroit:20230621T150000
DTSTAMP:20260425T211714
CREATED:20230517T192048Z
LAST-MODIFIED:20230614T134221Z
UID:10003764-1687352400-1687359600@stvincentferrer.net
SUMMARY:The Chosen series 1pm in the Administration Hall Season 3
DESCRIPTION:Call for more information- 248-542-8720
URL:https://stvincentferrer.net/event/last-showing-for-the-chosen-series-1pm-in-the-administration-hall/2023-06-21/
LOCATION:Hall Administration Building\, 28353 Herbert\, Madison Heights\, MI\, 48071
CATEGORIES:Christian Service,Miscellaneous
ORGANIZER;CN="Christian Service":MAILTO:MaryAnn@stvincentferrer.net
GEO:42.4992176;-83.0971204
X-APPLE-STRUCTURED-LOCATION;VALUE=URI;X-ADDRESS=Hall Administration Building 28353 Herbert Madison Heights MI 48071;X-APPLE-RADIUS=500;X-TITLE=28353 Herbert:geo:-83.0971204,42.4992176
END:VEVENT
BEGIN:VEVENT
DTSTART;TZID=America/Detroit:20230623T090000
DTEND;TZID=America/Detroit:20230623T163000
DTSTAMP:20260425T211714
CREATED:20230508T121458Z
LAST-MODIFIED:20230508T121735Z
UID:10003502-1687510800-1687537800@stvincentferrer.net
SUMMARY:Summer Hours  - Office Closed on Fridays
DESCRIPTION:
URL:https://stvincentferrer.net/event/summer-hours-office-closed-on-fridays/2023-06-23/
LOCATION:Parish Office\, 28353 Herbert St.\, Madison Heights\, MI\, 48071\, United States
CATEGORIES:Miscellaneous
GEO:42.4991293;-83.0972391
X-APPLE-STRUCTURED-LOCATION;VALUE=URI;X-ADDRESS=Parish Office 28353 Herbert St. Madison Heights MI 48071 United States;X-APPLE-RADIUS=500;X-TITLE=28353 Herbert St.:geo:-83.0972391,42.4991293
END:VEVENT
BEGIN:VEVENT
DTSTART;TZID=America/Detroit:20230624T090000
DTEND;TZID=America/Detroit:20230624T110000
DTSTAMP:20260425T211714
CREATED:20240314T141554Z
LAST-MODIFIED:20240320T122334Z
UID:10003237-1687597200-1687604400@stvincentferrer.net
SUMMARY:Men's Fellowship and Scripture Reflection
DESCRIPTION:The men’s fellowship group gathers for a scripture reflection/sharing every other Saturday at 9am in the Faith Formation office of the school building.
URL:https://stvincentferrer.net/event/mens-fellowship-and-scripture-reflection-2/2023-06-24/
LOCATION:Faith Formation Office\, 1075 E. Gardenia\, Madison Heights\, MI\, United States
CATEGORIES:Christian Service
ATTACH;FMTTYPE=image/png:https://stvincentferrer.net/wp-content/uploads/2022/01/Mens-Fellowship-1-1.png
ORGANIZER;CN="Tom Karolski":MAILTO:debbie@stvincentferrer.net
GEO:42.4991272;-83.0960313
X-APPLE-STRUCTURED-LOCATION;VALUE=URI;X-ADDRESS=Faith Formation Office 1075 E. Gardenia Madison Heights MI United States;X-APPLE-RADIUS=500;X-TITLE=1075 E. Gardenia:geo:-83.0960313,42.4991272
END:VEVENT
BEGIN:VEVENT
DTSTART;TZID=America/Detroit:20230624T160000
DTEND;TZID=America/Detroit:20230624T170000
DTSTAMP:20260425T211714
CREATED:20230511T191533Z
LAST-MODIFIED:20230511T191533Z
UID:10003564-1687622400-1687626000@stvincentferrer.net
SUMMARY:Healing Mass 4pm
DESCRIPTION:
URL:https://stvincentferrer.net/event/healing-mass-4pm-14/
LOCATION:St. Vincent Ferrer Church\, 28353 Herbert\, Madison Heights\, MI\, 48071
CATEGORIES:Healing Ministry,Special Mass,Worship
ATTACH;FMTTYPE=image/jpeg:https://stvincentferrer.net/wp-content/uploads/2021/12/healing.jpeg
GEO:42.4992176;-83.0971204
X-APPLE-STRUCTURED-LOCATION;VALUE=URI;X-ADDRESS=St. Vincent Ferrer Church 28353 Herbert Madison Heights MI 48071;X-APPLE-RADIUS=500;X-TITLE=28353 Herbert:geo:-83.0971204,42.4992176
END:VEVENT
BEGIN:VEVENT
DTSTART;TZID=America/Detroit:20230626T190000
DTEND;TZID=America/Detroit:20230626T200000
DTSTAMP:20260425T211714
CREATED:20230517T131536Z
LAST-MODIFIED:20230517T132421Z
UID:10003747-1687806000-1687809600@stvincentferrer.net
SUMMARY:Come and pray the Rosary Outside. May 22\, 7pm
DESCRIPTION:Come and pray the Rosary Outside.\n2nd and 4th Monday of the month. May thru August.\nAdministration office Patio at 7pm.
URL:https://stvincentferrer.net/event/come-and-pray-the-rosary-outside-may-22-7pm/2023-06-26/
LOCATION:Patio\,  Admin. Building
CATEGORIES:Christian Service,Miscellaneous
ATTACH;FMTTYPE=image/jpeg:https://stvincentferrer.net/wp-content/uploads/2022/05/rosary.jpg
END:VEVENT
BEGIN:VEVENT
DTSTART;TZID=America/Detroit:20230628T130000
DTEND;TZID=America/Detroit:20230628T150000
DTSTAMP:20260425T211714
CREATED:20230517T192048Z
LAST-MODIFIED:20230614T134221Z
UID:10003765-1687957200-1687964400@stvincentferrer.net
SUMMARY:The Chosen series 1pm in the Administration Hall Season 3
DESCRIPTION:Call for more information- 248-542-8720
URL:https://stvincentferrer.net/event/last-showing-for-the-chosen-series-1pm-in-the-administration-hall/2023-06-28/
LOCATION:Hall Administration Building\, 28353 Herbert\, Madison Heights\, MI\, 48071
CATEGORIES:Christian Service,Miscellaneous
ORGANIZER;CN="Christian Service":MAILTO:MaryAnn@stvincentferrer.net
GEO:42.4992176;-83.0971204
X-APPLE-STRUCTURED-LOCATION;VALUE=URI;X-ADDRESS=Hall Administration Building 28353 Herbert Madison Heights MI 48071;X-APPLE-RADIUS=500;X-TITLE=28353 Herbert:geo:-83.0971204,42.4992176
END:VEVENT
BEGIN:VEVENT
DTSTART;TZID=America/Detroit:20230630T090000
DTEND;TZID=America/Detroit:20230630T163000
DTSTAMP:20260425T211714
CREATED:20230508T121458Z
LAST-MODIFIED:20230508T121735Z
UID:10003503-1688115600-1688142600@stvincentferrer.net
SUMMARY:Summer Hours  - Office Closed on Fridays
DESCRIPTION:
URL:https://stvincentferrer.net/event/summer-hours-office-closed-on-fridays/2023-06-30/
LOCATION:Parish Office\, 28353 Herbert St.\, Madison Heights\, MI\, 48071\, United States
CATEGORIES:Miscellaneous
GEO:42.4991293;-83.0972391
X-APPLE-STRUCTURED-LOCATION;VALUE=URI;X-ADDRESS=Parish Office 28353 Herbert St. Madison Heights MI 48071 United States;X-APPLE-RADIUS=500;X-TITLE=28353 Herbert St.:geo:-83.0972391,42.4991293
END:VEVENT
END:VCALENDAR