BEGIN:VCALENDAR
VERSION:2.0
PRODID:-//St. Vincent Ferrer Catholic Church - ECPv6.15.20//NONSGML v1.0//EN
CALSCALE:GREGORIAN
METHOD:PUBLISH
X-ORIGINAL-URL:https://stvincentferrer.net
X-WR-CALDESC:Events for St. Vincent Ferrer Catholic Church
REFRESH-INTERVAL;VALUE=DURATION:PT1H
X-Robots-Tag:noindex
X-PUBLISHED-TTL:PT1H
BEGIN:VTIMEZONE
TZID:America/Detroit
BEGIN:DAYLIGHT
TZOFFSETFROM:-0500
TZOFFSETTO:-0400
TZNAME:EDT
DTSTART:20220313T070000
END:DAYLIGHT
BEGIN:STANDARD
TZOFFSETFROM:-0400
TZOFFSETTO:-0500
TZNAME:EST
DTSTART:20221106T060000
END:STANDARD
BEGIN:DAYLIGHT
TZOFFSETFROM:-0500
TZOFFSETTO:-0400
TZNAME:EDT
DTSTART:20230312T070000
END:DAYLIGHT
BEGIN:STANDARD
TZOFFSETFROM:-0400
TZOFFSETTO:-0500
TZNAME:EST
DTSTART:20231105T060000
END:STANDARD
BEGIN:DAYLIGHT
TZOFFSETFROM:-0500
TZOFFSETTO:-0400
TZNAME:EDT
DTSTART:20240310T070000
END:DAYLIGHT
BEGIN:STANDARD
TZOFFSETFROM:-0400
TZOFFSETTO:-0500
TZNAME:EST
DTSTART:20241103T060000
END:STANDARD
END:VTIMEZONE
BEGIN:VEVENT
DTSTART;TZID=America/Detroit:20230501T181500
DTEND;TZID=America/Detroit:20230501T193000
DTSTAMP:20260425T231240
CREATED:20230119T173027Z
LAST-MODIFIED:20230322T151118Z
UID:10003381-1682964900-1682969400@stvincentferrer.net
SUMMARY:Faith Formation Classes 6:15 - 7:30pm
DESCRIPTION:
URL:https://stvincentferrer.net/event/faith-formation-classes-615-730pm/2023-05-01/
LOCATION:School Building\, 1075 E. Gardenia\, Madison Heights\, MI\, 48071\, United States
CATEGORIES:Youth Faith Formation
ATTACH;FMTTYPE=image/jpeg:https://stvincentferrer.net/wp-content/uploads/2021/09/faith-formation.jpg
ORGANIZER;CN="Matthew Zinser":MAILTO:Matthew@stvincentferrer.net
GEO:42.4991272;-83.0960313
X-APPLE-STRUCTURED-LOCATION;VALUE=URI;X-ADDRESS=School Building 1075 E. Gardenia Madison Heights MI 48071 United States;X-APPLE-RADIUS=500;X-TITLE=1075 E. Gardenia:geo:-83.0960313,42.4991272
END:VEVENT
BEGIN:VEVENT
DTSTART;TZID=America/Detroit:20230503T130000
DTEND;TZID=America/Detroit:20230503T150000
DTSTAMP:20260425T231240
CREATED:20230424T144022Z
LAST-MODIFIED:20230424T150649Z
UID:10003438-1683118800-1683126000@stvincentferrer.net
SUMMARY:Chosen Series Wednesdays at 1pm Admin. Hall
DESCRIPTION:
URL:https://stvincentferrer.net/event/chosen-series-wednesdays-at-1pm-admin-hall/2023-05-03/
LOCATION:Hall Administration Building\, 28353 Herbert\, Madison Heights\, MI\, 48071
CATEGORIES:Adult Faith Formation,Christian Service,Miscellaneous
ORGANIZER;CN="Deborah Tourville":MAILTO:debbie@stvincentferrer.net
GEO:42.4992176;-83.0971204
X-APPLE-STRUCTURED-LOCATION;VALUE=URI;X-ADDRESS=Hall Administration Building 28353 Herbert Madison Heights MI 48071;X-APPLE-RADIUS=500;X-TITLE=28353 Herbert:geo:-83.0971204,42.4992176
END:VEVENT
BEGIN:VEVENT
DTSTART;TZID=America/Detroit:20230503T183000
DTEND;TZID=America/Detroit:20230503T200000
DTSTAMP:20260425T231240
CREATED:20230116T135614Z
LAST-MODIFIED:20230116T135614Z
UID:10003294-1683138600-1683144000@stvincentferrer.net
SUMMARY:Surviving Divorce  - February 1 - May 24\, 2023
DESCRIPTION:  \nWinter 2023 Meeting Schedule: \n  \nWednesday\, February 8\, 2023; 7 PM – 8:30 PM \nWednesday\,  February 15\, 2023; 7 PM – 8:30 PM \nNO MEETING February 22 – ASH WEDNESDAY \nWednesday\, March 1\, 2023; 7 PM – 8:30 PM \nWednesday\, March 8\,2023; 7 PM – 8:30 PM \nWednesday\,  March 15\, 2023; 7 PM – 8:30 PM \nWednesday\,  March 22\, 2023; 7 PM – 8:30 PM \nWednesday\,  March 29\, 2023; 7 PM – 8:30 PM \nNO MEETING April 5 – HOLY WEEK \nNO MEETING April 12 – SPRING BREAK \nWednesday\,  April 19\, 2023; 7 PM – 8:30 PM \nWednesday\,  April 26\, 2023; 7 PM – 8:30 PM \nWednesday\,  May 3\, 2023; 7 PM – 8:30 PM \nWednesday\,  May 10\, 2023; 7 PM – 8:30 PM \nWednesday\, May 17\, 2023; 7 PM – 8:30 PM
URL:https://stvincentferrer.net/event/surviving-divorce-february-1-may-24-2023/2023-05-03/
LOCATION:Hall Administration Building\, 28353 Herbert\, Madison Heights\, MI\, 48071
CATEGORIES:Christian Service,Miscellaneous
ORGANIZER;CN="Christian Service":MAILTO:MaryAnn@stvincentferrer.net
GEO:42.4992176;-83.0971204
X-APPLE-STRUCTURED-LOCATION;VALUE=URI;X-ADDRESS=Hall Administration Building 28353 Herbert Madison Heights MI 48071;X-APPLE-RADIUS=500;X-TITLE=28353 Herbert:geo:-83.0971204,42.4992176
END:VEVENT
BEGIN:VEVENT
DTSTART;TZID=America/Detroit:20230507T100000
DTEND;TZID=America/Detroit:20230507T110000
DTSTAMP:20260425T231240
CREATED:20230322T151715Z
LAST-MODIFIED:20230403T191611Z
UID:10003417-1683453600-1683457200@stvincentferrer.net
SUMMARY:Coffee and Donuts
DESCRIPTION:
URL:https://stvincentferrer.net/event/coffee-and-donuts-14/
LOCATION:St. Vincent Ferrer Church\, 28353 Herbert\, Madison Heights\, MI\, 48071
CATEGORIES:Miscellaneous
ATTACH;FMTTYPE=image/jpeg:https://stvincentferrer.net/wp-content/uploads/2022/12/coffee-and-donuts.jpg
GEO:42.4992176;-83.0971204
X-APPLE-STRUCTURED-LOCATION;VALUE=URI;X-ADDRESS=St. Vincent Ferrer Church 28353 Herbert Madison Heights MI 48071;X-APPLE-RADIUS=500;X-TITLE=28353 Herbert:geo:-83.0971204,42.4992176
END:VEVENT
BEGIN:VEVENT
DTSTART;TZID=America/Detroit:20230507T100000
DTEND;TZID=America/Detroit:20230507T110000
DTSTAMP:20260425T231240
CREATED:20230403T191953Z
LAST-MODIFIED:20230403T191953Z
UID:10003435-1683453600-1683457200@stvincentferrer.net
SUMMARY:Blood Pressure Checks after Mass
DESCRIPTION:
URL:https://stvincentferrer.net/event/blood-pressure-checks-after-mass-2/
LOCATION:Church Hall\, 28353 Herbert\, Madison Heights\, MI\, 48071
CATEGORIES:Miscellaneous
ATTACH;FMTTYPE=image/png:https://stvincentferrer.net/wp-content/uploads/2021/09/blood-pressure.png
GEO:42.4992176;-83.0971204
X-APPLE-STRUCTURED-LOCATION;VALUE=URI;X-ADDRESS=Church Hall 28353 Herbert Madison Heights MI 48071;X-APPLE-RADIUS=500;X-TITLE=28353 Herbert:geo:-83.0971204,42.4992176
END:VEVENT
BEGIN:VEVENT
DTSTART;TZID=America/Detroit:20230508T181500
DTEND;TZID=America/Detroit:20230508T193000
DTSTAMP:20260425T231240
CREATED:20230119T173027Z
LAST-MODIFIED:20230322T151118Z
UID:10003382-1683569700-1683574200@stvincentferrer.net
SUMMARY:Faith Formation Classes 6:15 - 7:30pm
DESCRIPTION:
URL:https://stvincentferrer.net/event/faith-formation-classes-615-730pm/2023-05-08/
LOCATION:School Building\, 1075 E. Gardenia\, Madison Heights\, MI\, 48071\, United States
CATEGORIES:Youth Faith Formation
ATTACH;FMTTYPE=image/jpeg:https://stvincentferrer.net/wp-content/uploads/2021/09/faith-formation.jpg
ORGANIZER;CN="Matthew Zinser":MAILTO:Matthew@stvincentferrer.net
GEO:42.4991272;-83.0960313
X-APPLE-STRUCTURED-LOCATION;VALUE=URI;X-ADDRESS=School Building 1075 E. Gardenia Madison Heights MI 48071 United States;X-APPLE-RADIUS=500;X-TITLE=1075 E. Gardenia:geo:-83.0960313,42.4991272
END:VEVENT
BEGIN:VEVENT
DTSTART;TZID=America/Detroit:20230508T183000
DTEND;TZID=America/Detroit:20230508T200000
DTSTAMP:20260425T231240
CREATED:20230427T154708Z
LAST-MODIFIED:20230508T120531Z
UID:10003496-1683570600-1683576000@stvincentferrer.net
SUMMARY:May Crowning
DESCRIPTION:All invited for the May Crowning and Ice Cream Social following.
URL:https://stvincentferrer.net/event/may-crowning-2/
LOCATION:MI\, United States
CATEGORIES:Miscellaneous,Worship,Youth Faith Formation
ATTACH;FMTTYPE=image/jpeg:https://stvincentferrer.net/wp-content/uploads/2021/11/icmary.jpeg
GEO:44.3148443;-85.6023643
END:VEVENT
BEGIN:VEVENT
DTSTART;TZID=America/Detroit:20230508T190000
DTEND;TZID=America/Detroit:20230508T200000
DTSTAMP:20260425T231240
CREATED:20230512T155930Z
LAST-MODIFIED:20230720T195611Z
UID:10003573-1683572400-1683576000@stvincentferrer.net
SUMMARY:Come pray the Rosary outside
DESCRIPTION:Come and pray the Rosary Outside.\n2nd and 4th Monday of the month.\nAdministration office Patio at 7pm.\n  \n  \nFor more information call the Parish Office – 248-542-8720
URL:https://stvincentferrer.net/event/come-pray-the-rosary-outside/
LOCATION:Patio\,  Admin. Building
CATEGORIES:Christian Service,Miscellaneous
ATTACH;FMTTYPE=image/jpeg:https://stvincentferrer.net/wp-content/uploads/2022/05/rosary.jpg
END:VEVENT
BEGIN:VEVENT
DTSTART;TZID=America/Detroit:20230510T130000
DTEND;TZID=America/Detroit:20230510T150000
DTSTAMP:20260425T231240
CREATED:20230424T144022Z
LAST-MODIFIED:20230424T150649Z
UID:10003439-1683723600-1683730800@stvincentferrer.net
SUMMARY:Chosen Series Wednesdays at 1pm Admin. Hall
DESCRIPTION:
URL:https://stvincentferrer.net/event/chosen-series-wednesdays-at-1pm-admin-hall/2023-05-10/
LOCATION:Hall Administration Building\, 28353 Herbert\, Madison Heights\, MI\, 48071
CATEGORIES:Adult Faith Formation,Christian Service,Miscellaneous
ORGANIZER;CN="Deborah Tourville":MAILTO:debbie@stvincentferrer.net
GEO:42.4992176;-83.0971204
X-APPLE-STRUCTURED-LOCATION;VALUE=URI;X-ADDRESS=Hall Administration Building 28353 Herbert Madison Heights MI 48071;X-APPLE-RADIUS=500;X-TITLE=28353 Herbert:geo:-83.0971204,42.4992176
END:VEVENT
BEGIN:VEVENT
DTSTART;TZID=America/Detroit:20230510T183000
DTEND;TZID=America/Detroit:20230510T200000
DTSTAMP:20260425T231240
CREATED:20230116T135614Z
LAST-MODIFIED:20230116T135614Z
UID:10003295-1683743400-1683748800@stvincentferrer.net
SUMMARY:Surviving Divorce  - February 1 - May 24\, 2023
DESCRIPTION:  \nWinter 2023 Meeting Schedule: \n  \nWednesday\, February 8\, 2023; 7 PM – 8:30 PM \nWednesday\,  February 15\, 2023; 7 PM – 8:30 PM \nNO MEETING February 22 – ASH WEDNESDAY \nWednesday\, March 1\, 2023; 7 PM – 8:30 PM \nWednesday\, March 8\,2023; 7 PM – 8:30 PM \nWednesday\,  March 15\, 2023; 7 PM – 8:30 PM \nWednesday\,  March 22\, 2023; 7 PM – 8:30 PM \nWednesday\,  March 29\, 2023; 7 PM – 8:30 PM \nNO MEETING April 5 – HOLY WEEK \nNO MEETING April 12 – SPRING BREAK \nWednesday\,  April 19\, 2023; 7 PM – 8:30 PM \nWednesday\,  April 26\, 2023; 7 PM – 8:30 PM \nWednesday\,  May 3\, 2023; 7 PM – 8:30 PM \nWednesday\,  May 10\, 2023; 7 PM – 8:30 PM \nWednesday\, May 17\, 2023; 7 PM – 8:30 PM
URL:https://stvincentferrer.net/event/surviving-divorce-february-1-may-24-2023/2023-05-10/
LOCATION:Hall Administration Building\, 28353 Herbert\, Madison Heights\, MI\, 48071
CATEGORIES:Christian Service,Miscellaneous
ORGANIZER;CN="Christian Service":MAILTO:MaryAnn@stvincentferrer.net
GEO:42.4992176;-83.0971204
X-APPLE-STRUCTURED-LOCATION;VALUE=URI;X-ADDRESS=Hall Administration Building 28353 Herbert Madison Heights MI 48071;X-APPLE-RADIUS=500;X-TITLE=28353 Herbert:geo:-83.0971204,42.4992176
END:VEVENT
BEGIN:VEVENT
DTSTART;TZID=America/Detroit:20230513T090000
DTEND;TZID=America/Detroit:20230513T110000
DTSTAMP:20260425T231240
CREATED:20230511T181015Z
LAST-MODIFIED:20230511T181015Z
UID:10003562-1683968400-1683975600@stvincentferrer.net
SUMMARY:Men's Scripture Reflection 9am Faith Formation Office
DESCRIPTION:
URL:https://stvincentferrer.net/event/mens-scripture-reflection-9am-faith-formation-office-5/
LOCATION:Faith Formation Office\, 1075 E. Gardenia\, Madison Heights\, MI\, United States
CATEGORIES:Christian Service,Miscellaneous
ATTACH;FMTTYPE=image/png:https://stvincentferrer.net/wp-content/uploads/2022/01/Mens-Fellowship-1-1.png
ORGANIZER;CN="Tom Karolski":MAILTO:debbie@stvincentferrer.net
GEO:42.4991272;-83.0960313
X-APPLE-STRUCTURED-LOCATION;VALUE=URI;X-ADDRESS=Faith Formation Office 1075 E. Gardenia Madison Heights MI United States;X-APPLE-RADIUS=500;X-TITLE=1075 E. Gardenia:geo:-83.0960313,42.4991272
END:VEVENT
BEGIN:VEVENT
DTSTART;TZID=America/Detroit:20230513T090000
DTEND;TZID=America/Detroit:20230513T110000
DTSTAMP:20260425T231240
CREATED:20240314T141554Z
LAST-MODIFIED:20240320T122334Z
UID:10003234-1683968400-1683975600@stvincentferrer.net
SUMMARY:Men's Fellowship and Scripture Reflection
DESCRIPTION:The men’s fellowship group gathers for a scripture reflection/sharing every other Saturday at 9am in the Faith Formation office of the school building.
URL:https://stvincentferrer.net/event/mens-fellowship-and-scripture-reflection-2/2023-05-13/
LOCATION:Faith Formation Office\, 1075 E. Gardenia\, Madison Heights\, MI\, United States
CATEGORIES:Christian Service
ATTACH;FMTTYPE=image/png:https://stvincentferrer.net/wp-content/uploads/2022/01/Mens-Fellowship-1-1.png
ORGANIZER;CN="Tom Karolski":MAILTO:debbie@stvincentferrer.net
GEO:42.4991272;-83.0960313
X-APPLE-STRUCTURED-LOCATION;VALUE=URI;X-ADDRESS=Faith Formation Office 1075 E. Gardenia Madison Heights MI United States;X-APPLE-RADIUS=500;X-TITLE=1075 E. Gardenia:geo:-83.0960313,42.4991272
END:VEVENT
BEGIN:VEVENT
DTSTART;TZID=America/Detroit:20230514T090000
DTEND;TZID=America/Detroit:20230514T100000
DTSTAMP:20260425T231240
CREATED:20230322T155734Z
LAST-MODIFIED:20230322T155734Z
UID:10003418-1684054800-1684058400@stvincentferrer.net
SUMMARY:Mother's Day Mass 9am
DESCRIPTION:
URL:https://stvincentferrer.net/event/mothers-day-mass-9am-2/
LOCATION:St. Vincent Ferrer Church\, 28353 Herbert\, Madison Heights\, MI\, 48071
CATEGORIES:Mass,Worship
ATTACH;FMTTYPE=image/jpeg:https://stvincentferrer.net/wp-content/uploads/2020/09/mother-of-mercy.jpg
GEO:42.4992176;-83.0971204
X-APPLE-STRUCTURED-LOCATION;VALUE=URI;X-ADDRESS=St. Vincent Ferrer Church 28353 Herbert Madison Heights MI 48071;X-APPLE-RADIUS=500;X-TITLE=28353 Herbert:geo:-83.0971204,42.4992176
END:VEVENT
BEGIN:VEVENT
DTSTART;TZID=America/Detroit:20230517T130000
DTEND;TZID=America/Detroit:20230517T150000
DTSTAMP:20260425T231240
CREATED:20230424T144022Z
LAST-MODIFIED:20230424T150649Z
UID:10003440-1684328400-1684335600@stvincentferrer.net
SUMMARY:Chosen Series Wednesdays at 1pm Admin. Hall
DESCRIPTION:
URL:https://stvincentferrer.net/event/chosen-series-wednesdays-at-1pm-admin-hall/2023-05-17/
LOCATION:Hall Administration Building\, 28353 Herbert\, Madison Heights\, MI\, 48071
CATEGORIES:Adult Faith Formation,Christian Service,Miscellaneous
ORGANIZER;CN="Deborah Tourville":MAILTO:debbie@stvincentferrer.net
GEO:42.4992176;-83.0971204
X-APPLE-STRUCTURED-LOCATION;VALUE=URI;X-ADDRESS=Hall Administration Building 28353 Herbert Madison Heights MI 48071;X-APPLE-RADIUS=500;X-TITLE=28353 Herbert:geo:-83.0971204,42.4992176
END:VEVENT
BEGIN:VEVENT
DTSTART;TZID=America/Detroit:20230517T183000
DTEND;TZID=America/Detroit:20230517T200000
DTSTAMP:20260425T231240
CREATED:20230116T135614Z
LAST-MODIFIED:20230116T135614Z
UID:10003296-1684348200-1684353600@stvincentferrer.net
SUMMARY:Surviving Divorce  - February 1 - May 24\, 2023
DESCRIPTION:  \nWinter 2023 Meeting Schedule: \n  \nWednesday\, February 8\, 2023; 7 PM – 8:30 PM \nWednesday\,  February 15\, 2023; 7 PM – 8:30 PM \nNO MEETING February 22 – ASH WEDNESDAY \nWednesday\, March 1\, 2023; 7 PM – 8:30 PM \nWednesday\, March 8\,2023; 7 PM – 8:30 PM \nWednesday\,  March 15\, 2023; 7 PM – 8:30 PM \nWednesday\,  March 22\, 2023; 7 PM – 8:30 PM \nWednesday\,  March 29\, 2023; 7 PM – 8:30 PM \nNO MEETING April 5 – HOLY WEEK \nNO MEETING April 12 – SPRING BREAK \nWednesday\,  April 19\, 2023; 7 PM – 8:30 PM \nWednesday\,  April 26\, 2023; 7 PM – 8:30 PM \nWednesday\,  May 3\, 2023; 7 PM – 8:30 PM \nWednesday\,  May 10\, 2023; 7 PM – 8:30 PM \nWednesday\, May 17\, 2023; 7 PM – 8:30 PM
URL:https://stvincentferrer.net/event/surviving-divorce-february-1-may-24-2023/2023-05-17/
LOCATION:Hall Administration Building\, 28353 Herbert\, Madison Heights\, MI\, 48071
CATEGORIES:Christian Service,Miscellaneous
ORGANIZER;CN="Christian Service":MAILTO:MaryAnn@stvincentferrer.net
GEO:42.4992176;-83.0971204
X-APPLE-STRUCTURED-LOCATION;VALUE=URI;X-ADDRESS=Hall Administration Building 28353 Herbert Madison Heights MI 48071;X-APPLE-RADIUS=500;X-TITLE=28353 Herbert:geo:-83.0971204,42.4992176
END:VEVENT
BEGIN:VEVENT
DTSTART;TZID=America/Detroit:20230522T190000
DTEND;TZID=America/Detroit:20230522T200000
DTSTAMP:20260425T231240
CREATED:20230508T120909Z
LAST-MODIFIED:20230508T120909Z
UID:10003497-1684782000-1684785600@stvincentferrer.net
SUMMARY:Confirmation at St. Mary's 7pm
DESCRIPTION:
URL:https://stvincentferrer.net/event/confirmation-at-st-marys-7pm/
LOCATION:St. Mary Catholic Church – Royal Oak
CATEGORIES:Special Mass,Youth Faith Formation
ATTACH;FMTTYPE=image/png:https://stvincentferrer.net/wp-content/uploads/2016/12/reconciliationsample.png
END:VEVENT
BEGIN:VEVENT
DTSTART;TZID=America/Detroit:20230522T190000
DTEND;TZID=America/Detroit:20230522T200000
DTSTAMP:20260425T231240
CREATED:20230517T131536Z
LAST-MODIFIED:20230517T132421Z
UID:10003743-1684782000-1684785600@stvincentferrer.net
SUMMARY:Come and pray the Rosary Outside. May 22\, 7pm
DESCRIPTION:Come and pray the Rosary Outside.\n2nd and 4th Monday of the month. May thru August.\nAdministration office Patio at 7pm.
URL:https://stvincentferrer.net/event/come-and-pray-the-rosary-outside-may-22-7pm/2023-05-22/
LOCATION:Patio\,  Admin. Building
CATEGORIES:Christian Service,Miscellaneous
ATTACH;FMTTYPE=image/jpeg:https://stvincentferrer.net/wp-content/uploads/2022/05/rosary.jpg
END:VEVENT
BEGIN:VEVENT
DTSTART;TZID=America/Detroit:20230524T130000
DTEND;TZID=America/Detroit:20230524T150000
DTSTAMP:20260425T231240
CREATED:20230424T144022Z
LAST-MODIFIED:20230424T150649Z
UID:10003441-1684933200-1684940400@stvincentferrer.net
SUMMARY:Chosen Series Wednesdays at 1pm Admin. Hall
DESCRIPTION:
URL:https://stvincentferrer.net/event/chosen-series-wednesdays-at-1pm-admin-hall/2023-05-24/
LOCATION:Hall Administration Building\, 28353 Herbert\, Madison Heights\, MI\, 48071
CATEGORIES:Adult Faith Formation,Christian Service,Miscellaneous
ORGANIZER;CN="Deborah Tourville":MAILTO:debbie@stvincentferrer.net
GEO:42.4992176;-83.0971204
X-APPLE-STRUCTURED-LOCATION;VALUE=URI;X-ADDRESS=Hall Administration Building 28353 Herbert Madison Heights MI 48071;X-APPLE-RADIUS=500;X-TITLE=28353 Herbert:geo:-83.0971204,42.4992176
END:VEVENT
BEGIN:VEVENT
DTSTART;TZID=America/Detroit:20230524T183000
DTEND;TZID=America/Detroit:20230524T200000
DTSTAMP:20260425T231240
CREATED:20230116T135614Z
LAST-MODIFIED:20230116T135614Z
UID:10003297-1684953000-1684958400@stvincentferrer.net
SUMMARY:Surviving Divorce  - February 1 - May 24\, 2023
DESCRIPTION:  \nWinter 2023 Meeting Schedule: \n  \nWednesday\, February 8\, 2023; 7 PM – 8:30 PM \nWednesday\,  February 15\, 2023; 7 PM – 8:30 PM \nNO MEETING February 22 – ASH WEDNESDAY \nWednesday\, March 1\, 2023; 7 PM – 8:30 PM \nWednesday\, March 8\,2023; 7 PM – 8:30 PM \nWednesday\,  March 15\, 2023; 7 PM – 8:30 PM \nWednesday\,  March 22\, 2023; 7 PM – 8:30 PM \nWednesday\,  March 29\, 2023; 7 PM – 8:30 PM \nNO MEETING April 5 – HOLY WEEK \nNO MEETING April 12 – SPRING BREAK \nWednesday\,  April 19\, 2023; 7 PM – 8:30 PM \nWednesday\,  April 26\, 2023; 7 PM – 8:30 PM \nWednesday\,  May 3\, 2023; 7 PM – 8:30 PM \nWednesday\,  May 10\, 2023; 7 PM – 8:30 PM \nWednesday\, May 17\, 2023; 7 PM – 8:30 PM
URL:https://stvincentferrer.net/event/surviving-divorce-february-1-may-24-2023/2023-05-24/
LOCATION:Hall Administration Building\, 28353 Herbert\, Madison Heights\, MI\, 48071
CATEGORIES:Christian Service,Miscellaneous
ORGANIZER;CN="Christian Service":MAILTO:MaryAnn@stvincentferrer.net
GEO:42.4992176;-83.0971204
X-APPLE-STRUCTURED-LOCATION;VALUE=URI;X-ADDRESS=Hall Administration Building 28353 Herbert Madison Heights MI 48071;X-APPLE-RADIUS=500;X-TITLE=28353 Herbert:geo:-83.0971204,42.4992176
END:VEVENT
BEGIN:VEVENT
DTSTART;TZID=America/Detroit:20230525T180000
DTEND;TZID=America/Detroit:20230525T200000
DTSTAMP:20260425T231240
CREATED:20230119T153306Z
LAST-MODIFIED:20230601T184117Z
UID:10003360-1685037600-1685044800@stvincentferrer.net
SUMMARY:Prayer Blanket 6pm
DESCRIPTION:
URL:https://stvincentferrer.net/event/prayer-blanket-6pm-2/2023-05-25/
LOCATION:Church Hall\, 28353 Herbert\, Madison Heights\, MI\, 48071
CATEGORIES:Christian Service
ATTACH;FMTTYPE=image/jpeg:https://stvincentferrer.net/wp-content/uploads/2022/01/blanket.jpg
ORGANIZER;CN="Christian Service":MAILTO:MaryAnn@stvincentferrer.net
GEO:42.4992176;-83.0971204
X-APPLE-STRUCTURED-LOCATION;VALUE=URI;X-ADDRESS=Church Hall 28353 Herbert Madison Heights MI 48071;X-APPLE-RADIUS=500;X-TITLE=28353 Herbert:geo:-83.0971204,42.4992176
END:VEVENT
BEGIN:VEVENT
DTSTART;TZID=America/Detroit:20230526T090000
DTEND;TZID=America/Detroit:20230526T163000
DTSTAMP:20260425T231240
CREATED:20230508T121458Z
LAST-MODIFIED:20230508T121735Z
UID:10003498-1685091600-1685118600@stvincentferrer.net
SUMMARY:Summer Hours  - Office Closed on Fridays
DESCRIPTION:
URL:https://stvincentferrer.net/event/summer-hours-office-closed-on-fridays/2023-05-26/
LOCATION:Parish Office\, 28353 Herbert St.\, Madison Heights\, MI\, 48071\, United States
CATEGORIES:Miscellaneous
GEO:42.4991293;-83.0972391
X-APPLE-STRUCTURED-LOCATION;VALUE=URI;X-ADDRESS=Parish Office 28353 Herbert St. Madison Heights MI 48071 United States;X-APPLE-RADIUS=500;X-TITLE=28353 Herbert St.:geo:-83.0972391,42.4991293
END:VEVENT
BEGIN:VEVENT
DTSTART;TZID=America/Detroit:20230527T090000
DTEND;TZID=America/Detroit:20230527T110000
DTSTAMP:20260425T231240
CREATED:20240314T141554Z
LAST-MODIFIED:20240320T122334Z
UID:10003235-1685178000-1685185200@stvincentferrer.net
SUMMARY:Men's Fellowship and Scripture Reflection
DESCRIPTION:The men’s fellowship group gathers for a scripture reflection/sharing every other Saturday at 9am in the Faith Formation office of the school building.
URL:https://stvincentferrer.net/event/mens-fellowship-and-scripture-reflection-2/2023-05-27/
LOCATION:Faith Formation Office\, 1075 E. Gardenia\, Madison Heights\, MI\, United States
CATEGORIES:Christian Service
ATTACH;FMTTYPE=image/png:https://stvincentferrer.net/wp-content/uploads/2022/01/Mens-Fellowship-1-1.png
ORGANIZER;CN="Tom Karolski":MAILTO:debbie@stvincentferrer.net
GEO:42.4991272;-83.0960313
X-APPLE-STRUCTURED-LOCATION;VALUE=URI;X-ADDRESS=Faith Formation Office 1075 E. Gardenia Madison Heights MI United States;X-APPLE-RADIUS=500;X-TITLE=1075 E. Gardenia:geo:-83.0960313,42.4991272
END:VEVENT
BEGIN:VEVENT
DTSTART;TZID=America/Detroit:20230527T160000
DTEND;TZID=America/Detroit:20230527T170000
DTSTAMP:20260425T231240
CREATED:20230424T143524Z
LAST-MODIFIED:20230424T143606Z
UID:10003436-1685203200-1685206800@stvincentferrer.net
SUMMARY:Healing Mass 4pm
DESCRIPTION:Fr. John will administer the Sacrament of the sick after Mass.\nPrayer teams will be available for individual prayer.
URL:https://stvincentferrer.net/event/healing-mass-4pm-13/
LOCATION:St. Vincent Ferrer Church\, 28353 Herbert\, Madison Heights\, MI\, 48071
CATEGORIES:Healing Ministry,Special Mass,Worship
ATTACH;FMTTYPE=image/jpeg:https://stvincentferrer.net/wp-content/uploads/2021/12/healing.jpeg
GEO:42.4992176;-83.0971204
X-APPLE-STRUCTURED-LOCATION;VALUE=URI;X-ADDRESS=St. Vincent Ferrer Church 28353 Herbert Madison Heights MI 48071;X-APPLE-RADIUS=500;X-TITLE=28353 Herbert:geo:-83.0971204,42.4992176
END:VEVENT
BEGIN:VEVENT
DTSTART;TZID=America/Detroit:20230528T090000
DTEND;TZID=America/Detroit:20230528T100000
DTSTAMP:20260425T231240
CREATED:20230517T133901Z
LAST-MODIFIED:20230517T140143Z
UID:10003753-1685264400-1685268000@stvincentferrer.net
SUMMARY:Pentecost
DESCRIPTION:Pentecost always occurs 50 days after the death and resurrection of Jesus\, and ten days after his ascension into heaven. Because Easter is a moveable feast without a fixed date\, and Pentecost depends on the timing of Easter\, Pentecost can fall anywhere between May 10 and June 13.
URL:https://stvincentferrer.net/event/pentecost-2/
LOCATION:St. Vincent Ferrer Church\, 28353 Herbert\, Madison Heights\, MI\, 48071
CATEGORIES:Worship
ATTACH;FMTTYPE=image/jpeg:https://stvincentferrer.net/wp-content/uploads/2021/04/sunday-pentecost.jpeg
GEO:42.4992176;-83.0971204
X-APPLE-STRUCTURED-LOCATION;VALUE=URI;X-ADDRESS=St. Vincent Ferrer Church 28353 Herbert Madison Heights MI 48071;X-APPLE-RADIUS=500;X-TITLE=28353 Herbert:geo:-83.0971204,42.4992176
END:VEVENT
BEGIN:VEVENT
DTSTART;TZID=America/Detroit:20230529T080000
DTEND;TZID=America/Detroit:20230529T170000
DTSTAMP:20260425T231240
CREATED:20230322T160511Z
LAST-MODIFIED:20230322T160511Z
UID:10003419-1685347200-1685379600@stvincentferrer.net
SUMMARY:Memorial Day - Office Closed
DESCRIPTION:
URL:https://stvincentferrer.net/event/memorial-day-office-closed-2/
LOCATION:MI\, United States
CATEGORIES:Miscellaneous
ATTACH;FMTTYPE=image/jpeg:https://stvincentferrer.net/wp-content/uploads/2022/05/memorial-day-images-27.jpg
GEO:44.3148443;-85.6023643
END:VEVENT
BEGIN:VEVENT
DTSTART;TZID=America/Detroit:20230531T130000
DTEND;TZID=America/Detroit:20230531T150000
DTSTAMP:20260425T231240
CREATED:20230424T144022Z
LAST-MODIFIED:20230424T150649Z
UID:10003442-1685538000-1685545200@stvincentferrer.net
SUMMARY:Chosen Series Wednesdays at 1pm Admin. Hall
DESCRIPTION:
URL:https://stvincentferrer.net/event/chosen-series-wednesdays-at-1pm-admin-hall/2023-05-31/
LOCATION:Hall Administration Building\, 28353 Herbert\, Madison Heights\, MI\, 48071
CATEGORIES:Adult Faith Formation,Christian Service,Miscellaneous
ORGANIZER;CN="Deborah Tourville":MAILTO:debbie@stvincentferrer.net
GEO:42.4992176;-83.0971204
X-APPLE-STRUCTURED-LOCATION;VALUE=URI;X-ADDRESS=Hall Administration Building 28353 Herbert Madison Heights MI 48071;X-APPLE-RADIUS=500;X-TITLE=28353 Herbert:geo:-83.0971204,42.4992176
END:VEVENT
END:VCALENDAR