BEGIN:VCALENDAR
VERSION:2.0
PRODID:-//St. Vincent Ferrer Catholic Church - ECPv6.15.20//NONSGML v1.0//EN
CALSCALE:GREGORIAN
METHOD:PUBLISH
X-WR-CALNAME:St. Vincent Ferrer Catholic Church
X-ORIGINAL-URL:https://stvincentferrer.net
X-WR-CALDESC:Events for St. Vincent Ferrer Catholic Church
REFRESH-INTERVAL;VALUE=DURATION:PT1H
X-Robots-Tag:noindex
X-PUBLISHED-TTL:PT1H
BEGIN:VTIMEZONE
TZID:America/Detroit
BEGIN:DAYLIGHT
TZOFFSETFROM:-0500
TZOFFSETTO:-0400
TZNAME:EDT
DTSTART:20220313T070000
END:DAYLIGHT
BEGIN:STANDARD
TZOFFSETFROM:-0400
TZOFFSETTO:-0500
TZNAME:EST
DTSTART:20221106T060000
END:STANDARD
BEGIN:DAYLIGHT
TZOFFSETFROM:-0500
TZOFFSETTO:-0400
TZNAME:EDT
DTSTART:20230312T070000
END:DAYLIGHT
BEGIN:STANDARD
TZOFFSETFROM:-0400
TZOFFSETTO:-0500
TZNAME:EST
DTSTART:20231105T060000
END:STANDARD
BEGIN:DAYLIGHT
TZOFFSETFROM:-0500
TZOFFSETTO:-0400
TZNAME:EDT
DTSTART:20240310T070000
END:DAYLIGHT
BEGIN:STANDARD
TZOFFSETFROM:-0400
TZOFFSETTO:-0500
TZNAME:EST
DTSTART:20241103T060000
END:STANDARD
END:VTIMEZONE
BEGIN:VEVENT
DTSTART;TZID=America/Detroit:20230401T090000
DTEND;TZID=America/Detroit:20230401T110000
DTSTAMP:20260426T004354
CREATED:20240314T141554Z
LAST-MODIFIED:20240320T122334Z
UID:10003231-1680339600-1680346800@stvincentferrer.net
SUMMARY:Men's Fellowship and Scripture Reflection
DESCRIPTION:The men’s fellowship group gathers for a scripture reflection/sharing every other Saturday at 9am in the Faith Formation office of the school building.
URL:https://stvincentferrer.net/event/mens-fellowship-and-scripture-reflection-2/2023-04-01/
LOCATION:Faith Formation Office\, 1075 E. Gardenia\, Madison Heights\, MI\, United States
CATEGORIES:Christian Service
ATTACH;FMTTYPE=image/png:https://stvincentferrer.net/wp-content/uploads/2022/01/Mens-Fellowship-1-1.png
ORGANIZER;CN="Tom Karolski":MAILTO:debbie@stvincentferrer.net
GEO:42.4991272;-83.0960313
X-APPLE-STRUCTURED-LOCATION;VALUE=URI;X-ADDRESS=Faith Formation Office 1075 E. Gardenia Madison Heights MI United States;X-APPLE-RADIUS=500;X-TITLE=1075 E. Gardenia:geo:-83.0960313,42.4991272
END:VEVENT
BEGIN:VEVENT
DTSTART;TZID=America/Detroit:20230401T130000
DTEND;TZID=America/Detroit:20230401T153000
DTSTAMP:20260426T004354
CREATED:20230208T173703Z
LAST-MODIFIED:20230301T183910Z
UID:10003413-1680354000-1680363000@stvincentferrer.net
SUMMARY:The Chosen - Saturdays during Lent: Feb. 25; Mar. 4\, 11\, 18\, 25; Apr.1 - 1:00 - 3:30pm
DESCRIPTION:Episodes of the Series will be shown\, Followed by discussion and fellowship in the Administration Building.
URL:https://stvincentferrer.net/event/the-chosen-saturdays-during-lent-feb-25-mar-4-11-18-25-apr-1-100-330pm-2/2023-04-01/
LOCATION:MI\, United States
CATEGORIES:Adult Faith Formation,Christian Service,Miscellaneous
GEO:44.3148443;-85.6023643
END:VEVENT
BEGIN:VEVENT
DTSTART;TZID=America/Detroit:20230402T090000
DTEND;TZID=America/Detroit:20230402T100000
DTSTAMP:20260426T004354
CREATED:20230119T155730Z
LAST-MODIFIED:20230119T155730Z
UID:10003368-1680426000-1680429600@stvincentferrer.net
SUMMARY:Palm Sunday
DESCRIPTION:
URL:https://stvincentferrer.net/event/palm-sunday-2/
LOCATION:St. Vincent Ferrer Church\, 28353 Herbert\, Madison Heights\, MI\, 48071
CATEGORIES:Special Mass
ATTACH;FMTTYPE=image/jpeg:https://stvincentferrer.net/wp-content/uploads/2022/03/palm-sunday.jpg
GEO:42.4992176;-83.0971204
X-APPLE-STRUCTURED-LOCATION;VALUE=URI;X-ADDRESS=St. Vincent Ferrer Church 28353 Herbert Madison Heights MI 48071;X-APPLE-RADIUS=500;X-TITLE=28353 Herbert:geo:-83.0971204,42.4992176
END:VEVENT
BEGIN:VEVENT
DTSTART;TZID=America/Detroit:20230402T100000
DTEND;TZID=America/Detroit:20230402T110000
DTSTAMP:20260426T004354
CREATED:20230215T205840Z
LAST-MODIFIED:20230215T205851Z
UID:10003415-1680429600-1680433200@stvincentferrer.net
SUMMARY:Coffee and Donuts /Blood Pressure Checks after Mass
DESCRIPTION:Please join us in the hall after Mass
URL:https://stvincentferrer.net/event/coffee-and-donuts-blood-pressure-checks-after-mass-2/
LOCATION:Church Hall\, 28353 Herbert\, Madison Heights\, MI\, 48071
CATEGORIES:Christian Service,Miscellaneous
ATTACH;FMTTYPE=image/jpeg:https://stvincentferrer.net/wp-content/uploads/2022/12/coffee-and-donuts.jpg
GEO:42.4992176;-83.0971204
X-APPLE-STRUCTURED-LOCATION;VALUE=URI;X-ADDRESS=Church Hall 28353 Herbert Madison Heights MI 48071;X-APPLE-RADIUS=500;X-TITLE=28353 Herbert:geo:-83.0971204,42.4992176
END:VEVENT
BEGIN:VEVENT
DTSTART;TZID=America/Detroit:20230403T181500
DTEND;TZID=America/Detroit:20230403T193000
DTSTAMP:20260426T004354
CREATED:20230119T173027Z
LAST-MODIFIED:20230322T151118Z
UID:10003377-1680545700-1680550200@stvincentferrer.net
SUMMARY:Faith Formation Classes 6:15 - 7:30pm
DESCRIPTION:
URL:https://stvincentferrer.net/event/faith-formation-classes-615-730pm/2023-04-03/
LOCATION:School Building\, 1075 E. Gardenia\, Madison Heights\, MI\, 48071\, United States
CATEGORIES:Youth Faith Formation
ATTACH;FMTTYPE=image/jpeg:https://stvincentferrer.net/wp-content/uploads/2021/09/faith-formation.jpg
ORGANIZER;CN="Matthew Zinser":MAILTO:Matthew@stvincentferrer.net
GEO:42.4991272;-83.0960313
X-APPLE-STRUCTURED-LOCATION;VALUE=URI;X-ADDRESS=School Building 1075 E. Gardenia Madison Heights MI 48071 United States;X-APPLE-RADIUS=500;X-TITLE=1075 E. Gardenia:geo:-83.0960313,42.4991272
END:VEVENT
BEGIN:VEVENT
DTSTART;VALUE=DATE:20230405
DTEND;VALUE=DATE:20230406
DTSTAMP:20260426T004354
CREATED:20230330T200109Z
LAST-MODIFIED:20230330T200109Z
UID:10003433-1680652800-1680739199@stvincentferrer.net
SUMMARY:Feast Day Wednesday\, April 5th - Patron saint of builders - St. Vincent Ferrer
DESCRIPTION:
URL:https://stvincentferrer.net/event/feast-day-wednesday-april-5th-patron-saint-of-builders-st-vincent-ferrer/
LOCATION:St. Vincent Ferrer Church\, 28353 Herbert\, Madison Heights\, MI\, 48071
CATEGORIES:Worship
ATTACH;FMTTYPE=image/jpeg:https://stvincentferrer.net/wp-content/uploads/2013/08/StVincent.jpg
GEO:42.4992176;-83.0971204
X-APPLE-STRUCTURED-LOCATION;VALUE=URI;X-ADDRESS=St. Vincent Ferrer Church 28353 Herbert Madison Heights MI 48071;X-APPLE-RADIUS=500;X-TITLE=28353 Herbert:geo:-83.0971204,42.4992176
END:VEVENT
BEGIN:VEVENT
DTSTART;TZID=America/Detroit:20230405T090000
DTEND;TZID=America/Detroit:20230405T110000
DTSTAMP:20260426T004354
CREATED:20230215T210558Z
LAST-MODIFIED:20230216T140734Z
UID:10003312-1680685200-1680692400@stvincentferrer.net
SUMMARY:Book Study -  Jesus before Christianity
DESCRIPTION:
URL:https://stvincentferrer.net/event/book-study-jesus-before-christianity-2/2023-04-05/
LOCATION:Hall Administration Building\, 28353 Herbert\, Madison Heights\, MI\, 48071
CATEGORIES:Christian Service,Miscellaneous
ORGANIZER;CN="Deborah Tourville":MAILTO:debbie@stvincentferrer.net
GEO:42.4992176;-83.0971204
X-APPLE-STRUCTURED-LOCATION;VALUE=URI;X-ADDRESS=Hall Administration Building 28353 Herbert Madison Heights MI 48071;X-APPLE-RADIUS=500;X-TITLE=28353 Herbert:geo:-83.0971204,42.4992176
END:VEVENT
BEGIN:VEVENT
DTSTART;TZID=America/Detroit:20230406T190000
DTEND;TZID=America/Detroit:20230406T200000
DTSTAMP:20260426T004354
CREATED:20230123T202317Z
LAST-MODIFIED:20230123T202317Z
UID:10003396-1680807600-1680811200@stvincentferrer.net
SUMMARY:Holy Thursday
DESCRIPTION:
URL:https://stvincentferrer.net/event/holy-thursday-2/
LOCATION:St. Vincent Ferrer Church\, 28353 Herbert\, Madison Heights\, MI\, 48071
CATEGORIES:Special Mass
ATTACH;FMTTYPE=image/jpeg:https://stvincentferrer.net/wp-content/uploads/2023/01/holy-thursday.jpg
GEO:42.4992176;-83.0971204
X-APPLE-STRUCTURED-LOCATION;VALUE=URI;X-ADDRESS=St. Vincent Ferrer Church 28353 Herbert Madison Heights MI 48071;X-APPLE-RADIUS=500;X-TITLE=28353 Herbert:geo:-83.0971204,42.4992176
END:VEVENT
BEGIN:VEVENT
DTSTART;TZID=America/Detroit:20230406T190000
DTEND;TZID=America/Detroit:20230406T213000
DTSTAMP:20260426T004354
CREATED:20230322T161803Z
LAST-MODIFIED:20230322T161803Z
UID:10003421-1680807600-1680816600@stvincentferrer.net
SUMMARY:Silent Adoration 7 - 9:30 pm
DESCRIPTION:
URL:https://stvincentferrer.net/event/silent-adoration-7-930-pm/
LOCATION:St. Vincent Ferrer Church\, 28353 Herbert\, Madison Heights\, MI\, 48071
CATEGORIES:Special Mass
ATTACH;FMTTYPE=image/jpeg:https://stvincentferrer.net/wp-content/uploads/2017/03/Monstrance.jpg
GEO:42.4992176;-83.0971204
X-APPLE-STRUCTURED-LOCATION;VALUE=URI;X-ADDRESS=St. Vincent Ferrer Church 28353 Herbert Madison Heights MI 48071;X-APPLE-RADIUS=500;X-TITLE=28353 Herbert:geo:-83.0971204,42.4992176
END:VEVENT
BEGIN:VEVENT
DTSTART;TZID=America/Detroit:20230407T123000
DTEND;TZID=America/Detroit:20230407T140000
DTSTAMP:20260426T004354
CREATED:20230123T203151Z
LAST-MODIFIED:20230123T203151Z
UID:10003397-1680870600-1680876000@stvincentferrer.net
SUMMARY:Good Friday - Stations of the Cross 12:30 pm Liturgy 1pm
DESCRIPTION:
URL:https://stvincentferrer.net/event/good-friday-stations-of-the-cross-1230-pm-liturgy-1pm/
LOCATION:St. Vincent Ferrer Church\, 28353 Herbert\, Madison Heights\, MI\, 48071
CATEGORIES:Special Mass
ATTACH;FMTTYPE=image/jpeg:https://stvincentferrer.net/wp-content/uploads/2023/01/good-friday.jpg
GEO:42.4992176;-83.0971204
X-APPLE-STRUCTURED-LOCATION;VALUE=URI;X-ADDRESS=St. Vincent Ferrer Church 28353 Herbert Madison Heights MI 48071;X-APPLE-RADIUS=500;X-TITLE=28353 Herbert:geo:-83.0971204,42.4992176
END:VEVENT
BEGIN:VEVENT
DTSTART;TZID=America/Detroit:20230408T200000
DTEND;TZID=America/Detroit:20230408T210000
DTSTAMP:20260426T004354
CREATED:20230123T204141Z
LAST-MODIFIED:20230123T204141Z
UID:10003398-1680984000-1680987600@stvincentferrer.net
SUMMARY:Holy Saturday - Food Blessing 11am \, Vigil Mass 8pm
DESCRIPTION:Food Blessing 11am\nVigil Mass 8pm
URL:https://stvincentferrer.net/event/holy-saturday-food-blessing-11am-vigil-mass-8pm/
LOCATION:St. Vincent Ferrer Church\, 28353 Herbert\, Madison Heights\, MI\, 48071
CATEGORIES:Special Mass
ATTACH;FMTTYPE=image/jpeg:https://stvincentferrer.net/wp-content/uploads/2023/01/holy-Saturday.jpg
GEO:42.4992176;-83.0971204
X-APPLE-STRUCTURED-LOCATION;VALUE=URI;X-ADDRESS=St. Vincent Ferrer Church 28353 Herbert Madison Heights MI 48071;X-APPLE-RADIUS=500;X-TITLE=28353 Herbert:geo:-83.0971204,42.4992176
END:VEVENT
BEGIN:VEVENT
DTSTART;TZID=America/Detroit:20230409T090000
DTEND;TZID=America/Detroit:20230409T100000
DTSTAMP:20260426T004354
CREATED:20230123T205255Z
LAST-MODIFIED:20230123T205255Z
UID:10003399-1681030800-1681034400@stvincentferrer.net
SUMMARY:Easter Sunday Mass 9am
DESCRIPTION:
URL:https://stvincentferrer.net/event/easter-sunday-mass-9am-2/
LOCATION:St. Vincent Ferrer Church\, 28353 Herbert\, Madison Heights\, MI\, 48071
CATEGORIES:Special Mass
ATTACH;FMTTYPE=image/jpeg:https://stvincentferrer.net/wp-content/uploads/2023/01/easter.jpg
GEO:42.4992176;-83.0971204
X-APPLE-STRUCTURED-LOCATION;VALUE=URI;X-ADDRESS=St. Vincent Ferrer Church 28353 Herbert Madison Heights MI 48071;X-APPLE-RADIUS=500;X-TITLE=28353 Herbert:geo:-83.0971204,42.4992176
END:VEVENT
BEGIN:VEVENT
DTSTART;TZID=America/Detroit:20230410T090000
DTEND;TZID=America/Detroit:20230410T163000
DTSTAMP:20260426T004354
CREATED:20230322T161430Z
LAST-MODIFIED:20230322T161430Z
UID:10003420-1681117200-1681144200@stvincentferrer.net
SUMMARY:Office Closed
DESCRIPTION:
URL:https://stvincentferrer.net/event/office-closed-6/
LOCATION:Parish Office\, 28353 Herbert St.\, Madison Heights\, MI\, 48071\, United States
CATEGORIES:Miscellaneous
ATTACH;FMTTYPE=image/jpeg:https://stvincentferrer.net/wp-content/uploads/2022/12/closed.jpg
GEO:42.4991293;-83.0972391
X-APPLE-STRUCTURED-LOCATION;VALUE=URI;X-ADDRESS=Parish Office 28353 Herbert St. Madison Heights MI 48071 United States;X-APPLE-RADIUS=500;X-TITLE=28353 Herbert St.:geo:-83.0972391,42.4991293
END:VEVENT
BEGIN:VEVENT
DTSTART;TZID=America/Detroit:20230410T181500
DTEND;TZID=America/Detroit:20230410T193000
DTSTAMP:20260426T004354
CREATED:20230119T173027Z
LAST-MODIFIED:20230322T151118Z
UID:10003378-1681150500-1681155000@stvincentferrer.net
SUMMARY:Faith Formation Classes 6:15 - 7:30pm
DESCRIPTION:
URL:https://stvincentferrer.net/event/faith-formation-classes-615-730pm/2023-04-10/
LOCATION:School Building\, 1075 E. Gardenia\, Madison Heights\, MI\, 48071\, United States
CATEGORIES:Youth Faith Formation
ATTACH;FMTTYPE=image/jpeg:https://stvincentferrer.net/wp-content/uploads/2021/09/faith-formation.jpg
ORGANIZER;CN="Matthew Zinser":MAILTO:Matthew@stvincentferrer.net
GEO:42.4991272;-83.0960313
X-APPLE-STRUCTURED-LOCATION;VALUE=URI;X-ADDRESS=School Building 1075 E. Gardenia Madison Heights MI 48071 United States;X-APPLE-RADIUS=500;X-TITLE=1075 E. Gardenia:geo:-83.0960313,42.4991272
END:VEVENT
BEGIN:VEVENT
DTSTART;TZID=America/Detroit:20230415T090000
DTEND;TZID=America/Detroit:20230415T110000
DTSTAMP:20260426T004354
CREATED:20240314T141554Z
LAST-MODIFIED:20240320T122334Z
UID:10003232-1681549200-1681556400@stvincentferrer.net
SUMMARY:Men's Fellowship and Scripture Reflection
DESCRIPTION:The men’s fellowship group gathers for a scripture reflection/sharing every other Saturday at 9am in the Faith Formation office of the school building.
URL:https://stvincentferrer.net/event/mens-fellowship-and-scripture-reflection-2/2023-04-15/
LOCATION:Faith Formation Office\, 1075 E. Gardenia\, Madison Heights\, MI\, United States
CATEGORIES:Christian Service
ATTACH;FMTTYPE=image/png:https://stvincentferrer.net/wp-content/uploads/2022/01/Mens-Fellowship-1-1.png
ORGANIZER;CN="Tom Karolski":MAILTO:debbie@stvincentferrer.net
GEO:42.4991272;-83.0960313
X-APPLE-STRUCTURED-LOCATION;VALUE=URI;X-ADDRESS=Faith Formation Office 1075 E. Gardenia Madison Heights MI United States;X-APPLE-RADIUS=500;X-TITLE=1075 E. Gardenia:geo:-83.0960313,42.4991272
END:VEVENT
BEGIN:VEVENT
DTSTART;TZID=America/Detroit:20230416T090000
DTEND;TZID=America/Detroit:20230416T100000
DTSTAMP:20260426T004354
CREATED:20230322T162748Z
LAST-MODIFIED:20230322T163449Z
UID:10003422-1681635600-1681639200@stvincentferrer.net
SUMMARY:Divine Mercy 9am
DESCRIPTION:
URL:https://stvincentferrer.net/event/divine-mercy-9am/
LOCATION:St. Vincent Ferrer Church\, 28353 Herbert\, Madison Heights\, MI\, 48071
CATEGORIES:Special Mass,Worship
ATTACH;FMTTYPE=image/jpeg:https://stvincentferrer.net/wp-content/uploads/2023/03/divine-e1679502460865.jpg
GEO:42.4992176;-83.0971204
X-APPLE-STRUCTURED-LOCATION;VALUE=URI;X-ADDRESS=St. Vincent Ferrer Church 28353 Herbert Madison Heights MI 48071;X-APPLE-RADIUS=500;X-TITLE=28353 Herbert:geo:-83.0971204,42.4992176
END:VEVENT
BEGIN:VEVENT
DTSTART;TZID=America/Detroit:20230417T181500
DTEND;TZID=America/Detroit:20230417T193000
DTSTAMP:20260426T004354
CREATED:20230119T173027Z
LAST-MODIFIED:20230322T151118Z
UID:10003379-1681755300-1681759800@stvincentferrer.net
SUMMARY:Faith Formation Classes 6:15 - 7:30pm
DESCRIPTION:
URL:https://stvincentferrer.net/event/faith-formation-classes-615-730pm/2023-04-17/
LOCATION:School Building\, 1075 E. Gardenia\, Madison Heights\, MI\, 48071\, United States
CATEGORIES:Youth Faith Formation
ATTACH;FMTTYPE=image/jpeg:https://stvincentferrer.net/wp-content/uploads/2021/09/faith-formation.jpg
ORGANIZER;CN="Matthew Zinser":MAILTO:Matthew@stvincentferrer.net
GEO:42.4991272;-83.0960313
X-APPLE-STRUCTURED-LOCATION;VALUE=URI;X-ADDRESS=School Building 1075 E. Gardenia Madison Heights MI 48071 United States;X-APPLE-RADIUS=500;X-TITLE=1075 E. Gardenia:geo:-83.0960313,42.4991272
END:VEVENT
BEGIN:VEVENT
DTSTART;TZID=America/Detroit:20230419T183000
DTEND;TZID=America/Detroit:20230419T200000
DTSTAMP:20260426T004354
CREATED:20230116T135614Z
LAST-MODIFIED:20230116T135614Z
UID:10003292-1681929000-1681934400@stvincentferrer.net
SUMMARY:Surviving Divorce  - February 1 - May 24\, 2023
DESCRIPTION:  \nWinter 2023 Meeting Schedule: \n  \nWednesday\, February 8\, 2023; 7 PM – 8:30 PM \nWednesday\,  February 15\, 2023; 7 PM – 8:30 PM \nNO MEETING February 22 – ASH WEDNESDAY \nWednesday\, March 1\, 2023; 7 PM – 8:30 PM \nWednesday\, March 8\,2023; 7 PM – 8:30 PM \nWednesday\,  March 15\, 2023; 7 PM – 8:30 PM \nWednesday\,  March 22\, 2023; 7 PM – 8:30 PM \nWednesday\,  March 29\, 2023; 7 PM – 8:30 PM \nNO MEETING April 5 – HOLY WEEK \nNO MEETING April 12 – SPRING BREAK \nWednesday\,  April 19\, 2023; 7 PM – 8:30 PM \nWednesday\,  April 26\, 2023; 7 PM – 8:30 PM \nWednesday\,  May 3\, 2023; 7 PM – 8:30 PM \nWednesday\,  May 10\, 2023; 7 PM – 8:30 PM \nWednesday\, May 17\, 2023; 7 PM – 8:30 PM
URL:https://stvincentferrer.net/event/surviving-divorce-february-1-may-24-2023/2023-04-19/
LOCATION:Hall Administration Building\, 28353 Herbert\, Madison Heights\, MI\, 48071
CATEGORIES:Christian Service,Miscellaneous
ORGANIZER;CN="Christian Service":MAILTO:MaryAnn@stvincentferrer.net
GEO:42.4992176;-83.0971204
X-APPLE-STRUCTURED-LOCATION;VALUE=URI;X-ADDRESS=Hall Administration Building 28353 Herbert Madison Heights MI 48071;X-APPLE-RADIUS=500;X-TITLE=28353 Herbert:geo:-83.0971204,42.4992176
END:VEVENT
BEGIN:VEVENT
DTSTART;TZID=America/Detroit:20230424T181500
DTEND;TZID=America/Detroit:20230424T193000
DTSTAMP:20260426T004354
CREATED:20230119T173027Z
LAST-MODIFIED:20230322T151118Z
UID:10003380-1682360100-1682364600@stvincentferrer.net
SUMMARY:Faith Formation Classes 6:15 - 7:30pm
DESCRIPTION:
URL:https://stvincentferrer.net/event/faith-formation-classes-615-730pm/2023-04-24/
LOCATION:School Building\, 1075 E. Gardenia\, Madison Heights\, MI\, 48071\, United States
CATEGORIES:Youth Faith Formation
ATTACH;FMTTYPE=image/jpeg:https://stvincentferrer.net/wp-content/uploads/2021/09/faith-formation.jpg
ORGANIZER;CN="Matthew Zinser":MAILTO:Matthew@stvincentferrer.net
GEO:42.4991272;-83.0960313
X-APPLE-STRUCTURED-LOCATION;VALUE=URI;X-ADDRESS=School Building 1075 E. Gardenia Madison Heights MI 48071 United States;X-APPLE-RADIUS=500;X-TITLE=1075 E. Gardenia:geo:-83.0960313,42.4991272
END:VEVENT
BEGIN:VEVENT
DTSTART;TZID=America/Detroit:20230426T130000
DTEND;TZID=America/Detroit:20230426T150000
DTSTAMP:20260426T004354
CREATED:20230424T144022Z
LAST-MODIFIED:20230424T150649Z
UID:10003437-1682514000-1682521200@stvincentferrer.net
SUMMARY:Chosen Series Wednesdays at 1pm Admin. Hall
DESCRIPTION:
URL:https://stvincentferrer.net/event/chosen-series-wednesdays-at-1pm-admin-hall/2023-04-26/
LOCATION:Hall Administration Building\, 28353 Herbert\, Madison Heights\, MI\, 48071
CATEGORIES:Adult Faith Formation,Christian Service,Miscellaneous
ORGANIZER;CN="Deborah Tourville":MAILTO:debbie@stvincentferrer.net
GEO:42.4992176;-83.0971204
X-APPLE-STRUCTURED-LOCATION;VALUE=URI;X-ADDRESS=Hall Administration Building 28353 Herbert Madison Heights MI 48071;X-APPLE-RADIUS=500;X-TITLE=28353 Herbert:geo:-83.0971204,42.4992176
END:VEVENT
BEGIN:VEVENT
DTSTART;TZID=America/Detroit:20230426T183000
DTEND;TZID=America/Detroit:20230426T200000
DTSTAMP:20260426T004354
CREATED:20230116T135614Z
LAST-MODIFIED:20230116T135614Z
UID:10003293-1682533800-1682539200@stvincentferrer.net
SUMMARY:Surviving Divorce  - February 1 - May 24\, 2023
DESCRIPTION:  \nWinter 2023 Meeting Schedule: \n  \nWednesday\, February 8\, 2023; 7 PM – 8:30 PM \nWednesday\,  February 15\, 2023; 7 PM – 8:30 PM \nNO MEETING February 22 – ASH WEDNESDAY \nWednesday\, March 1\, 2023; 7 PM – 8:30 PM \nWednesday\, March 8\,2023; 7 PM – 8:30 PM \nWednesday\,  March 15\, 2023; 7 PM – 8:30 PM \nWednesday\,  March 22\, 2023; 7 PM – 8:30 PM \nWednesday\,  March 29\, 2023; 7 PM – 8:30 PM \nNO MEETING April 5 – HOLY WEEK \nNO MEETING April 12 – SPRING BREAK \nWednesday\,  April 19\, 2023; 7 PM – 8:30 PM \nWednesday\,  April 26\, 2023; 7 PM – 8:30 PM \nWednesday\,  May 3\, 2023; 7 PM – 8:30 PM \nWednesday\,  May 10\, 2023; 7 PM – 8:30 PM \nWednesday\, May 17\, 2023; 7 PM – 8:30 PM
URL:https://stvincentferrer.net/event/surviving-divorce-february-1-may-24-2023/2023-04-26/
LOCATION:Hall Administration Building\, 28353 Herbert\, Madison Heights\, MI\, 48071
CATEGORIES:Christian Service,Miscellaneous
ORGANIZER;CN="Christian Service":MAILTO:MaryAnn@stvincentferrer.net
GEO:42.4992176;-83.0971204
X-APPLE-STRUCTURED-LOCATION;VALUE=URI;X-ADDRESS=Hall Administration Building 28353 Herbert Madison Heights MI 48071;X-APPLE-RADIUS=500;X-TITLE=28353 Herbert:geo:-83.0971204,42.4992176
END:VEVENT
BEGIN:VEVENT
DTSTART;TZID=America/Detroit:20230427T180000
DTEND;TZID=America/Detroit:20230427T200000
DTSTAMP:20260426T004354
CREATED:20230119T153306Z
LAST-MODIFIED:20230601T184117Z
UID:10003359-1682618400-1682625600@stvincentferrer.net
SUMMARY:Prayer Blanket 6pm
DESCRIPTION:
URL:https://stvincentferrer.net/event/prayer-blanket-6pm-2/2023-04-27/
LOCATION:Church Hall\, 28353 Herbert\, Madison Heights\, MI\, 48071
CATEGORIES:Christian Service
ATTACH;FMTTYPE=image/jpeg:https://stvincentferrer.net/wp-content/uploads/2022/01/blanket.jpg
ORGANIZER;CN="Christian Service":MAILTO:MaryAnn@stvincentferrer.net
GEO:42.4992176;-83.0971204
X-APPLE-STRUCTURED-LOCATION;VALUE=URI;X-ADDRESS=Church Hall 28353 Herbert Madison Heights MI 48071;X-APPLE-RADIUS=500;X-TITLE=28353 Herbert:geo:-83.0971204,42.4992176
END:VEVENT
BEGIN:VEVENT
DTSTART;TZID=America/Detroit:20230429T090000
DTEND;TZID=America/Detroit:20230429T110000
DTSTAMP:20260426T004354
CREATED:20240314T141554Z
LAST-MODIFIED:20240320T122334Z
UID:10003233-1682758800-1682766000@stvincentferrer.net
SUMMARY:Men's Fellowship and Scripture Reflection
DESCRIPTION:The men’s fellowship group gathers for a scripture reflection/sharing every other Saturday at 9am in the Faith Formation office of the school building.
URL:https://stvincentferrer.net/event/mens-fellowship-and-scripture-reflection-2/2023-04-29/
LOCATION:Faith Formation Office\, 1075 E. Gardenia\, Madison Heights\, MI\, United States
CATEGORIES:Christian Service
ATTACH;FMTTYPE=image/png:https://stvincentferrer.net/wp-content/uploads/2022/01/Mens-Fellowship-1-1.png
ORGANIZER;CN="Tom Karolski":MAILTO:debbie@stvincentferrer.net
GEO:42.4991272;-83.0960313
X-APPLE-STRUCTURED-LOCATION;VALUE=URI;X-ADDRESS=Faith Formation Office 1075 E. Gardenia Madison Heights MI United States;X-APPLE-RADIUS=500;X-TITLE=1075 E. Gardenia:geo:-83.0960313,42.4991272
END:VEVENT
BEGIN:VEVENT
DTSTART;TZID=America/Detroit:20230429T160000
DTEND;TZID=America/Detroit:20230429T170000
DTSTAMP:20260426T004354
CREATED:20230322T163226Z
LAST-MODIFIED:20230322T163226Z
UID:10003423-1682784000-1682787600@stvincentferrer.net
SUMMARY:Healing Mass 4pm
DESCRIPTION:
URL:https://stvincentferrer.net/event/healing-mass-4pm-12/
LOCATION:St. Vincent Ferrer Church\, 28353 Herbert\, Madison Heights\, MI\, 48071
CATEGORIES:Healing Ministry,Mass,Special Mass,Worship
ATTACH;FMTTYPE=image/jpeg:https://stvincentferrer.net/wp-content/uploads/2022/11/healing-mass.jpg
GEO:42.4992176;-83.0971204
X-APPLE-STRUCTURED-LOCATION;VALUE=URI;X-ADDRESS=St. Vincent Ferrer Church 28353 Herbert Madison Heights MI 48071;X-APPLE-RADIUS=500;X-TITLE=28353 Herbert:geo:-83.0971204,42.4992176
END:VEVENT
END:VCALENDAR