BEGIN:VCALENDAR
VERSION:2.0
PRODID:-//St. Vincent Ferrer Catholic Church - ECPv6.15.20//NONSGML v1.0//EN
CALSCALE:GREGORIAN
METHOD:PUBLISH
X-WR-CALNAME:St. Vincent Ferrer Catholic Church
X-ORIGINAL-URL:https://stvincentferrer.net
X-WR-CALDESC:Events for St. Vincent Ferrer Catholic Church
REFRESH-INTERVAL;VALUE=DURATION:PT1H
X-Robots-Tag:noindex
X-PUBLISHED-TTL:PT1H
BEGIN:VTIMEZONE
TZID:America/Detroit
BEGIN:DAYLIGHT
TZOFFSETFROM:-0500
TZOFFSETTO:-0400
TZNAME:EDT
DTSTART:20230312T070000
END:DAYLIGHT
BEGIN:STANDARD
TZOFFSETFROM:-0400
TZOFFSETTO:-0500
TZNAME:EST
DTSTART:20231105T060000
END:STANDARD
BEGIN:DAYLIGHT
TZOFFSETFROM:-0500
TZOFFSETTO:-0400
TZNAME:EDT
DTSTART:20240310T070000
END:DAYLIGHT
BEGIN:STANDARD
TZOFFSETFROM:-0400
TZOFFSETTO:-0500
TZNAME:EST
DTSTART:20241103T060000
END:STANDARD
BEGIN:DAYLIGHT
TZOFFSETFROM:-0500
TZOFFSETTO:-0400
TZNAME:EDT
DTSTART:20250309T070000
END:DAYLIGHT
BEGIN:STANDARD
TZOFFSETFROM:-0400
TZOFFSETTO:-0500
TZNAME:EST
DTSTART:20251102T060000
END:STANDARD
END:VTIMEZONE
BEGIN:VEVENT
DTSTART;TZID=America/Detroit:20240108T181500
DTEND;TZID=America/Detroit:20240108T193000
DTSTAMP:20260425T134453
CREATED:20231010T142215Z
LAST-MODIFIED:20240327T171617Z
UID:10004427-1704737700-1704742200@stvincentferrer.net
SUMMARY:Faith Formation  6:15pm - 7:30pm
DESCRIPTION:Faith Formation is a continuing process of coming to know the love of God and letting that love flow to others in thought\, word\, and action.\nScripture based lessons lead young people to know the plan of God who creates us\, redeems us\, and leads us in love to true happiness.
URL:https://stvincentferrer.net/event/faith-formation-615pm-730pm-2/2024-01-08/
LOCATION:MI
CATEGORIES:Youth Faith Formation
ATTACH;FMTTYPE=image/jpeg:https://stvincentferrer.net/wp-content/uploads/2021/09/faith-formation.jpg
END:VEVENT
BEGIN:VEVENT
DTSTART;TZID=America/Detroit:20240115T181500
DTEND;TZID=America/Detroit:20240115T193000
DTSTAMP:20260425T134453
CREATED:20231121T202652Z
LAST-MODIFIED:20231121T202738Z
UID:10004507-1705342500-1705347000@stvincentferrer.net
SUMMARY:Faith Formation - No Classes
DESCRIPTION:There will be no class today.
URL:https://stvincentferrer.net/event/faith-formation-no-classes/
LOCATION:Faith Formation Office\, 1075 E. Gardenia\, Madison Heights\, MI\, United States
CATEGORIES:Miscellaneous,Youth Faith Formation
ATTACH;FMTTYPE=image/jpeg:https://stvincentferrer.net/wp-content/uploads/2021/09/faith-formation.jpg
GEO:42.4991272;-83.0960313
X-APPLE-STRUCTURED-LOCATION;VALUE=URI;X-ADDRESS=Faith Formation Office 1075 E. Gardenia Madison Heights MI United States;X-APPLE-RADIUS=500;X-TITLE=1075 E. Gardenia:geo:-83.0960313,42.4991272
END:VEVENT
BEGIN:VEVENT
DTSTART;TZID=America/Detroit:20240122T181500
DTEND;TZID=America/Detroit:20240122T193000
DTSTAMP:20260425T134453
CREATED:20231010T142215Z
LAST-MODIFIED:20240327T171617Z
UID:10004428-1705947300-1705951800@stvincentferrer.net
SUMMARY:Faith Formation  6:15pm - 7:30pm
DESCRIPTION:Faith Formation is a continuing process of coming to know the love of God and letting that love flow to others in thought\, word\, and action.\nScripture based lessons lead young people to know the plan of God who creates us\, redeems us\, and leads us in love to true happiness.
URL:https://stvincentferrer.net/event/faith-formation-615pm-730pm-2/2024-01-22/
LOCATION:MI
CATEGORIES:Youth Faith Formation
ATTACH;FMTTYPE=image/jpeg:https://stvincentferrer.net/wp-content/uploads/2021/09/faith-formation.jpg
END:VEVENT
BEGIN:VEVENT
DTSTART;TZID=America/Detroit:20240128T080000
DTEND;TZID=America/Detroit:20240203T170000
DTSTAMP:20260425T134453
CREATED:20240102T193847Z
LAST-MODIFIED:20240102T193847Z
UID:10004514-1706428800-1706979600@stvincentferrer.net
SUMMARY:National Catholic Schools Week 1-28 to 2-3 2024
DESCRIPTION:Since 1974\, National Catholic Schools Week is the annual celebration of Catholic education in the United States. It starts the last Sunday in January and runs all week\, which in 2024 is January 28 – February 3. The theme for National Catholic Schools Week 2024 is “Catholic Schools: United in Faith and Community.” Schools typically observe the annual celebration week with Masses\, open houses and other activities for students\, families\, parishioners and community members. Through these events\, schools focus on the value Catholic education provides to young people and its contributions to our church\, our communities and our nation.
URL:https://stvincentferrer.net/event/national-catholic-schools-week-1-28-to-2-3-2024/
LOCATION:MI
CATEGORIES:Miscellaneous,Youth Faith Formation
ATTACH;FMTTYPE=image/jpeg:https://stvincentferrer.net/wp-content/uploads/2024/01/catholic-schools-week.jpg
END:VEVENT
BEGIN:VEVENT
DTSTART;TZID=America/Detroit:20240129T181500
DTEND;TZID=America/Detroit:20240129T193000
DTSTAMP:20260425T134453
CREATED:20231010T142215Z
LAST-MODIFIED:20240327T171617Z
UID:10004429-1706552100-1706556600@stvincentferrer.net
SUMMARY:Faith Formation  6:15pm - 7:30pm
DESCRIPTION:Faith Formation is a continuing process of coming to know the love of God and letting that love flow to others in thought\, word\, and action.\nScripture based lessons lead young people to know the plan of God who creates us\, redeems us\, and leads us in love to true happiness.
URL:https://stvincentferrer.net/event/faith-formation-615pm-730pm-2/2024-01-29/
LOCATION:MI
CATEGORIES:Youth Faith Formation
ATTACH;FMTTYPE=image/jpeg:https://stvincentferrer.net/wp-content/uploads/2021/09/faith-formation.jpg
END:VEVENT
END:VCALENDAR