BEGIN:VCALENDAR
VERSION:2.0
PRODID:-//St. Vincent Ferrer Catholic Church - ECPv6.15.20//NONSGML v1.0//EN
CALSCALE:GREGORIAN
METHOD:PUBLISH
X-ORIGINAL-URL:https://stvincentferrer.net
X-WR-CALDESC:Events for St. Vincent Ferrer Catholic Church
REFRESH-INTERVAL;VALUE=DURATION:PT1H
X-Robots-Tag:noindex
X-PUBLISHED-TTL:PT1H
BEGIN:VTIMEZONE
TZID:America/Detroit
BEGIN:DAYLIGHT
TZOFFSETFROM:-0500
TZOFFSETTO:-0400
TZNAME:EDT
DTSTART:20250309T070000
END:DAYLIGHT
BEGIN:STANDARD
TZOFFSETFROM:-0400
TZOFFSETTO:-0500
TZNAME:EST
DTSTART:20251102T060000
END:STANDARD
BEGIN:DAYLIGHT
TZOFFSETFROM:-0500
TZOFFSETTO:-0400
TZNAME:EDT
DTSTART:20260308T070000
END:DAYLIGHT
BEGIN:STANDARD
TZOFFSETFROM:-0400
TZOFFSETTO:-0500
TZNAME:EST
DTSTART:20261101T060000
END:STANDARD
BEGIN:DAYLIGHT
TZOFFSETFROM:-0500
TZOFFSETTO:-0400
TZNAME:EDT
DTSTART:20270314T070000
END:DAYLIGHT
BEGIN:STANDARD
TZOFFSETFROM:-0400
TZOFFSETTO:-0500
TZNAME:EST
DTSTART:20271107T060000
END:STANDARD
END:VTIMEZONE
BEGIN:VEVENT
DTSTART;TZID=America/Detroit:20260304T190000
DTEND;TZID=America/Detroit:20260304T200000
DTSTAMP:20260423T145609
CREATED:20260223T184754Z
LAST-MODIFIED:20260223T184754Z
UID:10009184-1772650800-1772654400@stvincentferrer.net
SUMMARY:Lenten Evening Mass 7pm
DESCRIPTION:
URL:https://stvincentferrer.net/event/lenten-evening-mass-7pm/2026-03-04/
CATEGORIES:Miscellaneous,Special Mass,Worship
END:VEVENT
BEGIN:VEVENT
DTSTART;TZID=America/Detroit:20260311T190000
DTEND;TZID=America/Detroit:20260311T200000
DTSTAMP:20260423T145609
CREATED:20260223T184754Z
LAST-MODIFIED:20260223T184754Z
UID:10009185-1773255600-1773259200@stvincentferrer.net
SUMMARY:Lenten Evening Mass 7pm
DESCRIPTION:
URL:https://stvincentferrer.net/event/lenten-evening-mass-7pm/2026-03-11/
CATEGORIES:Miscellaneous,Special Mass,Worship
END:VEVENT
BEGIN:VEVENT
DTSTART;TZID=America/Detroit:20260318T190000
DTEND;TZID=America/Detroit:20260318T200000
DTSTAMP:20260423T145609
CREATED:20260223T184754Z
LAST-MODIFIED:20260223T184754Z
UID:10009186-1773860400-1773864000@stvincentferrer.net
SUMMARY:Lenten Evening Mass 7pm
DESCRIPTION:
URL:https://stvincentferrer.net/event/lenten-evening-mass-7pm/2026-03-18/
CATEGORIES:Miscellaneous,Special Mass,Worship
END:VEVENT
BEGIN:VEVENT
DTSTART;TZID=America/Detroit:20260325T190000
DTEND;TZID=America/Detroit:20260325T200000
DTSTAMP:20260423T145609
CREATED:20260129T190020Z
LAST-MODIFIED:20260129T190407Z
UID:10009172-1774465200-1774468800@stvincentferrer.net
SUMMARY:Communal Penance 7pm
DESCRIPTION:
URL:https://stvincentferrer.net/event/communal-penance-7pm-7/
CATEGORIES:Miscellaneous,Special Mass
ATTACH;FMTTYPE=image/jpeg:https://stvincentferrer.net/wp-content/uploads/2022/04/penance.jpg
END:VEVENT
BEGIN:VEVENT
DTSTART;TZID=America/Detroit:20260328T160000
DTEND;TZID=America/Detroit:20260328T170000
DTSTAMP:20260423T145609
CREATED:20251125T194223Z
LAST-MODIFIED:20251125T194223Z
UID:10008697-1774713600-1774717200@stvincentferrer.net
SUMMARY:Healing Mass
DESCRIPTION:
URL:https://stvincentferrer.net/event/healing-mass-8/2026-03-28/
CATEGORIES:Mass,Special Mass
END:VEVENT
BEGIN:VEVENT
DTSTART;TZID=America/Detroit:20260329T090000
DTEND;TZID=America/Detroit:20260329T100000
DTSTAMP:20260423T145609
CREATED:20260309T185226Z
LAST-MODIFIED:20260309T185226Z
UID:10009202-1774774800-1774778400@stvincentferrer.net
SUMMARY:Palm Sunday - 9am
DESCRIPTION:
URL:https://stvincentferrer.net/event/palm-sunday-9am-2/
CATEGORIES:Mass,Special Mass,Worship
ATTACH;FMTTYPE=image/jpeg:https://stvincentferrer.net/wp-content/uploads/2017/04/Palm-Sun.jpg
END:VEVENT
END:VCALENDAR