BEGIN:VCALENDAR
VERSION:2.0
PRODID:-//St. Vincent Ferrer Catholic Church - ECPv6.15.20//NONSGML v1.0//EN
CALSCALE:GREGORIAN
METHOD:PUBLISH
X-WR-CALNAME:St. Vincent Ferrer Catholic Church
X-ORIGINAL-URL:https://stvincentferrer.net
X-WR-CALDESC:Events for St. Vincent Ferrer Catholic Church
REFRESH-INTERVAL;VALUE=DURATION:PT1H
X-Robots-Tag:noindex
X-PUBLISHED-TTL:PT1H
BEGIN:VTIMEZONE
TZID:America/Detroit
BEGIN:DAYLIGHT
TZOFFSETFROM:-0500
TZOFFSETTO:-0400
TZNAME:EDT
DTSTART:20240310T070000
END:DAYLIGHT
BEGIN:STANDARD
TZOFFSETFROM:-0400
TZOFFSETTO:-0500
TZNAME:EST
DTSTART:20241103T060000
END:STANDARD
BEGIN:DAYLIGHT
TZOFFSETFROM:-0500
TZOFFSETTO:-0400
TZNAME:EDT
DTSTART:20250309T070000
END:DAYLIGHT
BEGIN:STANDARD
TZOFFSETFROM:-0400
TZOFFSETTO:-0500
TZNAME:EST
DTSTART:20251102T060000
END:STANDARD
BEGIN:DAYLIGHT
TZOFFSETFROM:-0500
TZOFFSETTO:-0400
TZNAME:EDT
DTSTART:20260308T070000
END:DAYLIGHT
BEGIN:STANDARD
TZOFFSETFROM:-0400
TZOFFSETTO:-0500
TZNAME:EST
DTSTART:20261101T060000
END:STANDARD
END:VTIMEZONE
BEGIN:VEVENT
DTSTART;TZID=America/Detroit:20251207T090000
DTEND;TZID=America/Detroit:20251207T100000
DTSTAMP:20260423T201850
CREATED:20251201T141414Z
LAST-MODIFIED:20251201T141414Z
UID:10008699-1765098000-1765101600@stvincentferrer.net
SUMMARY:Second Sunday of Advent - 9am Mass
DESCRIPTION:
URL:https://stvincentferrer.net/event/second-sunday-of-advent-9am-mass/
CATEGORIES:Mass,Special Mass
END:VEVENT
BEGIN:VEVENT
DTSTART;TZID=America/Detroit:20251208T080000
DTEND;TZID=America/Detroit:20251208T090000
DTSTAMP:20260423T201850
CREATED:20251119T144615Z
LAST-MODIFIED:20251119T144615Z
UID:10008686-1765180800-1765184400@stvincentferrer.net
SUMMARY:Immaculate Conception Masses 8:00am & 6:30pm
DESCRIPTION:
URL:https://stvincentferrer.net/event/immaculate-conception-masses-800am-630pm/2025-12-08/1/
CATEGORIES:Mass,Miscellaneous,Special Mass,Worship
ATTACH;FMTTYPE=image/jpeg:https://stvincentferrer.net/wp-content/uploads/2021/11/icmary.jpeg
END:VEVENT
BEGIN:VEVENT
DTSTART;TZID=America/Detroit:20251208T183000
DTEND;TZID=America/Detroit:20251208T193000
DTSTAMP:20260423T201850
CREATED:20251119T144615Z
LAST-MODIFIED:20251119T144615Z
UID:10008687-1765218600-1765222200@stvincentferrer.net
SUMMARY:Immaculate Conception Masses 8:00am & 6:30pm
DESCRIPTION:
URL:https://stvincentferrer.net/event/immaculate-conception-masses-800am-630pm/2025-12-08/2/
CATEGORIES:Mass,Miscellaneous,Special Mass,Worship
ATTACH;FMTTYPE=image/jpeg:https://stvincentferrer.net/wp-content/uploads/2021/11/icmary.jpeg
END:VEVENT
BEGIN:VEVENT
DTSTART;TZID=America/Detroit:20251214T090000
DTEND;TZID=America/Detroit:20251214T100000
DTSTAMP:20260423T201850
CREATED:20251201T142453Z
LAST-MODIFIED:20251201T142453Z
UID:10008700-1765702800-1765706400@stvincentferrer.net
SUMMARY:3rd Sunday of Advent
DESCRIPTION:
URL:https://stvincentferrer.net/event/3rd-sunday-of-advent/
CATEGORIES:Mass,Special Mass
END:VEVENT
BEGIN:VEVENT
DTSTART;TZID=America/Detroit:20251215T190000
DTEND;TZID=America/Detroit:20251215T200000
DTSTAMP:20260423T201850
CREATED:20251119T145513Z
LAST-MODIFIED:20251119T161813Z
UID:10008689-1765825200-1765828800@stvincentferrer.net
SUMMARY:Choir Christmas Concert & Sing-Along
DESCRIPTION:
URL:https://stvincentferrer.net/event/choir-christmas-concert-sing-along/
CATEGORIES:Christian Service,Miscellaneous,Music,Special Mass
ATTACH;FMTTYPE=image/jpeg:https://stvincentferrer.net/wp-content/uploads/2023/11/xmas20222resized.jpg
END:VEVENT
BEGIN:VEVENT
DTSTART;TZID=America/Detroit:20251216T190000
DTEND;TZID=America/Detroit:20251216T200000
DTSTAMP:20260423T201850
CREATED:20251125T195117Z
LAST-MODIFIED:20251125T195117Z
UID:10008698-1765911600-1765915200@stvincentferrer.net
SUMMARY:Advent Reconciliation Service 7pm
DESCRIPTION:
URL:https://stvincentferrer.net/event/advent-reconciliation-service-7pm/
LOCATION:St. Vincent Ferrer Church\, 28353 Herbert\, Madison Heights\, MI\, 48071
CATEGORIES:Mass,Special Mass,Worship
GEO:42.4992176;-83.0971204
X-APPLE-STRUCTURED-LOCATION;VALUE=URI;X-ADDRESS=St. Vincent Ferrer Church 28353 Herbert Madison Heights MI 48071;X-APPLE-RADIUS=500;X-TITLE=28353 Herbert:geo:-83.0971204,42.4992176
END:VEVENT
BEGIN:VEVENT
DTSTART;TZID=America/Detroit:20251221T090000
DTEND;TZID=America/Detroit:20251221T100000
DTSTAMP:20260423T201850
CREATED:20251203T195444Z
LAST-MODIFIED:20251203T195444Z
UID:10008705-1766307600-1766311200@stvincentferrer.net
SUMMARY:4th Sunday Of Advent
DESCRIPTION:
URL:https://stvincentferrer.net/event/4th-sunday-of-advent/
CATEGORIES:Mass,Special Mass
END:VEVENT
BEGIN:VEVENT
DTSTART;TZID=America/Detroit:20251224T160000
DTEND;TZID=America/Detroit:20251224T170000
DTSTAMP:20260423T201850
CREATED:20251003T141813Z
LAST-MODIFIED:20251003T141813Z
UID:10008667-1766592000-1766595600@stvincentferrer.net
SUMMARY:Christmas Eve Masses - 4:00pm & 9:00pm
DESCRIPTION:
URL:https://stvincentferrer.net/event/christmas-eve-masses-400pm-900pm/2025-12-24/1/
CATEGORIES:Mass,Special Mass
ATTACH;FMTTYPE=image/jpeg:https://stvincentferrer.net/wp-content/uploads/2025/09/Christmas-mass-e1514826703148-scaled.jpg
END:VEVENT
BEGIN:VEVENT
DTSTART;TZID=America/Detroit:20251224T210000
DTEND;TZID=America/Detroit:20251224T220000
DTSTAMP:20260423T201850
CREATED:20251003T141813Z
LAST-MODIFIED:20251003T141813Z
UID:10008668-1766610000-1766613600@stvincentferrer.net
SUMMARY:Christmas Eve Masses - 4:00pm & 9:00pm
DESCRIPTION:
URL:https://stvincentferrer.net/event/christmas-eve-masses-400pm-900pm/2025-12-24/2/
CATEGORIES:Mass,Special Mass
ATTACH;FMTTYPE=image/jpeg:https://stvincentferrer.net/wp-content/uploads/2025/09/Christmas-mass-e1514826703148-scaled.jpg
END:VEVENT
BEGIN:VEVENT
DTSTART;TZID=America/Detroit:20251225T090000
DTEND;TZID=America/Detroit:20251225T100000
DTSTAMP:20260423T201850
CREATED:20251003T142511Z
LAST-MODIFIED:20251003T142511Z
UID:10008669-1766653200-1766656800@stvincentferrer.net
SUMMARY:Christmas Day Mass - 9am
DESCRIPTION:
URL:https://stvincentferrer.net/event/christmas-day-mass-9am-3/
CATEGORIES:Mass,Music,Special Mass,Worship
END:VEVENT
BEGIN:VEVENT
DTSTART;TZID=America/Detroit:20251227T160000
DTEND;TZID=America/Detroit:20251227T170000
DTSTAMP:20260423T201850
CREATED:20251125T194223Z
LAST-MODIFIED:20251125T194223Z
UID:10008694-1766851200-1766854800@stvincentferrer.net
SUMMARY:Healing Mass
DESCRIPTION:
URL:https://stvincentferrer.net/event/healing-mass-8/2025-12-27/
CATEGORIES:Mass,Special Mass
END:VEVENT
BEGIN:VEVENT
DTSTART;TZID=America/Detroit:20251228T090000
DTEND;TZID=America/Detroit:20251228T100000
DTSTAMP:20260423T201850
CREATED:20251222T173845Z
LAST-MODIFIED:20251222T184134Z
UID:10009006-1766912400-1766916000@stvincentferrer.net
SUMMARY:FEAST OF THE HOLY FAMILY - 9AM
DESCRIPTION:
URL:https://stvincentferrer.net/event/feast-of-the-holy-family-9am/
CATEGORIES:Special Mass
ATTACH;FMTTYPE=image/jpeg:https://stvincentferrer.net/wp-content/uploads/2023/10/760928-new-holy-family-wallpapers-1920x1080-for-android-40.jpg
END:VEVENT
BEGIN:VEVENT
DTSTART;TZID=America/Detroit:20251231T160000
DTEND;TZID=America/Detroit:20251231T170000
DTSTAMP:20260423T201850
CREATED:20251010T152654Z
LAST-MODIFIED:20251010T152844Z
UID:10008674-1767196800-1767200400@stvincentferrer.net
SUMMARY:Mary\, Mother of God/ New Year's Eve  - Mass 4pm
DESCRIPTION:These New Year’s Eve Masses are celebrated to honor Mary as the Mother of God and to mark the Solemnity of Mary\, which takes place on New Year’s Day. 
URL:https://stvincentferrer.net/event/mary-mother-of-god-new-years-eve-mass-4pm/
CATEGORIES:Mass,Special Mass
ATTACH;FMTTYPE=image/jpeg:https://stvincentferrer.net/wp-content/uploads/2021/11/icmary.jpeg
END:VEVENT
BEGIN:VEVENT
DTSTART;TZID=America/Detroit:20251231T160000
DTEND;TZID=America/Detroit:20251231T170000
DTSTAMP:20260423T201850
CREATED:20251218T140926Z
LAST-MODIFIED:20251218T151520Z
UID:10009003-1767196800-1767200400@stvincentferrer.net
SUMMARY:Mary\, Mother of God - New Year's Eve Mass 4pm
DESCRIPTION:
URL:https://stvincentferrer.net/event/mary-mother-of-god-new-years-eve-mass-4pm-2/
CATEGORIES:Special Mass
END:VEVENT
END:VCALENDAR