BEGIN:VCALENDAR
VERSION:2.0
PRODID:-//St. Vincent Ferrer Catholic Church - ECPv6.15.20//NONSGML v1.0//EN
CALSCALE:GREGORIAN
METHOD:PUBLISH
X-ORIGINAL-URL:https://stvincentferrer.net
X-WR-CALDESC:Events for St. Vincent Ferrer Catholic Church
REFRESH-INTERVAL;VALUE=DURATION:PT1H
X-Robots-Tag:noindex
X-PUBLISHED-TTL:PT1H
BEGIN:VTIMEZONE
TZID:America/Detroit
BEGIN:DAYLIGHT
TZOFFSETFROM:-0500
TZOFFSETTO:-0400
TZNAME:EDT
DTSTART:20240310T070000
END:DAYLIGHT
BEGIN:STANDARD
TZOFFSETFROM:-0400
TZOFFSETTO:-0500
TZNAME:EST
DTSTART:20241103T060000
END:STANDARD
BEGIN:DAYLIGHT
TZOFFSETFROM:-0500
TZOFFSETTO:-0400
TZNAME:EDT
DTSTART:20250309T070000
END:DAYLIGHT
BEGIN:STANDARD
TZOFFSETFROM:-0400
TZOFFSETTO:-0500
TZNAME:EST
DTSTART:20251102T060000
END:STANDARD
BEGIN:DAYLIGHT
TZOFFSETFROM:-0500
TZOFFSETTO:-0400
TZNAME:EDT
DTSTART:20260308T070000
END:DAYLIGHT
BEGIN:STANDARD
TZOFFSETFROM:-0400
TZOFFSETTO:-0500
TZNAME:EST
DTSTART:20261101T060000
END:STANDARD
END:VTIMEZONE
BEGIN:VEVENT
DTSTART;TZID=America/Detroit:20251101T160000
DTEND;TZID=America/Detroit:20251101T170000
DTSTAMP:20260423T215013
CREATED:20251002T192604Z
LAST-MODIFIED:20251002T192604Z
UID:10008664-1762012800-1762016400@stvincentferrer.net
SUMMARY:All Saints Mass 4pm
DESCRIPTION:
URL:https://stvincentferrer.net/event/all-saints-mass-4pm/
CATEGORIES:Mass,Special Mass
ATTACH;FMTTYPE=image/jpeg:https://stvincentferrer.net/wp-content/uploads/2021/10/all-saints.jpeg
END:VEVENT
BEGIN:VEVENT
DTSTART;TZID=America/Detroit:20251103T190000
DTEND;TZID=America/Detroit:20251103T200000
DTSTAMP:20260423T215013
CREATED:20251002T193129Z
LAST-MODIFIED:20251024T140110Z
UID:10008665-1762196400-1762200000@stvincentferrer.net
SUMMARY:Mass of Remembrance 7pm
DESCRIPTION:
URL:https://stvincentferrer.net/event/mass-of-remembrance-7pm-3/
CATEGORIES:Mass,Special Mass
ATTACH;FMTTYPE=image/png:https://stvincentferrer.net/wp-content/uploads/2025/10/All-Saints.png
END:VEVENT
BEGIN:VEVENT
DTSTART;TZID=America/Detroit:20251127T090000
DTEND;TZID=America/Detroit:20251127T100000
DTSTAMP:20260423T215013
CREATED:20251002T172014Z
LAST-MODIFIED:20251002T172014Z
UID:10008663-1764234000-1764237600@stvincentferrer.net
SUMMARY:Thanksgiving Day Mass 9am
DESCRIPTION:
URL:https://stvincentferrer.net/event/thanksgiving-day-mass-9am/
CATEGORIES:Mass,Special Mass,Worship
ATTACH;FMTTYPE=image/jpeg:https://stvincentferrer.net/wp-content/uploads/2021/10/thanksgiving-day.jpeg
END:VEVENT
BEGIN:VEVENT
DTSTART;TZID=America/Detroit:20251129T160000
DTEND;TZID=America/Detroit:20251129T170000
DTSTAMP:20260423T215013
CREATED:20251125T194223Z
LAST-MODIFIED:20251125T194223Z
UID:10008693-1764432000-1764435600@stvincentferrer.net
SUMMARY:Healing Mass
DESCRIPTION:
URL:https://stvincentferrer.net/event/healing-mass-8/2025-11-29/
CATEGORIES:Mass,Special Mass
END:VEVENT
BEGIN:VEVENT
DTSTART;TZID=America/Detroit:20251130T090000
DTEND;TZID=America/Detroit:20251130T100000
DTSTAMP:20260423T215013
CREATED:20251120T205257Z
LAST-MODIFIED:20251120T205257Z
UID:10008690-1764493200-1764496800@stvincentferrer.net
SUMMARY:Advent Begins - First Sunday of Advent
DESCRIPTION:
URL:https://stvincentferrer.net/event/advent-begins-first-sunday-of-advent/
CATEGORIES:Mass,Special Mass
ATTACH;FMTTYPE=image/jpeg:https://stvincentferrer.net/wp-content/uploads/2021/10/1st-advent.jpeg
END:VEVENT
END:VCALENDAR