BEGIN:VCALENDAR
VERSION:2.0
PRODID:-//St. Vincent Ferrer Catholic Church - ECPv6.15.20//NONSGML v1.0//EN
CALSCALE:GREGORIAN
METHOD:PUBLISH
X-WR-CALNAME:St. Vincent Ferrer Catholic Church
X-ORIGINAL-URL:https://stvincentferrer.net
X-WR-CALDESC:Events for St. Vincent Ferrer Catholic Church
REFRESH-INTERVAL;VALUE=DURATION:PT1H
X-Robots-Tag:noindex
X-PUBLISHED-TTL:PT1H
BEGIN:VTIMEZONE
TZID:America/Detroit
BEGIN:DAYLIGHT
TZOFFSETFROM:-0500
TZOFFSETTO:-0400
TZNAME:EDT
DTSTART:20240310T070000
END:DAYLIGHT
BEGIN:STANDARD
TZOFFSETFROM:-0400
TZOFFSETTO:-0500
TZNAME:EST
DTSTART:20241103T060000
END:STANDARD
BEGIN:DAYLIGHT
TZOFFSETFROM:-0500
TZOFFSETTO:-0400
TZNAME:EDT
DTSTART:20250309T070000
END:DAYLIGHT
BEGIN:STANDARD
TZOFFSETFROM:-0400
TZOFFSETTO:-0500
TZNAME:EST
DTSTART:20251102T060000
END:STANDARD
BEGIN:DAYLIGHT
TZOFFSETFROM:-0500
TZOFFSETTO:-0400
TZNAME:EDT
DTSTART:20260308T070000
END:DAYLIGHT
BEGIN:STANDARD
TZOFFSETFROM:-0400
TZOFFSETTO:-0500
TZNAME:EST
DTSTART:20261101T060000
END:STANDARD
END:VTIMEZONE
BEGIN:VEVENT
DTSTART;TZID=America/Detroit:20250305T080000
DTEND;TZID=America/Detroit:20250305T090000
DTSTAMP:20260424T122626
CREATED:20240919T173119Z
LAST-MODIFIED:20240919T173119Z
UID:10005873-1741161600-1741165200@stvincentferrer.net
SUMMARY:Ash Wednesday - March 5\, 2025
DESCRIPTION:First day of Lent
URL:https://stvincentferrer.net/event/ash-wednesday-march-5-2025/2025-03-05/1/
CATEGORIES:Special Mass
ATTACH;FMTTYPE=image/jpeg:https://stvincentferrer.net/wp-content/uploads/2023/01/ash.jpg
END:VEVENT
BEGIN:VEVENT
DTSTART;TZID=America/Detroit:20250305T190000
DTEND;TZID=America/Detroit:20250305T200000
DTSTAMP:20260424T122626
CREATED:20240107T160641Z
LAST-MODIFIED:20250224T200428Z
UID:10007864-1741201200-1741204800@stvincentferrer.net
SUMMARY:Ash Wednesday Masses 8am and 7pm
DESCRIPTION:
URL:https://stvincentferrer.net/event/ash-wednesday/2025-03-05/
LOCATION:St. Vincent Ferrer Church\, 28353 Herbert\, Madison Heights\, MI\, 48071
CATEGORIES:Special Mass
ATTACH;FMTTYPE=image/jpeg:https://stvincentferrer.net/wp-content/uploads/2023/01/ash.jpg
GEO:42.4992176;-83.0971204
X-APPLE-STRUCTURED-LOCATION;VALUE=URI;X-ADDRESS=St. Vincent Ferrer Church 28353 Herbert Madison Heights MI 48071;X-APPLE-RADIUS=500;X-TITLE=28353 Herbert:geo:-83.0971204,42.4992176
END:VEVENT
BEGIN:VEVENT
DTSTART;TZID=America/Detroit:20250305T190000
DTEND;TZID=America/Detroit:20250305T200000
DTSTAMP:20260424T122626
CREATED:20240919T173119Z
LAST-MODIFIED:20240919T173119Z
UID:10005874-1741201200-1741204800@stvincentferrer.net
SUMMARY:Ash Wednesday - March 5\, 2025
DESCRIPTION:First day of Lent
URL:https://stvincentferrer.net/event/ash-wednesday-march-5-2025/2025-03-05/2/
CATEGORIES:Special Mass
ATTACH;FMTTYPE=image/jpeg:https://stvincentferrer.net/wp-content/uploads/2023/01/ash.jpg
END:VEVENT
BEGIN:VEVENT
DTSTART;TZID=America/Detroit:20250309T090000
DTEND;TZID=America/Detroit:20250309T100000
DTSTAMP:20260424T122626
CREATED:20241211T193611Z
LAST-MODIFIED:20241211T193611Z
UID:10005908-1741510800-1741514400@stvincentferrer.net
SUMMARY:First Sunday of Lent - 9am
DESCRIPTION:
URL:https://stvincentferrer.net/event/first-sunday-of-lent-9am/
CATEGORIES:Mass,Miscellaneous,Special Mass,Worship
ATTACH;FMTTYPE=image/jpeg:https://stvincentferrer.net/wp-content/uploads/2024/12/FS-of-Lent.jpg
END:VEVENT
BEGIN:VEVENT
DTSTART;TZID=America/Detroit:20250311T190000
DTEND;TZID=America/Detroit:20250311T203000
DTSTAMP:20260424T122626
CREATED:20250115T193953Z
LAST-MODIFIED:20250115T193953Z
UID:10006015-1741719600-1741725000@stvincentferrer.net
SUMMARY:Intergenerational Healing Mass - 7pm
DESCRIPTION:
URL:https://stvincentferrer.net/event/intergenerational-healing-mass-7pm-4/
LOCATION:St. Vincent Ferrer Church\, 28353 Herbert\, Madison Heights\, MI\, 48071
CATEGORIES:Healing Ministry,Special Mass,Worship
ATTACH;FMTTYPE=image/jpeg:https://stvincentferrer.net/wp-content/uploads/2024/07/intergenerational-1.jpg
GEO:42.4992176;-83.0971204
X-APPLE-STRUCTURED-LOCATION;VALUE=URI;X-ADDRESS=St. Vincent Ferrer Church 28353 Herbert Madison Heights MI 48071;X-APPLE-RADIUS=500;X-TITLE=28353 Herbert:geo:-83.0971204,42.4992176
END:VEVENT
BEGIN:VEVENT
DTSTART;TZID=America/Detroit:20250325T080000
DTEND;TZID=America/Detroit:20250325T090000
DTSTAMP:20260424T122626
CREATED:20250321T144527Z
LAST-MODIFIED:20250321T144542Z
UID:10008018-1742889600-1742893200@stvincentferrer.net
SUMMARY:Annunciation of the Lord
DESCRIPTION:
URL:https://stvincentferrer.net/event/annunciation-of-the-lord/
CATEGORIES:Mass,Special Mass,Worship
END:VEVENT
BEGIN:VEVENT
DTSTART;TZID=America/Detroit:20250329T160000
DTEND;TZID=America/Detroit:20250329T170000
DTSTAMP:20260424T122626
CREATED:20250226T192547Z
LAST-MODIFIED:20250226T192547Z
UID:10007946-1743264000-1743267600@stvincentferrer.net
SUMMARY:Healing Mass 4pm
DESCRIPTION:
URL:https://stvincentferrer.net/event/healing-mass-4pm-29/
CATEGORIES:Mass,Special Mass,Worship
ATTACH;FMTTYPE=image/jpeg:https://stvincentferrer.net/wp-content/uploads/2021/12/healing.jpeg
END:VEVENT
END:VCALENDAR