BEGIN:VCALENDAR
VERSION:2.0
PRODID:-//St. Vincent Ferrer Catholic Church - ECPv6.15.20//NONSGML v1.0//EN
CALSCALE:GREGORIAN
METHOD:PUBLISH
X-WR-CALNAME:St. Vincent Ferrer Catholic Church
X-ORIGINAL-URL:https://stvincentferrer.net
X-WR-CALDESC:Events for St. Vincent Ferrer Catholic Church
REFRESH-INTERVAL;VALUE=DURATION:PT1H
X-Robots-Tag:noindex
X-PUBLISHED-TTL:PT1H
BEGIN:VTIMEZONE
TZID:America/Detroit
BEGIN:DAYLIGHT
TZOFFSETFROM:-0500
TZOFFSETTO:-0400
TZNAME:EDT
DTSTART:20230312T070000
END:DAYLIGHT
BEGIN:STANDARD
TZOFFSETFROM:-0400
TZOFFSETTO:-0500
TZNAME:EST
DTSTART:20231105T060000
END:STANDARD
BEGIN:DAYLIGHT
TZOFFSETFROM:-0500
TZOFFSETTO:-0400
TZNAME:EDT
DTSTART:20240310T070000
END:DAYLIGHT
BEGIN:STANDARD
TZOFFSETFROM:-0400
TZOFFSETTO:-0500
TZNAME:EST
DTSTART:20241103T060000
END:STANDARD
BEGIN:DAYLIGHT
TZOFFSETFROM:-0500
TZOFFSETTO:-0400
TZNAME:EDT
DTSTART:20250309T070000
END:DAYLIGHT
BEGIN:STANDARD
TZOFFSETFROM:-0400
TZOFFSETTO:-0500
TZNAME:EST
DTSTART:20251102T060000
END:STANDARD
END:VTIMEZONE
BEGIN:VEVENT
DTSTART;TZID=America/Detroit:20241101T080000
DTEND;TZID=America/Detroit:20241101T090000
DTSTAMP:20260424T192457
CREATED:20240919T133001Z
LAST-MODIFIED:20240919T133001Z
UID:10005861-1730448000-1730451600@stvincentferrer.net
SUMMARY:All Saints Day Masses - 8am & 7pm
DESCRIPTION:
URL:https://stvincentferrer.net/event/all-saints-day-masses-8am-7pm/2024-11-01/1/
CATEGORIES:Special Mass
ATTACH;FMTTYPE=image/jpeg:https://stvincentferrer.net/wp-content/uploads/2023/09/Saints1Nov.jpg
END:VEVENT
BEGIN:VEVENT
DTSTART;TZID=America/Detroit:20241101T190000
DTEND;TZID=America/Detroit:20241101T200000
DTSTAMP:20260424T192457
CREATED:20240919T133001Z
LAST-MODIFIED:20240919T133001Z
UID:10005862-1730487600-1730491200@stvincentferrer.net
SUMMARY:All Saints Day Masses - 8am & 7pm
DESCRIPTION:
URL:https://stvincentferrer.net/event/all-saints-day-masses-8am-7pm/2024-11-01/2/
CATEGORIES:Special Mass
ATTACH;FMTTYPE=image/jpeg:https://stvincentferrer.net/wp-content/uploads/2023/09/Saints1Nov.jpg
END:VEVENT
BEGIN:VEVENT
DTSTART;TZID=America/Detroit:20241104T190000
DTEND;TZID=America/Detroit:20241104T200000
DTSTAMP:20260424T192457
CREATED:20240919T121946Z
LAST-MODIFIED:20240919T132655Z
UID:10005858-1730746800-1730750400@stvincentferrer.net
SUMMARY:Mass of Remembrance 7pm
DESCRIPTION:
URL:https://stvincentferrer.net/event/mass-of-remembrance-7pm-2/
LOCATION:St. Vincent Ferrer Church\, 28353 Herbert\, Madison Heights\, MI\, 48071
CATEGORIES:Special Mass
ATTACH;FMTTYPE=image/webp:https://stvincentferrer.net/wp-content/uploads/2024/09/Mass-of-Remembrance-YouTube-Thumbnail-733-x-733-px.webp
GEO:42.4992176;-83.0971204
X-APPLE-STRUCTURED-LOCATION;VALUE=URI;X-ADDRESS=St. Vincent Ferrer Church 28353 Herbert Madison Heights MI 48071;X-APPLE-RADIUS=500;X-TITLE=28353 Herbert:geo:-83.0971204,42.4992176
END:VEVENT
BEGIN:VEVENT
DTSTART;TZID=America/Detroit:20241128T090000
DTEND;TZID=America/Detroit:20241128T100000
DTSTAMP:20260424T192457
CREATED:20240919T133648Z
LAST-MODIFIED:20240919T133755Z
UID:10005871-1732784400-1732788000@stvincentferrer.net
SUMMARY:Thanksgiving Mass 9am
DESCRIPTION:
URL:https://stvincentferrer.net/event/thanksgiving-mass-9am-4/
CATEGORIES:Special Mass
ATTACH;FMTTYPE=image/jpeg:https://stvincentferrer.net/wp-content/uploads/2023/11/Thanksgiving-Banner.jpg
END:VEVENT
BEGIN:VEVENT
DTSTART;TZID=America/Detroit:20241130T160000
DTEND;TZID=America/Detroit:20241130T170000
DTSTAMP:20260424T192457
CREATED:20240919T134019Z
LAST-MODIFIED:20240919T134019Z
UID:10005872-1732982400-1732986000@stvincentferrer.net
SUMMARY:Healing Mass 4pm
DESCRIPTION:
URL:https://stvincentferrer.net/event/healing-mass-4pm-27/
CATEGORIES:Special Mass
ATTACH;FMTTYPE=image/jpeg:https://stvincentferrer.net/wp-content/uploads/2021/12/healing.jpeg
END:VEVENT
END:VCALENDAR