BEGIN:VCALENDAR
VERSION:2.0
PRODID:-//St. Vincent Ferrer Catholic Church - ECPv6.15.20//NONSGML v1.0//EN
CALSCALE:GREGORIAN
METHOD:PUBLISH
X-WR-CALNAME:St. Vincent Ferrer Catholic Church
X-ORIGINAL-URL:https://stvincentferrer.net
X-WR-CALDESC:Events for St. Vincent Ferrer Catholic Church
REFRESH-INTERVAL;VALUE=DURATION:PT1H
X-Robots-Tag:noindex
X-PUBLISHED-TTL:PT1H
BEGIN:VTIMEZONE
TZID:America/Detroit
BEGIN:DAYLIGHT
TZOFFSETFROM:-0500
TZOFFSETTO:-0400
TZNAME:EDT
DTSTART:20230312T070000
END:DAYLIGHT
BEGIN:STANDARD
TZOFFSETFROM:-0400
TZOFFSETTO:-0500
TZNAME:EST
DTSTART:20231105T060000
END:STANDARD
BEGIN:DAYLIGHT
TZOFFSETFROM:-0500
TZOFFSETTO:-0400
TZNAME:EDT
DTSTART:20240310T070000
END:DAYLIGHT
BEGIN:STANDARD
TZOFFSETFROM:-0400
TZOFFSETTO:-0500
TZNAME:EST
DTSTART:20241103T060000
END:STANDARD
BEGIN:DAYLIGHT
TZOFFSETFROM:-0500
TZOFFSETTO:-0400
TZNAME:EDT
DTSTART:20250309T070000
END:DAYLIGHT
BEGIN:STANDARD
TZOFFSETFROM:-0400
TZOFFSETTO:-0500
TZNAME:EST
DTSTART:20251102T060000
END:STANDARD
END:VTIMEZONE
BEGIN:VEVENT
DTSTART;TZID=America/Detroit:20240319T080000
DTEND;TZID=America/Detroit:20240319T090000
DTSTAMP:20260425T091853
CREATED:20240315T154550Z
LAST-MODIFIED:20240315T154550Z
UID:10004916-1710835200-1710838800@stvincentferrer.net
SUMMARY:Prayer to St. Joseph - Feast Day
DESCRIPTION:To You God Entrusted his only son;\nIn you Mary placed her trust;\nWith you Christ became man.\nObtain for us grace\, mercy and courage. Amen
URL:https://stvincentferrer.net/event/prayer-to-st-joseph-feast-day/
CATEGORIES:Miscellaneous,Special Mass
END:VEVENT
BEGIN:VEVENT
DTSTART;TZID=America/Detroit:20240320T190000
DTEND;TZID=America/Detroit:20240320T200000
DTSTAMP:20260425T091853
CREATED:20240109T175520Z
LAST-MODIFIED:20240111T163400Z
UID:10004537-1710961200-1710964800@stvincentferrer.net
SUMMARY:Communal Penance 7pm
DESCRIPTION:
URL:https://stvincentferrer.net/event/communal-penance-7pm-5/
LOCATION:St. Vincent Ferrer Church\, 28353 Herbert\, Madison Heights\, MI\, 48071
CATEGORIES:Miscellaneous,Special Mass
ATTACH;FMTTYPE=image/jpeg:https://stvincentferrer.net/wp-content/uploads/2022/04/penance.jpg
GEO:42.4992176;-83.0971204
X-APPLE-STRUCTURED-LOCATION;VALUE=URI;X-ADDRESS=St. Vincent Ferrer Church 28353 Herbert Madison Heights MI 48071;X-APPLE-RADIUS=500;X-TITLE=28353 Herbert:geo:-83.0971204,42.4992176
END:VEVENT
BEGIN:VEVENT
DTSTART;TZID=America/Detroit:20240324T090000
DTEND;TZID=America/Detroit:20240324T100000
DTSTAMP:20260425T091853
CREATED:20240104T195513Z
LAST-MODIFIED:20240104T195513Z
UID:10004527-1711270800-1711274400@stvincentferrer.net
SUMMARY:Palm Sunday Mass 9am
DESCRIPTION:
URL:https://stvincentferrer.net/event/palm-sunday-mass-9am/
LOCATION:St. Vincent Ferrer Church\, 28353 Herbert\, Madison Heights\, MI\, 48071
CATEGORIES:Special Mass
ATTACH;FMTTYPE=image/jpeg:https://stvincentferrer.net/wp-content/uploads/2022/04/palmsunday-scaled.jpg
GEO:42.4992176;-83.0971204
X-APPLE-STRUCTURED-LOCATION;VALUE=URI;X-ADDRESS=St. Vincent Ferrer Church 28353 Herbert Madison Heights MI 48071;X-APPLE-RADIUS=500;X-TITLE=28353 Herbert:geo:-83.0971204,42.4992176
END:VEVENT
BEGIN:VEVENT
DTSTART;TZID=America/Detroit:20240328T190000
DTEND;TZID=America/Detroit:20240328T200000
DTSTAMP:20260425T091853
CREATED:20240104T200229Z
LAST-MODIFIED:20240104T200246Z
UID:10004528-1711652400-1711656000@stvincentferrer.net
SUMMARY:Holy Thursday
DESCRIPTION:
URL:https://stvincentferrer.net/event/holy-thursday-3/
LOCATION:St. Vincent Ferrer Church\, 28353 Herbert\, Madison Heights\, MI\, 48071
CATEGORIES:Special Mass
ATTACH;FMTTYPE=image/jpeg:https://stvincentferrer.net/wp-content/uploads/2022/04/holy-thursday2.jpg
GEO:42.4992176;-83.0971204
X-APPLE-STRUCTURED-LOCATION;VALUE=URI;X-ADDRESS=St. Vincent Ferrer Church 28353 Herbert Madison Heights MI 48071;X-APPLE-RADIUS=500;X-TITLE=28353 Herbert:geo:-83.0971204,42.4992176
END:VEVENT
BEGIN:VEVENT
DTSTART;TZID=America/Detroit:20240328T190000
DTEND;TZID=America/Detroit:20240328T213000
DTSTAMP:20260425T091853
CREATED:20240327T165835Z
LAST-MODIFIED:20240327T165835Z
UID:10005038-1711652400-1711661400@stvincentferrer.net
SUMMARY:No 8am Mass - Holy Thursday Mass is at 7pm
DESCRIPTION:There will not be a 8am morning Mass on Holy Thursday.
URL:https://stvincentferrer.net/event/no-8am-mass-holy-thursday-mass-is-at-7pm/
CATEGORIES:Special Mass
ATTACH;FMTTYPE=image/jpeg:https://stvincentferrer.net/wp-content/uploads/2023/03/feet-washing.jpg
END:VEVENT
BEGIN:VEVENT
DTSTART;TZID=America/Detroit:20240328T200000
DTEND;TZID=America/Detroit:20240328T213000
DTSTAMP:20260425T091853
CREATED:20240201T142950Z
LAST-MODIFIED:20240201T142950Z
UID:10004636-1711656000-1711661400@stvincentferrer.net
SUMMARY:Silent Adoration after Mass to 9:30pm
DESCRIPTION:Silent Adoration to 9:30pm after Mass.
URL:https://stvincentferrer.net/event/silent-adoration-after-mass-to-930pm/
CATEGORIES:Mass,Special Mass
ATTACH;FMTTYPE=image/jpeg:https://stvincentferrer.net/wp-content/uploads/2017/03/Monstrance.jpg
END:VEVENT
BEGIN:VEVENT
DTSTART;TZID=America/Detroit:20240329T123000
DTEND;TZID=America/Detroit:20240329T140000
DTSTAMP:20260425T091853
CREATED:20240109T174940Z
LAST-MODIFIED:20240109T174940Z
UID:10004536-1711715400-1711720800@stvincentferrer.net
SUMMARY:Good Friday - Stations of the Cross - 12:30pm\, Liturgy 1:00pm
DESCRIPTION:  \n  
URL:https://stvincentferrer.net/event/good-friday-stations-of-the-cross-1230pm-liturgy-100pm/
LOCATION:St. Vincent Ferrer Church\, 28353 Herbert\, Madison Heights\, MI\, 48071
CATEGORIES:Mass,Special Mass,Worship
ATTACH;FMTTYPE=image/jpeg:https://stvincentferrer.net/wp-content/uploads/2022/03/Good-Friday.jpg
GEO:42.4992176;-83.0971204
X-APPLE-STRUCTURED-LOCATION;VALUE=URI;X-ADDRESS=St. Vincent Ferrer Church 28353 Herbert Madison Heights MI 48071;X-APPLE-RADIUS=500;X-TITLE=28353 Herbert:geo:-83.0971204,42.4992176
END:VEVENT
BEGIN:VEVENT
DTSTART;TZID=America/Detroit:20240330T110000
DTEND;TZID=America/Detroit:20240330T120000
DTSTAMP:20260425T091853
CREATED:20240124T194439Z
LAST-MODIFIED:20240124T194439Z
UID:10004631-1711796400-1711800000@stvincentferrer.net
SUMMARY:Holy Saturday Food Blessing - 11am
DESCRIPTION:
URL:https://stvincentferrer.net/event/holy-saturday-food-blessing-11am/
LOCATION:St. Vincent Ferrer Church\, 28353 Herbert\, Madison Heights\, MI\, 48071
CATEGORIES:Special Mass
ATTACH;FMTTYPE=image/jpeg:https://stvincentferrer.net/wp-content/uploads/2023/04/easter-food.jpg
GEO:42.4992176;-83.0971204
X-APPLE-STRUCTURED-LOCATION;VALUE=URI;X-ADDRESS=St. Vincent Ferrer Church 28353 Herbert Madison Heights MI 48071;X-APPLE-RADIUS=500;X-TITLE=28353 Herbert:geo:-83.0971204,42.4992176
END:VEVENT
BEGIN:VEVENT
DTSTART;TZID=America/Detroit:20240330T200000
DTEND;TZID=America/Detroit:20240330T210000
DTSTAMP:20260425T091853
CREATED:20240124T202359Z
LAST-MODIFIED:20240124T202411Z
UID:10004632-1711828800-1711832400@stvincentferrer.net
SUMMARY:Easter Vigil Mass 8pm
DESCRIPTION:This is the night of keeping vigil for the Lord. \nAs with the entirety of Holy Week\, we understand the Easter Vigil first from the Bible\, which tells us of Jesus’s final days\, death and resurrection. \nBut the Easter Vigil celebrates the story of salvation unfolding throughout history\, and the liturgy is inspired by both the Old and New Testaments.
URL:https://stvincentferrer.net/event/easter-vigil-mass-8pm/
LOCATION:St. Vincent Ferrer Church\, 28353 Herbert\, Madison Heights\, MI\, 48071
CATEGORIES:Special Mass
ATTACH;FMTTYPE=image/png:https://stvincentferrer.net/wp-content/uploads/2021/03/easter-vigil.png
GEO:42.4992176;-83.0971204
X-APPLE-STRUCTURED-LOCATION;VALUE=URI;X-ADDRESS=St. Vincent Ferrer Church 28353 Herbert Madison Heights MI 48071;X-APPLE-RADIUS=500;X-TITLE=28353 Herbert:geo:-83.0971204,42.4992176
END:VEVENT
BEGIN:VEVENT
DTSTART;TZID=America/Detroit:20240331T090000
DTEND;TZID=America/Detroit:20240331T100000
DTSTAMP:20260425T091853
CREATED:20240124T202822Z
LAST-MODIFIED:20240124T202822Z
UID:10004633-1711875600-1711879200@stvincentferrer.net
SUMMARY:Easter Mass 9am
DESCRIPTION:
URL:https://stvincentferrer.net/event/easter-mass-9am/
LOCATION:St. Vincent Ferrer Church\, 28353 Herbert\, Madison Heights\, MI\, 48071
CATEGORIES:Special Mass
ATTACH;FMTTYPE=image/jpeg:https://stvincentferrer.net/wp-content/uploads/2021/04/eastercave.jpg
GEO:42.4992176;-83.0971204
X-APPLE-STRUCTURED-LOCATION;VALUE=URI;X-ADDRESS=St. Vincent Ferrer Church 28353 Herbert Madison Heights MI 48071;X-APPLE-RADIUS=500;X-TITLE=28353 Herbert:geo:-83.0971204,42.4992176
END:VEVENT
END:VCALENDAR