BEGIN:VCALENDAR
VERSION:2.0
PRODID:-//St. Vincent Ferrer Catholic Church - ECPv6.15.20//NONSGML v1.0//EN
CALSCALE:GREGORIAN
METHOD:PUBLISH
X-WR-CALNAME:St. Vincent Ferrer Catholic Church
X-ORIGINAL-URL:https://stvincentferrer.net
X-WR-CALDESC:Events for St. Vincent Ferrer Catholic Church
REFRESH-INTERVAL;VALUE=DURATION:PT1H
X-Robots-Tag:noindex
X-PUBLISHED-TTL:PT1H
BEGIN:VTIMEZONE
TZID:America/Detroit
BEGIN:DAYLIGHT
TZOFFSETFROM:-0500
TZOFFSETTO:-0400
TZNAME:EDT
DTSTART:20230312T070000
END:DAYLIGHT
BEGIN:STANDARD
TZOFFSETFROM:-0400
TZOFFSETTO:-0500
TZNAME:EST
DTSTART:20231105T060000
END:STANDARD
BEGIN:DAYLIGHT
TZOFFSETFROM:-0500
TZOFFSETTO:-0400
TZNAME:EDT
DTSTART:20240310T070000
END:DAYLIGHT
BEGIN:STANDARD
TZOFFSETFROM:-0400
TZOFFSETTO:-0500
TZNAME:EST
DTSTART:20241103T060000
END:STANDARD
BEGIN:DAYLIGHT
TZOFFSETFROM:-0500
TZOFFSETTO:-0400
TZNAME:EDT
DTSTART:20250309T070000
END:DAYLIGHT
BEGIN:STANDARD
TZOFFSETFROM:-0400
TZOFFSETTO:-0500
TZNAME:EST
DTSTART:20251102T060000
END:STANDARD
END:VTIMEZONE
BEGIN:VEVENT
DTSTART;TZID=America/Detroit:20240206T190000
DTEND;TZID=America/Detroit:20240206T200000
DTSTAMP:20260425T150826
CREATED:20240103T205030Z
LAST-MODIFIED:20240103T205030Z
UID:10004516-1707246000-1707249600@stvincentferrer.net
SUMMARY:Intergenerational Healing Mass 7pm
DESCRIPTION:
URL:https://stvincentferrer.net/event/intergenerational-healing-mass-7pm-3/
LOCATION:St. Vincent Ferrer Church\, 28353 Herbert\, Madison Heights\, MI\, 48071
CATEGORIES:Healing Ministry,Music,Special Mass,Worship
GEO:42.4992176;-83.0971204
X-APPLE-STRUCTURED-LOCATION;VALUE=URI;X-ADDRESS=St. Vincent Ferrer Church 28353 Herbert Madison Heights MI 48071;X-APPLE-RADIUS=500;X-TITLE=28353 Herbert:geo:-83.0971204,42.4992176
END:VEVENT
BEGIN:VEVENT
DTSTART;TZID=America/Detroit:20240214T080000
DTEND;TZID=America/Detroit:20240214T090000
DTSTAMP:20260425T150826
CREATED:20240107T160641Z
LAST-MODIFIED:20250224T200428Z
UID:10004509-1707897600-1707901200@stvincentferrer.net
SUMMARY:Ash Wednesday Masses 8am and 7pm
DESCRIPTION:
URL:https://stvincentferrer.net/event/ash-wednesday/2024-02-14/
LOCATION:St. Vincent Ferrer Church\, 28353 Herbert\, Madison Heights\, MI\, 48071
CATEGORIES:Special Mass
ATTACH;FMTTYPE=image/jpeg:https://stvincentferrer.net/wp-content/uploads/2023/01/ash.jpg
GEO:42.4992176;-83.0971204
X-APPLE-STRUCTURED-LOCATION;VALUE=URI;X-ADDRESS=St. Vincent Ferrer Church 28353 Herbert Madison Heights MI 48071;X-APPLE-RADIUS=500;X-TITLE=28353 Herbert:geo:-83.0971204,42.4992176
END:VEVENT
BEGIN:VEVENT
DTSTART;TZID=America/Detroit:20240216T190000
DTEND;TZID=America/Detroit:20240216T200000
DTSTAMP:20260425T150826
CREATED:20240108T155845Z
LAST-MODIFIED:20240108T155858Z
UID:10004530-1708110000-1708113600@stvincentferrer.net
SUMMARY:Stations of the Cross - Fridays at 7pm
DESCRIPTION:Jesus is condemned to death\nJesus takes up his Cross\nJesus falls the first time\nJesus meets his Mother\nSimon of Cyrene helps Jesus carry the Cross\nVeronica wipes the face of Jesus\nJesus falls for the second time\nJesus meets the women of Jerusalem\nJesus falls for the third time\nJesus is stripped of his garments (sometimes called the “Division of Robes”)\nJesus is nailed to the Cross\nJesus dies on the Cross\nJesus is taken down from the Cross\nJesus is laid in the tomb
URL:https://stvincentferrer.net/event/stations-of-the-cross-fridays-at-7pm/
LOCATION:St. Vincent Ferrer Church\, 28353 Herbert\, Madison Heights\, MI\, 48071
CATEGORIES:Special Mass
ATTACH;FMTTYPE=image/jpeg:https://stvincentferrer.net/wp-content/uploads/2022/02/stations-2022.jpg
GEO:42.4992176;-83.0971204
X-APPLE-STRUCTURED-LOCATION;VALUE=URI;X-ADDRESS=St. Vincent Ferrer Church 28353 Herbert Madison Heights MI 48071;X-APPLE-RADIUS=500;X-TITLE=28353 Herbert:geo:-83.0971204,42.4992176
END:VEVENT
BEGIN:VEVENT
DTSTART;TZID=America/Detroit:20240224T160000
DTEND;TZID=America/Detroit:20240224T170000
DTSTAMP:20260425T150826
CREATED:20240124T192014Z
LAST-MODIFIED:20240124T192014Z
UID:10004628-1708790400-1708794000@stvincentferrer.net
SUMMARY:Healing Mass 4:00pm
DESCRIPTION:  \nFEBRUARY 24\, 2024 – 4:00pm\nFr. John will administer the\nSacrament of the Sick after Mass.\nPrayer teams will be available for\nindividual prayer.
URL:https://stvincentferrer.net/event/healing-mass-400pm/
LOCATION:St. Vincent Ferrer Church\, 28353 Herbert\, Madison Heights\, MI\, 48071
CATEGORIES:Mass,Special Mass,Worship
ATTACH;FMTTYPE=image/jpeg:https://stvincentferrer.net/wp-content/uploads/2022/11/healing-mass.jpg
GEO:42.4992176;-83.0971204
X-APPLE-STRUCTURED-LOCATION;VALUE=URI;X-ADDRESS=St. Vincent Ferrer Church 28353 Herbert Madison Heights MI 48071;X-APPLE-RADIUS=500;X-TITLE=28353 Herbert:geo:-83.0971204,42.4992176
END:VEVENT
END:VCALENDAR