BEGIN:VCALENDAR
VERSION:2.0
PRODID:-//St. Vincent Ferrer Catholic Church - ECPv6.15.20//NONSGML v1.0//EN
CALSCALE:GREGORIAN
METHOD:PUBLISH
X-WR-CALNAME:St. Vincent Ferrer Catholic Church
X-ORIGINAL-URL:https://stvincentferrer.net
X-WR-CALDESC:Events for St. Vincent Ferrer Catholic Church
REFRESH-INTERVAL;VALUE=DURATION:PT1H
X-Robots-Tag:noindex
X-PUBLISHED-TTL:PT1H
BEGIN:VTIMEZONE
TZID:America/Detroit
BEGIN:DAYLIGHT
TZOFFSETFROM:-0500
TZOFFSETTO:-0400
TZNAME:EDT
DTSTART:20230312T070000
END:DAYLIGHT
BEGIN:STANDARD
TZOFFSETFROM:-0400
TZOFFSETTO:-0500
TZNAME:EST
DTSTART:20231105T060000
END:STANDARD
BEGIN:DAYLIGHT
TZOFFSETFROM:-0500
TZOFFSETTO:-0400
TZNAME:EDT
DTSTART:20240310T070000
END:DAYLIGHT
BEGIN:STANDARD
TZOFFSETFROM:-0400
TZOFFSETTO:-0500
TZNAME:EST
DTSTART:20241103T060000
END:STANDARD
BEGIN:DAYLIGHT
TZOFFSETFROM:-0500
TZOFFSETTO:-0400
TZNAME:EDT
DTSTART:20250309T070000
END:DAYLIGHT
BEGIN:STANDARD
TZOFFSETFROM:-0400
TZOFFSETTO:-0500
TZNAME:EST
DTSTART:20251102T060000
END:STANDARD
END:VTIMEZONE
BEGIN:VEVENT
DTSTART;TZID=America/Detroit:20240414T090000
DTEND;TZID=America/Detroit:20240414T100000
DTSTAMP:20260425T070853
CREATED:20240327T172707Z
LAST-MODIFIED:20240327T172707Z
UID:10005039-1713085200-1713088800@stvincentferrer.net
SUMMARY:Baby Shower \, Sunday 9am
DESCRIPTION:All of us are called to support both mother and child\, to love them both\, to help mothers as they prepare to accept the baby developing in their womb. As a church\, we know that every child is a blessing from God\, regardless of the circumstances of his or her conception. All human life is sacred. God has a plan for every person – every mother\, and every pre-born child.
URL:https://stvincentferrer.net/event/baby-shower-sunday-9am/
CATEGORIES:Christian Service,Mass
ORGANIZER;CN="Christian Service":MAILTO:MaryAnn@stvincentferrer.net
END:VEVENT
END:VCALENDAR