BEGIN:VCALENDAR
VERSION:2.0
PRODID:-//St. Vincent Ferrer Catholic Church - ECPv6.15.20//NONSGML v1.0//EN
CALSCALE:GREGORIAN
METHOD:PUBLISH
X-ORIGINAL-URL:https://stvincentferrer.net
X-WR-CALDESC:Events for St. Vincent Ferrer Catholic Church
REFRESH-INTERVAL;VALUE=DURATION:PT1H
X-Robots-Tag:noindex
X-PUBLISHED-TTL:PT1H
BEGIN:VTIMEZONE
TZID:America/Detroit
BEGIN:DAYLIGHT
TZOFFSETFROM:-0500
TZOFFSETTO:-0400
TZNAME:EDT
DTSTART:20260308T070000
END:DAYLIGHT
BEGIN:STANDARD
TZOFFSETFROM:-0400
TZOFFSETTO:-0500
TZNAME:EST
DTSTART:20261101T060000
END:STANDARD
BEGIN:DAYLIGHT
TZOFFSETFROM:-0500
TZOFFSETTO:-0400
TZNAME:EDT
DTSTART:20270314T070000
END:DAYLIGHT
BEGIN:STANDARD
TZOFFSETFROM:-0400
TZOFFSETTO:-0500
TZNAME:EST
DTSTART:20271107T060000
END:STANDARD
BEGIN:DAYLIGHT
TZOFFSETFROM:-0500
TZOFFSETTO:-0400
TZNAME:EDT
DTSTART:20280312T070000
END:DAYLIGHT
BEGIN:STANDARD
TZOFFSETFROM:-0400
TZOFFSETTO:-0500
TZNAME:EST
DTSTART:20281105T060000
END:STANDARD
END:VTIMEZONE
BEGIN:VEVENT
DTSTART;TZID=America/Detroit:20270701T080000
DTEND;TZID=America/Detroit:20270701T090000
DTSTAMP:20260424T152452
CREATED:20251002T171506Z
LAST-MODIFIED:20260331T144134Z
UID:10007040-1814428800-1814432400@stvincentferrer.net
SUMMARY:Daily Mass 8am Monday thru Thursday (livestream)
DESCRIPTION:
URL:https://stvincentferrer.net/event/daily-mass-8am-monday-thru-thursday-livestream-2/2027-07-01/
CATEGORIES:Mass,Music,Worship
ATTACH;FMTTYPE=image/jpeg:https://stvincentferrer.net/wp-content/uploads/2025/02/Daily-Mass-scaled.jpg
END:VEVENT
BEGIN:VEVENT
DTSTART;TZID=America/Detroit:20270701T090000
DTEND;TZID=America/Detroit:20270701T093000
DTSTAMP:20260424T152452
CREATED:20250212T200207Z
LAST-MODIFIED:20260331T144257Z
UID:10006158-1814432400-1814434200@stvincentferrer.net
SUMMARY:Rosary - Thursdays following 8am mass ( also Livestream )
DESCRIPTION:
URL:https://stvincentferrer.net/event/rosary-thursdays-following-8am-mass-also-livestream/2027-07-01/
LOCATION:St. Vincent Ferrer Church\, 28353 Herbert\, Madison Heights\, MI\, 48071
CATEGORIES:Miscellaneous,Worship
ATTACH;FMTTYPE=image/jpeg:https://stvincentferrer.net/wp-content/uploads/2022/05/rosary.jpg
GEO:42.4992176;-83.0971204
X-APPLE-STRUCTURED-LOCATION;VALUE=URI;X-ADDRESS=St. Vincent Ferrer Church 28353 Herbert Madison Heights MI 48071;X-APPLE-RADIUS=500;X-TITLE=28353 Herbert:geo:-83.0971204,42.4992176
END:VEVENT
BEGIN:VEVENT
DTSTART;TZID=America/Detroit:20270704T090000
DTEND;TZID=America/Detroit:20270704T100000
DTSTAMP:20260424T152452
CREATED:20250325T200237Z
LAST-MODIFIED:20251216T181536Z
UID:10008137-1814691600-1814695200@stvincentferrer.net
SUMMARY:Sunday Mass 9:00 am
DESCRIPTION:
URL:https://stvincentferrer.net/event/sunday-mass-900-am/2027-07-04/
LOCATION:St. Vincent Ferrer Church\, 28353 Herbert\, Madison Heights\, MI\, 48071
CATEGORIES:Mass,Worship
GEO:42.4992176;-83.0971204
X-APPLE-STRUCTURED-LOCATION;VALUE=URI;X-ADDRESS=St. Vincent Ferrer Church 28353 Herbert Madison Heights MI 48071;X-APPLE-RADIUS=500;X-TITLE=28353 Herbert:geo:-83.0971204,42.4992176
END:VEVENT
BEGIN:VEVENT
DTSTART;TZID=America/Detroit:20270705T080000
DTEND;TZID=America/Detroit:20270705T090000
DTSTAMP:20260424T152452
CREATED:20251002T171506Z
LAST-MODIFIED:20260331T144134Z
UID:10007043-1814774400-1814778000@stvincentferrer.net
SUMMARY:Daily Mass 8am Monday thru Thursday (livestream)
DESCRIPTION:
URL:https://stvincentferrer.net/event/daily-mass-8am-monday-thru-thursday-livestream-2/2027-07-05/
CATEGORIES:Mass,Music,Worship
ATTACH;FMTTYPE=image/jpeg:https://stvincentferrer.net/wp-content/uploads/2025/02/Daily-Mass-scaled.jpg
END:VEVENT
BEGIN:VEVENT
DTSTART;TZID=America/Detroit:20270706T080000
DTEND;TZID=America/Detroit:20270706T090000
DTSTAMP:20260424T152452
CREATED:20251002T171506Z
LAST-MODIFIED:20260331T144134Z
UID:10007044-1814860800-1814864400@stvincentferrer.net
SUMMARY:Daily Mass 8am Monday thru Thursday (livestream)
DESCRIPTION:
URL:https://stvincentferrer.net/event/daily-mass-8am-monday-thru-thursday-livestream-2/2027-07-06/
CATEGORIES:Mass,Music,Worship
ATTACH;FMTTYPE=image/jpeg:https://stvincentferrer.net/wp-content/uploads/2025/02/Daily-Mass-scaled.jpg
END:VEVENT
BEGIN:VEVENT
DTSTART;TZID=America/Detroit:20270706T090000
DTEND;TZID=America/Detroit:20270706T100000
DTSTAMP:20260424T152452
CREATED:20250520T174349Z
LAST-MODIFIED:20251216T181807Z
UID:10005617-1814864400-1814868000@stvincentferrer.net
SUMMARY:Adoration - Every Tuesday 9am following Mass
DESCRIPTION:
URL:https://stvincentferrer.net/event/adoration-every-tuesday-9am-following-mass-2-2/2027-07-06/
CATEGORIES:Worship
ATTACH;FMTTYPE=image/jpeg:https://stvincentferrer.net/wp-content/uploads/2017/03/Monstrance-1.jpg
END:VEVENT
BEGIN:VEVENT
DTSTART;TZID=America/Detroit:20270707T080000
DTEND;TZID=America/Detroit:20270707T090000
DTSTAMP:20260424T152452
CREATED:20251002T171506Z
LAST-MODIFIED:20260331T144134Z
UID:10007045-1814947200-1814950800@stvincentferrer.net
SUMMARY:Daily Mass 8am Monday thru Thursday (livestream)
DESCRIPTION:
URL:https://stvincentferrer.net/event/daily-mass-8am-monday-thru-thursday-livestream-2/2027-07-07/
CATEGORIES:Mass,Music,Worship
ATTACH;FMTTYPE=image/jpeg:https://stvincentferrer.net/wp-content/uploads/2025/02/Daily-Mass-scaled.jpg
END:VEVENT
BEGIN:VEVENT
DTSTART;TZID=America/Detroit:20270708T080000
DTEND;TZID=America/Detroit:20270708T090000
DTSTAMP:20260424T152452
CREATED:20251002T171506Z
LAST-MODIFIED:20260331T144134Z
UID:10007046-1815033600-1815037200@stvincentferrer.net
SUMMARY:Daily Mass 8am Monday thru Thursday (livestream)
DESCRIPTION:
URL:https://stvincentferrer.net/event/daily-mass-8am-monday-thru-thursday-livestream-2/2027-07-08/
CATEGORIES:Mass,Music,Worship
ATTACH;FMTTYPE=image/jpeg:https://stvincentferrer.net/wp-content/uploads/2025/02/Daily-Mass-scaled.jpg
END:VEVENT
BEGIN:VEVENT
DTSTART;TZID=America/Detroit:20270708T090000
DTEND;TZID=America/Detroit:20270708T093000
DTSTAMP:20260424T152452
CREATED:20250212T200207Z
LAST-MODIFIED:20260331T144257Z
UID:10006159-1815037200-1815039000@stvincentferrer.net
SUMMARY:Rosary - Thursdays following 8am mass ( also Livestream )
DESCRIPTION:
URL:https://stvincentferrer.net/event/rosary-thursdays-following-8am-mass-also-livestream/2027-07-08/
LOCATION:St. Vincent Ferrer Church\, 28353 Herbert\, Madison Heights\, MI\, 48071
CATEGORIES:Miscellaneous,Worship
ATTACH;FMTTYPE=image/jpeg:https://stvincentferrer.net/wp-content/uploads/2022/05/rosary.jpg
GEO:42.4992176;-83.0971204
X-APPLE-STRUCTURED-LOCATION;VALUE=URI;X-ADDRESS=St. Vincent Ferrer Church 28353 Herbert Madison Heights MI 48071;X-APPLE-RADIUS=500;X-TITLE=28353 Herbert:geo:-83.0971204,42.4992176
END:VEVENT
BEGIN:VEVENT
DTSTART;TZID=America/Detroit:20270711T090000
DTEND;TZID=America/Detroit:20270711T100000
DTSTAMP:20260424T152452
CREATED:20250325T200237Z
LAST-MODIFIED:20251216T181536Z
UID:10008138-1815296400-1815300000@stvincentferrer.net
SUMMARY:Sunday Mass 9:00 am
DESCRIPTION:
URL:https://stvincentferrer.net/event/sunday-mass-900-am/2027-07-11/
LOCATION:St. Vincent Ferrer Church\, 28353 Herbert\, Madison Heights\, MI\, 48071
CATEGORIES:Mass,Worship
GEO:42.4992176;-83.0971204
X-APPLE-STRUCTURED-LOCATION;VALUE=URI;X-ADDRESS=St. Vincent Ferrer Church 28353 Herbert Madison Heights MI 48071;X-APPLE-RADIUS=500;X-TITLE=28353 Herbert:geo:-83.0971204,42.4992176
END:VEVENT
BEGIN:VEVENT
DTSTART;TZID=America/Detroit:20270712T080000
DTEND;TZID=America/Detroit:20270712T090000
DTSTAMP:20260424T152452
CREATED:20251002T171506Z
LAST-MODIFIED:20260331T144134Z
UID:10007049-1815379200-1815382800@stvincentferrer.net
SUMMARY:Daily Mass 8am Monday thru Thursday (livestream)
DESCRIPTION:
URL:https://stvincentferrer.net/event/daily-mass-8am-monday-thru-thursday-livestream-2/2027-07-12/
CATEGORIES:Mass,Music,Worship
ATTACH;FMTTYPE=image/jpeg:https://stvincentferrer.net/wp-content/uploads/2025/02/Daily-Mass-scaled.jpg
END:VEVENT
BEGIN:VEVENT
DTSTART;TZID=America/Detroit:20270713T080000
DTEND;TZID=America/Detroit:20270713T090000
DTSTAMP:20260424T152452
CREATED:20251002T171506Z
LAST-MODIFIED:20260331T144134Z
UID:10007050-1815465600-1815469200@stvincentferrer.net
SUMMARY:Daily Mass 8am Monday thru Thursday (livestream)
DESCRIPTION:
URL:https://stvincentferrer.net/event/daily-mass-8am-monday-thru-thursday-livestream-2/2027-07-13/
CATEGORIES:Mass,Music,Worship
ATTACH;FMTTYPE=image/jpeg:https://stvincentferrer.net/wp-content/uploads/2025/02/Daily-Mass-scaled.jpg
END:VEVENT
BEGIN:VEVENT
DTSTART;TZID=America/Detroit:20270713T090000
DTEND;TZID=America/Detroit:20270713T100000
DTSTAMP:20260424T152452
CREATED:20250520T174349Z
LAST-MODIFIED:20251216T181807Z
UID:10005618-1815469200-1815472800@stvincentferrer.net
SUMMARY:Adoration - Every Tuesday 9am following Mass
DESCRIPTION:
URL:https://stvincentferrer.net/event/adoration-every-tuesday-9am-following-mass-2-2/2027-07-13/
CATEGORIES:Worship
ATTACH;FMTTYPE=image/jpeg:https://stvincentferrer.net/wp-content/uploads/2017/03/Monstrance-1.jpg
END:VEVENT
BEGIN:VEVENT
DTSTART;TZID=America/Detroit:20270714T080000
DTEND;TZID=America/Detroit:20270714T090000
DTSTAMP:20260424T152452
CREATED:20251002T171506Z
LAST-MODIFIED:20260331T144134Z
UID:10007051-1815552000-1815555600@stvincentferrer.net
SUMMARY:Daily Mass 8am Monday thru Thursday (livestream)
DESCRIPTION:
URL:https://stvincentferrer.net/event/daily-mass-8am-monday-thru-thursday-livestream-2/2027-07-14/
CATEGORIES:Mass,Music,Worship
ATTACH;FMTTYPE=image/jpeg:https://stvincentferrer.net/wp-content/uploads/2025/02/Daily-Mass-scaled.jpg
END:VEVENT
BEGIN:VEVENT
DTSTART;TZID=America/Detroit:20270715T080000
DTEND;TZID=America/Detroit:20270715T090000
DTSTAMP:20260424T152452
CREATED:20251002T171506Z
LAST-MODIFIED:20260331T144134Z
UID:10007052-1815638400-1815642000@stvincentferrer.net
SUMMARY:Daily Mass 8am Monday thru Thursday (livestream)
DESCRIPTION:
URL:https://stvincentferrer.net/event/daily-mass-8am-monday-thru-thursday-livestream-2/2027-07-15/
CATEGORIES:Mass,Music,Worship
ATTACH;FMTTYPE=image/jpeg:https://stvincentferrer.net/wp-content/uploads/2025/02/Daily-Mass-scaled.jpg
END:VEVENT
BEGIN:VEVENT
DTSTART;TZID=America/Detroit:20270715T090000
DTEND;TZID=America/Detroit:20270715T093000
DTSTAMP:20260424T152452
CREATED:20250212T200207Z
LAST-MODIFIED:20260331T144257Z
UID:10006160-1815642000-1815643800@stvincentferrer.net
SUMMARY:Rosary - Thursdays following 8am mass ( also Livestream )
DESCRIPTION:
URL:https://stvincentferrer.net/event/rosary-thursdays-following-8am-mass-also-livestream/2027-07-15/
LOCATION:St. Vincent Ferrer Church\, 28353 Herbert\, Madison Heights\, MI\, 48071
CATEGORIES:Miscellaneous,Worship
ATTACH;FMTTYPE=image/jpeg:https://stvincentferrer.net/wp-content/uploads/2022/05/rosary.jpg
GEO:42.4992176;-83.0971204
X-APPLE-STRUCTURED-LOCATION;VALUE=URI;X-ADDRESS=St. Vincent Ferrer Church 28353 Herbert Madison Heights MI 48071;X-APPLE-RADIUS=500;X-TITLE=28353 Herbert:geo:-83.0971204,42.4992176
END:VEVENT
BEGIN:VEVENT
DTSTART;TZID=America/Detroit:20270718T090000
DTEND;TZID=America/Detroit:20270718T100000
DTSTAMP:20260424T152452
CREATED:20250325T200237Z
LAST-MODIFIED:20251216T181536Z
UID:10008139-1815901200-1815904800@stvincentferrer.net
SUMMARY:Sunday Mass 9:00 am
DESCRIPTION:
URL:https://stvincentferrer.net/event/sunday-mass-900-am/2027-07-18/
LOCATION:St. Vincent Ferrer Church\, 28353 Herbert\, Madison Heights\, MI\, 48071
CATEGORIES:Mass,Worship
GEO:42.4992176;-83.0971204
X-APPLE-STRUCTURED-LOCATION;VALUE=URI;X-ADDRESS=St. Vincent Ferrer Church 28353 Herbert Madison Heights MI 48071;X-APPLE-RADIUS=500;X-TITLE=28353 Herbert:geo:-83.0971204,42.4992176
END:VEVENT
BEGIN:VEVENT
DTSTART;TZID=America/Detroit:20270719T080000
DTEND;TZID=America/Detroit:20270719T090000
DTSTAMP:20260424T152452
CREATED:20251002T171506Z
LAST-MODIFIED:20260331T144134Z
UID:10007055-1815984000-1815987600@stvincentferrer.net
SUMMARY:Daily Mass 8am Monday thru Thursday (livestream)
DESCRIPTION:
URL:https://stvincentferrer.net/event/daily-mass-8am-monday-thru-thursday-livestream-2/2027-07-19/
CATEGORIES:Mass,Music,Worship
ATTACH;FMTTYPE=image/jpeg:https://stvincentferrer.net/wp-content/uploads/2025/02/Daily-Mass-scaled.jpg
END:VEVENT
BEGIN:VEVENT
DTSTART;TZID=America/Detroit:20270720T080000
DTEND;TZID=America/Detroit:20270720T090000
DTSTAMP:20260424T152452
CREATED:20251002T171506Z
LAST-MODIFIED:20260331T144134Z
UID:10007056-1816070400-1816074000@stvincentferrer.net
SUMMARY:Daily Mass 8am Monday thru Thursday (livestream)
DESCRIPTION:
URL:https://stvincentferrer.net/event/daily-mass-8am-monday-thru-thursday-livestream-2/2027-07-20/
CATEGORIES:Mass,Music,Worship
ATTACH;FMTTYPE=image/jpeg:https://stvincentferrer.net/wp-content/uploads/2025/02/Daily-Mass-scaled.jpg
END:VEVENT
BEGIN:VEVENT
DTSTART;TZID=America/Detroit:20270720T090000
DTEND;TZID=America/Detroit:20270720T100000
DTSTAMP:20260424T152452
CREATED:20250520T174349Z
LAST-MODIFIED:20251216T181807Z
UID:10005619-1816074000-1816077600@stvincentferrer.net
SUMMARY:Adoration - Every Tuesday 9am following Mass
DESCRIPTION:
URL:https://stvincentferrer.net/event/adoration-every-tuesday-9am-following-mass-2-2/2027-07-20/
CATEGORIES:Worship
ATTACH;FMTTYPE=image/jpeg:https://stvincentferrer.net/wp-content/uploads/2017/03/Monstrance-1.jpg
END:VEVENT
BEGIN:VEVENT
DTSTART;TZID=America/Detroit:20270721T080000
DTEND;TZID=America/Detroit:20270721T090000
DTSTAMP:20260424T152452
CREATED:20251002T171506Z
LAST-MODIFIED:20260331T144134Z
UID:10007057-1816156800-1816160400@stvincentferrer.net
SUMMARY:Daily Mass 8am Monday thru Thursday (livestream)
DESCRIPTION:
URL:https://stvincentferrer.net/event/daily-mass-8am-monday-thru-thursday-livestream-2/2027-07-21/
CATEGORIES:Mass,Music,Worship
ATTACH;FMTTYPE=image/jpeg:https://stvincentferrer.net/wp-content/uploads/2025/02/Daily-Mass-scaled.jpg
END:VEVENT
BEGIN:VEVENT
DTSTART;TZID=America/Detroit:20270722T080000
DTEND;TZID=America/Detroit:20270722T090000
DTSTAMP:20260424T152452
CREATED:20251002T171506Z
LAST-MODIFIED:20260331T144134Z
UID:10007058-1816243200-1816246800@stvincentferrer.net
SUMMARY:Daily Mass 8am Monday thru Thursday (livestream)
DESCRIPTION:
URL:https://stvincentferrer.net/event/daily-mass-8am-monday-thru-thursday-livestream-2/2027-07-22/
CATEGORIES:Mass,Music,Worship
ATTACH;FMTTYPE=image/jpeg:https://stvincentferrer.net/wp-content/uploads/2025/02/Daily-Mass-scaled.jpg
END:VEVENT
BEGIN:VEVENT
DTSTART;TZID=America/Detroit:20270722T090000
DTEND;TZID=America/Detroit:20270722T093000
DTSTAMP:20260424T152452
CREATED:20250212T200207Z
LAST-MODIFIED:20260331T144257Z
UID:10006161-1816246800-1816248600@stvincentferrer.net
SUMMARY:Rosary - Thursdays following 8am mass ( also Livestream )
DESCRIPTION:
URL:https://stvincentferrer.net/event/rosary-thursdays-following-8am-mass-also-livestream/2027-07-22/
LOCATION:St. Vincent Ferrer Church\, 28353 Herbert\, Madison Heights\, MI\, 48071
CATEGORIES:Miscellaneous,Worship
ATTACH;FMTTYPE=image/jpeg:https://stvincentferrer.net/wp-content/uploads/2022/05/rosary.jpg
GEO:42.4992176;-83.0971204
X-APPLE-STRUCTURED-LOCATION;VALUE=URI;X-ADDRESS=St. Vincent Ferrer Church 28353 Herbert Madison Heights MI 48071;X-APPLE-RADIUS=500;X-TITLE=28353 Herbert:geo:-83.0971204,42.4992176
END:VEVENT
BEGIN:VEVENT
DTSTART;TZID=America/Detroit:20270725T090000
DTEND;TZID=America/Detroit:20270725T100000
DTSTAMP:20260424T152452
CREATED:20250325T200237Z
LAST-MODIFIED:20251216T181536Z
UID:10008140-1816506000-1816509600@stvincentferrer.net
SUMMARY:Sunday Mass 9:00 am
DESCRIPTION:
URL:https://stvincentferrer.net/event/sunday-mass-900-am/2027-07-25/
LOCATION:St. Vincent Ferrer Church\, 28353 Herbert\, Madison Heights\, MI\, 48071
CATEGORIES:Mass,Worship
GEO:42.4992176;-83.0971204
X-APPLE-STRUCTURED-LOCATION;VALUE=URI;X-ADDRESS=St. Vincent Ferrer Church 28353 Herbert Madison Heights MI 48071;X-APPLE-RADIUS=500;X-TITLE=28353 Herbert:geo:-83.0971204,42.4992176
END:VEVENT
BEGIN:VEVENT
DTSTART;TZID=America/Detroit:20270726T080000
DTEND;TZID=America/Detroit:20270726T090000
DTSTAMP:20260424T152452
CREATED:20251002T171506Z
LAST-MODIFIED:20260331T144134Z
UID:10007061-1816588800-1816592400@stvincentferrer.net
SUMMARY:Daily Mass 8am Monday thru Thursday (livestream)
DESCRIPTION:
URL:https://stvincentferrer.net/event/daily-mass-8am-monday-thru-thursday-livestream-2/2027-07-26/
CATEGORIES:Mass,Music,Worship
ATTACH;FMTTYPE=image/jpeg:https://stvincentferrer.net/wp-content/uploads/2025/02/Daily-Mass-scaled.jpg
END:VEVENT
BEGIN:VEVENT
DTSTART;TZID=America/Detroit:20270727T080000
DTEND;TZID=America/Detroit:20270727T090000
DTSTAMP:20260424T152452
CREATED:20251002T171506Z
LAST-MODIFIED:20260331T144134Z
UID:10007062-1816675200-1816678800@stvincentferrer.net
SUMMARY:Daily Mass 8am Monday thru Thursday (livestream)
DESCRIPTION:
URL:https://stvincentferrer.net/event/daily-mass-8am-monday-thru-thursday-livestream-2/2027-07-27/
CATEGORIES:Mass,Music,Worship
ATTACH;FMTTYPE=image/jpeg:https://stvincentferrer.net/wp-content/uploads/2025/02/Daily-Mass-scaled.jpg
END:VEVENT
BEGIN:VEVENT
DTSTART;TZID=America/Detroit:20270727T090000
DTEND;TZID=America/Detroit:20270727T100000
DTSTAMP:20260424T152452
CREATED:20250520T174349Z
LAST-MODIFIED:20251216T181807Z
UID:10005620-1816678800-1816682400@stvincentferrer.net
SUMMARY:Adoration - Every Tuesday 9am following Mass
DESCRIPTION:
URL:https://stvincentferrer.net/event/adoration-every-tuesday-9am-following-mass-2-2/2027-07-27/
CATEGORIES:Worship
ATTACH;FMTTYPE=image/jpeg:https://stvincentferrer.net/wp-content/uploads/2017/03/Monstrance-1.jpg
END:VEVENT
BEGIN:VEVENT
DTSTART;TZID=America/Detroit:20270728T080000
DTEND;TZID=America/Detroit:20270728T090000
DTSTAMP:20260424T152452
CREATED:20251002T171506Z
LAST-MODIFIED:20260331T144134Z
UID:10007063-1816761600-1816765200@stvincentferrer.net
SUMMARY:Daily Mass 8am Monday thru Thursday (livestream)
DESCRIPTION:
URL:https://stvincentferrer.net/event/daily-mass-8am-monday-thru-thursday-livestream-2/2027-07-28/
CATEGORIES:Mass,Music,Worship
ATTACH;FMTTYPE=image/jpeg:https://stvincentferrer.net/wp-content/uploads/2025/02/Daily-Mass-scaled.jpg
END:VEVENT
BEGIN:VEVENT
DTSTART;TZID=America/Detroit:20270729T080000
DTEND;TZID=America/Detroit:20270729T090000
DTSTAMP:20260424T152452
CREATED:20251002T171506Z
LAST-MODIFIED:20260331T144134Z
UID:10007064-1816848000-1816851600@stvincentferrer.net
SUMMARY:Daily Mass 8am Monday thru Thursday (livestream)
DESCRIPTION:
URL:https://stvincentferrer.net/event/daily-mass-8am-monday-thru-thursday-livestream-2/2027-07-29/
CATEGORIES:Mass,Music,Worship
ATTACH;FMTTYPE=image/jpeg:https://stvincentferrer.net/wp-content/uploads/2025/02/Daily-Mass-scaled.jpg
END:VEVENT
BEGIN:VEVENT
DTSTART;TZID=America/Detroit:20270729T090000
DTEND;TZID=America/Detroit:20270729T093000
DTSTAMP:20260424T152452
CREATED:20250212T200207Z
LAST-MODIFIED:20260331T144257Z
UID:10006162-1816851600-1816853400@stvincentferrer.net
SUMMARY:Rosary - Thursdays following 8am mass ( also Livestream )
DESCRIPTION:
URL:https://stvincentferrer.net/event/rosary-thursdays-following-8am-mass-also-livestream/2027-07-29/
LOCATION:St. Vincent Ferrer Church\, 28353 Herbert\, Madison Heights\, MI\, 48071
CATEGORIES:Miscellaneous,Worship
ATTACH;FMTTYPE=image/jpeg:https://stvincentferrer.net/wp-content/uploads/2022/05/rosary.jpg
GEO:42.4992176;-83.0971204
X-APPLE-STRUCTURED-LOCATION;VALUE=URI;X-ADDRESS=St. Vincent Ferrer Church 28353 Herbert Madison Heights MI 48071;X-APPLE-RADIUS=500;X-TITLE=28353 Herbert:geo:-83.0971204,42.4992176
END:VEVENT
END:VCALENDAR