BEGIN:VCALENDAR
VERSION:2.0
PRODID:-//St. Vincent Ferrer Catholic Church - ECPv6.15.20//NONSGML v1.0//EN
CALSCALE:GREGORIAN
METHOD:PUBLISH
X-ORIGINAL-URL:https://stvincentferrer.net
X-WR-CALDESC:Events for St. Vincent Ferrer Catholic Church
REFRESH-INTERVAL;VALUE=DURATION:PT1H
X-Robots-Tag:noindex
X-PUBLISHED-TTL:PT1H
BEGIN:VTIMEZONE
TZID:America/Detroit
BEGIN:DAYLIGHT
TZOFFSETFROM:-0500
TZOFFSETTO:-0400
TZNAME:EDT
DTSTART:20250309T070000
END:DAYLIGHT
BEGIN:STANDARD
TZOFFSETFROM:-0400
TZOFFSETTO:-0500
TZNAME:EST
DTSTART:20251102T060000
END:STANDARD
BEGIN:DAYLIGHT
TZOFFSETFROM:-0500
TZOFFSETTO:-0400
TZNAME:EDT
DTSTART:20260308T070000
END:DAYLIGHT
BEGIN:STANDARD
TZOFFSETFROM:-0400
TZOFFSETTO:-0500
TZNAME:EST
DTSTART:20261101T060000
END:STANDARD
BEGIN:DAYLIGHT
TZOFFSETFROM:-0500
TZOFFSETTO:-0400
TZNAME:EDT
DTSTART:20270314T070000
END:DAYLIGHT
BEGIN:STANDARD
TZOFFSETFROM:-0400
TZOFFSETTO:-0500
TZNAME:EST
DTSTART:20271107T060000
END:STANDARD
END:VTIMEZONE
BEGIN:VEVENT
DTSTART;TZID=America/Detroit:20261101T090000
DTEND;TZID=America/Detroit:20261101T100000
DTSTAMP:20260424T010332
CREATED:20250325T200237Z
LAST-MODIFIED:20251216T181536Z
UID:10008102-1793523600-1793527200@stvincentferrer.net
SUMMARY:Sunday Mass 9:00 am
DESCRIPTION:
URL:https://stvincentferrer.net/event/sunday-mass-900-am/2026-11-01/
LOCATION:St. Vincent Ferrer Church\, 28353 Herbert\, Madison Heights\, MI\, 48071
CATEGORIES:Mass,Worship
GEO:42.4992176;-83.0971204
X-APPLE-STRUCTURED-LOCATION;VALUE=URI;X-ADDRESS=St. Vincent Ferrer Church 28353 Herbert Madison Heights MI 48071;X-APPLE-RADIUS=500;X-TITLE=28353 Herbert:geo:-83.0971204,42.4992176
END:VEVENT
BEGIN:VEVENT
DTSTART;TZID=America/Detroit:20261102T080000
DTEND;TZID=America/Detroit:20261102T090000
DTSTAMP:20260424T010332
CREATED:20251002T171506Z
LAST-MODIFIED:20260331T144134Z
UID:10006833-1793606400-1793610000@stvincentferrer.net
SUMMARY:Daily Mass 8am Monday thru Thursday (livestream)
DESCRIPTION:
URL:https://stvincentferrer.net/event/daily-mass-8am-monday-thru-thursday-livestream-2/2026-11-02/
CATEGORIES:Mass,Music,Worship
ATTACH;FMTTYPE=image/jpeg:https://stvincentferrer.net/wp-content/uploads/2025/02/Daily-Mass-scaled.jpg
END:VEVENT
BEGIN:VEVENT
DTSTART;TZID=America/Detroit:20261103T080000
DTEND;TZID=America/Detroit:20261103T090000
DTSTAMP:20260424T010332
CREATED:20251002T171506Z
LAST-MODIFIED:20260331T144134Z
UID:10006834-1793692800-1793696400@stvincentferrer.net
SUMMARY:Daily Mass 8am Monday thru Thursday (livestream)
DESCRIPTION:
URL:https://stvincentferrer.net/event/daily-mass-8am-monday-thru-thursday-livestream-2/2026-11-03/
CATEGORIES:Mass,Music,Worship
ATTACH;FMTTYPE=image/jpeg:https://stvincentferrer.net/wp-content/uploads/2025/02/Daily-Mass-scaled.jpg
END:VEVENT
BEGIN:VEVENT
DTSTART;TZID=America/Detroit:20261103T090000
DTEND;TZID=America/Detroit:20261103T100000
DTSTAMP:20260424T010332
CREATED:20250520T174349Z
LAST-MODIFIED:20251216T181807Z
UID:10005582-1793696400-1793700000@stvincentferrer.net
SUMMARY:Adoration - Every Tuesday 9am following Mass
DESCRIPTION:
URL:https://stvincentferrer.net/event/adoration-every-tuesday-9am-following-mass-2-2/2026-11-03/
CATEGORIES:Worship
ATTACH;FMTTYPE=image/jpeg:https://stvincentferrer.net/wp-content/uploads/2017/03/Monstrance-1.jpg
END:VEVENT
BEGIN:VEVENT
DTSTART;TZID=America/Detroit:20261104T080000
DTEND;TZID=America/Detroit:20261104T090000
DTSTAMP:20260424T010332
CREATED:20251002T171506Z
LAST-MODIFIED:20260331T144134Z
UID:10006835-1793779200-1793782800@stvincentferrer.net
SUMMARY:Daily Mass 8am Monday thru Thursday (livestream)
DESCRIPTION:
URL:https://stvincentferrer.net/event/daily-mass-8am-monday-thru-thursday-livestream-2/2026-11-04/
CATEGORIES:Mass,Music,Worship
ATTACH;FMTTYPE=image/jpeg:https://stvincentferrer.net/wp-content/uploads/2025/02/Daily-Mass-scaled.jpg
END:VEVENT
BEGIN:VEVENT
DTSTART;TZID=America/Detroit:20261105T080000
DTEND;TZID=America/Detroit:20261105T090000
DTSTAMP:20260424T010332
CREATED:20251002T171506Z
LAST-MODIFIED:20260331T144134Z
UID:10006836-1793865600-1793869200@stvincentferrer.net
SUMMARY:Daily Mass 8am Monday thru Thursday (livestream)
DESCRIPTION:
URL:https://stvincentferrer.net/event/daily-mass-8am-monday-thru-thursday-livestream-2/2026-11-05/
CATEGORIES:Mass,Music,Worship
ATTACH;FMTTYPE=image/jpeg:https://stvincentferrer.net/wp-content/uploads/2025/02/Daily-Mass-scaled.jpg
END:VEVENT
BEGIN:VEVENT
DTSTART;TZID=America/Detroit:20261105T090000
DTEND;TZID=America/Detroit:20261105T093000
DTSTAMP:20260424T010332
CREATED:20250212T200207Z
LAST-MODIFIED:20260331T144257Z
UID:10006124-1793869200-1793871000@stvincentferrer.net
SUMMARY:Rosary - Thursdays following 8am mass ( also Livestream )
DESCRIPTION:
URL:https://stvincentferrer.net/event/rosary-thursdays-following-8am-mass-also-livestream/2026-11-05/
LOCATION:St. Vincent Ferrer Church\, 28353 Herbert\, Madison Heights\, MI\, 48071
CATEGORIES:Miscellaneous,Worship
ATTACH;FMTTYPE=image/jpeg:https://stvincentferrer.net/wp-content/uploads/2022/05/rosary.jpg
GEO:42.4992176;-83.0971204
X-APPLE-STRUCTURED-LOCATION;VALUE=URI;X-ADDRESS=St. Vincent Ferrer Church 28353 Herbert Madison Heights MI 48071;X-APPLE-RADIUS=500;X-TITLE=28353 Herbert:geo:-83.0971204,42.4992176
END:VEVENT
BEGIN:VEVENT
DTSTART;TZID=America/Detroit:20261108T090000
DTEND;TZID=America/Detroit:20261108T100000
DTSTAMP:20260424T010332
CREATED:20250325T200237Z
LAST-MODIFIED:20251216T181536Z
UID:10008103-1794128400-1794132000@stvincentferrer.net
SUMMARY:Sunday Mass 9:00 am
DESCRIPTION:
URL:https://stvincentferrer.net/event/sunday-mass-900-am/2026-11-08/
LOCATION:St. Vincent Ferrer Church\, 28353 Herbert\, Madison Heights\, MI\, 48071
CATEGORIES:Mass,Worship
GEO:42.4992176;-83.0971204
X-APPLE-STRUCTURED-LOCATION;VALUE=URI;X-ADDRESS=St. Vincent Ferrer Church 28353 Herbert Madison Heights MI 48071;X-APPLE-RADIUS=500;X-TITLE=28353 Herbert:geo:-83.0971204,42.4992176
END:VEVENT
BEGIN:VEVENT
DTSTART;TZID=America/Detroit:20261109T080000
DTEND;TZID=America/Detroit:20261109T090000
DTSTAMP:20260424T010332
CREATED:20251002T171506Z
LAST-MODIFIED:20260331T144134Z
UID:10006839-1794211200-1794214800@stvincentferrer.net
SUMMARY:Daily Mass 8am Monday thru Thursday (livestream)
DESCRIPTION:
URL:https://stvincentferrer.net/event/daily-mass-8am-monday-thru-thursday-livestream-2/2026-11-09/
CATEGORIES:Mass,Music,Worship
ATTACH;FMTTYPE=image/jpeg:https://stvincentferrer.net/wp-content/uploads/2025/02/Daily-Mass-scaled.jpg
END:VEVENT
BEGIN:VEVENT
DTSTART;TZID=America/Detroit:20261110T080000
DTEND;TZID=America/Detroit:20261110T090000
DTSTAMP:20260424T010332
CREATED:20251002T171506Z
LAST-MODIFIED:20260331T144134Z
UID:10006840-1794297600-1794301200@stvincentferrer.net
SUMMARY:Daily Mass 8am Monday thru Thursday (livestream)
DESCRIPTION:
URL:https://stvincentferrer.net/event/daily-mass-8am-monday-thru-thursday-livestream-2/2026-11-10/
CATEGORIES:Mass,Music,Worship
ATTACH;FMTTYPE=image/jpeg:https://stvincentferrer.net/wp-content/uploads/2025/02/Daily-Mass-scaled.jpg
END:VEVENT
BEGIN:VEVENT
DTSTART;TZID=America/Detroit:20261110T090000
DTEND;TZID=America/Detroit:20261110T100000
DTSTAMP:20260424T010332
CREATED:20250520T174349Z
LAST-MODIFIED:20251216T181807Z
UID:10005583-1794301200-1794304800@stvincentferrer.net
SUMMARY:Adoration - Every Tuesday 9am following Mass
DESCRIPTION:
URL:https://stvincentferrer.net/event/adoration-every-tuesday-9am-following-mass-2-2/2026-11-10/
CATEGORIES:Worship
ATTACH;FMTTYPE=image/jpeg:https://stvincentferrer.net/wp-content/uploads/2017/03/Monstrance-1.jpg
END:VEVENT
BEGIN:VEVENT
DTSTART;TZID=America/Detroit:20261111T080000
DTEND;TZID=America/Detroit:20261111T090000
DTSTAMP:20260424T010332
CREATED:20251002T171506Z
LAST-MODIFIED:20260331T144134Z
UID:10006841-1794384000-1794387600@stvincentferrer.net
SUMMARY:Daily Mass 8am Monday thru Thursday (livestream)
DESCRIPTION:
URL:https://stvincentferrer.net/event/daily-mass-8am-monday-thru-thursday-livestream-2/2026-11-11/
CATEGORIES:Mass,Music,Worship
ATTACH;FMTTYPE=image/jpeg:https://stvincentferrer.net/wp-content/uploads/2025/02/Daily-Mass-scaled.jpg
END:VEVENT
BEGIN:VEVENT
DTSTART;TZID=America/Detroit:20261112T080000
DTEND;TZID=America/Detroit:20261112T090000
DTSTAMP:20260424T010332
CREATED:20251002T171506Z
LAST-MODIFIED:20260331T144134Z
UID:10006842-1794470400-1794474000@stvincentferrer.net
SUMMARY:Daily Mass 8am Monday thru Thursday (livestream)
DESCRIPTION:
URL:https://stvincentferrer.net/event/daily-mass-8am-monday-thru-thursday-livestream-2/2026-11-12/
CATEGORIES:Mass,Music,Worship
ATTACH;FMTTYPE=image/jpeg:https://stvincentferrer.net/wp-content/uploads/2025/02/Daily-Mass-scaled.jpg
END:VEVENT
BEGIN:VEVENT
DTSTART;TZID=America/Detroit:20261112T090000
DTEND;TZID=America/Detroit:20261112T093000
DTSTAMP:20260424T010332
CREATED:20250212T200207Z
LAST-MODIFIED:20260331T144257Z
UID:10006125-1794474000-1794475800@stvincentferrer.net
SUMMARY:Rosary - Thursdays following 8am mass ( also Livestream )
DESCRIPTION:
URL:https://stvincentferrer.net/event/rosary-thursdays-following-8am-mass-also-livestream/2026-11-12/
LOCATION:St. Vincent Ferrer Church\, 28353 Herbert\, Madison Heights\, MI\, 48071
CATEGORIES:Miscellaneous,Worship
ATTACH;FMTTYPE=image/jpeg:https://stvincentferrer.net/wp-content/uploads/2022/05/rosary.jpg
GEO:42.4992176;-83.0971204
X-APPLE-STRUCTURED-LOCATION;VALUE=URI;X-ADDRESS=St. Vincent Ferrer Church 28353 Herbert Madison Heights MI 48071;X-APPLE-RADIUS=500;X-TITLE=28353 Herbert:geo:-83.0971204,42.4992176
END:VEVENT
BEGIN:VEVENT
DTSTART;TZID=America/Detroit:20261115T090000
DTEND;TZID=America/Detroit:20261115T100000
DTSTAMP:20260424T010332
CREATED:20250325T200237Z
LAST-MODIFIED:20251216T181536Z
UID:10008104-1794733200-1794736800@stvincentferrer.net
SUMMARY:Sunday Mass 9:00 am
DESCRIPTION:
URL:https://stvincentferrer.net/event/sunday-mass-900-am/2026-11-15/
LOCATION:St. Vincent Ferrer Church\, 28353 Herbert\, Madison Heights\, MI\, 48071
CATEGORIES:Mass,Worship
GEO:42.4992176;-83.0971204
X-APPLE-STRUCTURED-LOCATION;VALUE=URI;X-ADDRESS=St. Vincent Ferrer Church 28353 Herbert Madison Heights MI 48071;X-APPLE-RADIUS=500;X-TITLE=28353 Herbert:geo:-83.0971204,42.4992176
END:VEVENT
BEGIN:VEVENT
DTSTART;TZID=America/Detroit:20261116T080000
DTEND;TZID=America/Detroit:20261116T090000
DTSTAMP:20260424T010332
CREATED:20251002T171506Z
LAST-MODIFIED:20260331T144134Z
UID:10006845-1794816000-1794819600@stvincentferrer.net
SUMMARY:Daily Mass 8am Monday thru Thursday (livestream)
DESCRIPTION:
URL:https://stvincentferrer.net/event/daily-mass-8am-monday-thru-thursday-livestream-2/2026-11-16/
CATEGORIES:Mass,Music,Worship
ATTACH;FMTTYPE=image/jpeg:https://stvincentferrer.net/wp-content/uploads/2025/02/Daily-Mass-scaled.jpg
END:VEVENT
BEGIN:VEVENT
DTSTART;TZID=America/Detroit:20261117T080000
DTEND;TZID=America/Detroit:20261117T090000
DTSTAMP:20260424T010332
CREATED:20251002T171506Z
LAST-MODIFIED:20260331T144134Z
UID:10006846-1794902400-1794906000@stvincentferrer.net
SUMMARY:Daily Mass 8am Monday thru Thursday (livestream)
DESCRIPTION:
URL:https://stvincentferrer.net/event/daily-mass-8am-monday-thru-thursday-livestream-2/2026-11-17/
CATEGORIES:Mass,Music,Worship
ATTACH;FMTTYPE=image/jpeg:https://stvincentferrer.net/wp-content/uploads/2025/02/Daily-Mass-scaled.jpg
END:VEVENT
BEGIN:VEVENT
DTSTART;TZID=America/Detroit:20261117T090000
DTEND;TZID=America/Detroit:20261117T100000
DTSTAMP:20260424T010332
CREATED:20250520T174349Z
LAST-MODIFIED:20251216T181807Z
UID:10005584-1794906000-1794909600@stvincentferrer.net
SUMMARY:Adoration - Every Tuesday 9am following Mass
DESCRIPTION:
URL:https://stvincentferrer.net/event/adoration-every-tuesday-9am-following-mass-2-2/2026-11-17/
CATEGORIES:Worship
ATTACH;FMTTYPE=image/jpeg:https://stvincentferrer.net/wp-content/uploads/2017/03/Monstrance-1.jpg
END:VEVENT
BEGIN:VEVENT
DTSTART;TZID=America/Detroit:20261118T080000
DTEND;TZID=America/Detroit:20261118T090000
DTSTAMP:20260424T010332
CREATED:20251002T171506Z
LAST-MODIFIED:20260331T144134Z
UID:10006847-1794988800-1794992400@stvincentferrer.net
SUMMARY:Daily Mass 8am Monday thru Thursday (livestream)
DESCRIPTION:
URL:https://stvincentferrer.net/event/daily-mass-8am-monday-thru-thursday-livestream-2/2026-11-18/
CATEGORIES:Mass,Music,Worship
ATTACH;FMTTYPE=image/jpeg:https://stvincentferrer.net/wp-content/uploads/2025/02/Daily-Mass-scaled.jpg
END:VEVENT
BEGIN:VEVENT
DTSTART;TZID=America/Detroit:20261119T080000
DTEND;TZID=America/Detroit:20261119T090000
DTSTAMP:20260424T010332
CREATED:20251002T171506Z
LAST-MODIFIED:20260331T144134Z
UID:10006848-1795075200-1795078800@stvincentferrer.net
SUMMARY:Daily Mass 8am Monday thru Thursday (livestream)
DESCRIPTION:
URL:https://stvincentferrer.net/event/daily-mass-8am-monday-thru-thursday-livestream-2/2026-11-19/
CATEGORIES:Mass,Music,Worship
ATTACH;FMTTYPE=image/jpeg:https://stvincentferrer.net/wp-content/uploads/2025/02/Daily-Mass-scaled.jpg
END:VEVENT
BEGIN:VEVENT
DTSTART;TZID=America/Detroit:20261119T090000
DTEND;TZID=America/Detroit:20261119T093000
DTSTAMP:20260424T010332
CREATED:20250212T200207Z
LAST-MODIFIED:20260331T144257Z
UID:10006126-1795078800-1795080600@stvincentferrer.net
SUMMARY:Rosary - Thursdays following 8am mass ( also Livestream )
DESCRIPTION:
URL:https://stvincentferrer.net/event/rosary-thursdays-following-8am-mass-also-livestream/2026-11-19/
LOCATION:St. Vincent Ferrer Church\, 28353 Herbert\, Madison Heights\, MI\, 48071
CATEGORIES:Miscellaneous,Worship
ATTACH;FMTTYPE=image/jpeg:https://stvincentferrer.net/wp-content/uploads/2022/05/rosary.jpg
GEO:42.4992176;-83.0971204
X-APPLE-STRUCTURED-LOCATION;VALUE=URI;X-ADDRESS=St. Vincent Ferrer Church 28353 Herbert Madison Heights MI 48071;X-APPLE-RADIUS=500;X-TITLE=28353 Herbert:geo:-83.0971204,42.4992176
END:VEVENT
BEGIN:VEVENT
DTSTART;TZID=America/Detroit:20261122T090000
DTEND;TZID=America/Detroit:20261122T100000
DTSTAMP:20260424T010332
CREATED:20250325T200237Z
LAST-MODIFIED:20251216T181536Z
UID:10008105-1795338000-1795341600@stvincentferrer.net
SUMMARY:Sunday Mass 9:00 am
DESCRIPTION:
URL:https://stvincentferrer.net/event/sunday-mass-900-am/2026-11-22/
LOCATION:St. Vincent Ferrer Church\, 28353 Herbert\, Madison Heights\, MI\, 48071
CATEGORIES:Mass,Worship
GEO:42.4992176;-83.0971204
X-APPLE-STRUCTURED-LOCATION;VALUE=URI;X-ADDRESS=St. Vincent Ferrer Church 28353 Herbert Madison Heights MI 48071;X-APPLE-RADIUS=500;X-TITLE=28353 Herbert:geo:-83.0971204,42.4992176
END:VEVENT
BEGIN:VEVENT
DTSTART;TZID=America/Detroit:20261123T080000
DTEND;TZID=America/Detroit:20261123T090000
DTSTAMP:20260424T010332
CREATED:20251002T171506Z
LAST-MODIFIED:20260331T144134Z
UID:10006851-1795420800-1795424400@stvincentferrer.net
SUMMARY:Daily Mass 8am Monday thru Thursday (livestream)
DESCRIPTION:
URL:https://stvincentferrer.net/event/daily-mass-8am-monday-thru-thursday-livestream-2/2026-11-23/
CATEGORIES:Mass,Music,Worship
ATTACH;FMTTYPE=image/jpeg:https://stvincentferrer.net/wp-content/uploads/2025/02/Daily-Mass-scaled.jpg
END:VEVENT
BEGIN:VEVENT
DTSTART;TZID=America/Detroit:20261124T080000
DTEND;TZID=America/Detroit:20261124T090000
DTSTAMP:20260424T010332
CREATED:20251002T171506Z
LAST-MODIFIED:20260331T144134Z
UID:10006852-1795507200-1795510800@stvincentferrer.net
SUMMARY:Daily Mass 8am Monday thru Thursday (livestream)
DESCRIPTION:
URL:https://stvincentferrer.net/event/daily-mass-8am-monday-thru-thursday-livestream-2/2026-11-24/
CATEGORIES:Mass,Music,Worship
ATTACH;FMTTYPE=image/jpeg:https://stvincentferrer.net/wp-content/uploads/2025/02/Daily-Mass-scaled.jpg
END:VEVENT
BEGIN:VEVENT
DTSTART;TZID=America/Detroit:20261124T090000
DTEND;TZID=America/Detroit:20261124T100000
DTSTAMP:20260424T010332
CREATED:20250520T174349Z
LAST-MODIFIED:20251216T181807Z
UID:10005585-1795510800-1795514400@stvincentferrer.net
SUMMARY:Adoration - Every Tuesday 9am following Mass
DESCRIPTION:
URL:https://stvincentferrer.net/event/adoration-every-tuesday-9am-following-mass-2-2/2026-11-24/
CATEGORIES:Worship
ATTACH;FMTTYPE=image/jpeg:https://stvincentferrer.net/wp-content/uploads/2017/03/Monstrance-1.jpg
END:VEVENT
BEGIN:VEVENT
DTSTART;TZID=America/Detroit:20261125T080000
DTEND;TZID=America/Detroit:20261125T090000
DTSTAMP:20260424T010332
CREATED:20251002T171506Z
LAST-MODIFIED:20260331T144134Z
UID:10006853-1795593600-1795597200@stvincentferrer.net
SUMMARY:Daily Mass 8am Monday thru Thursday (livestream)
DESCRIPTION:
URL:https://stvincentferrer.net/event/daily-mass-8am-monday-thru-thursday-livestream-2/2026-11-25/
CATEGORIES:Mass,Music,Worship
ATTACH;FMTTYPE=image/jpeg:https://stvincentferrer.net/wp-content/uploads/2025/02/Daily-Mass-scaled.jpg
END:VEVENT
BEGIN:VEVENT
DTSTART;TZID=America/Detroit:20261126T080000
DTEND;TZID=America/Detroit:20261126T090000
DTSTAMP:20260424T010332
CREATED:20251002T171506Z
LAST-MODIFIED:20260331T144134Z
UID:10006854-1795680000-1795683600@stvincentferrer.net
SUMMARY:Daily Mass 8am Monday thru Thursday (livestream)
DESCRIPTION:
URL:https://stvincentferrer.net/event/daily-mass-8am-monday-thru-thursday-livestream-2/2026-11-26/
CATEGORIES:Mass,Music,Worship
ATTACH;FMTTYPE=image/jpeg:https://stvincentferrer.net/wp-content/uploads/2025/02/Daily-Mass-scaled.jpg
END:VEVENT
BEGIN:VEVENT
DTSTART;TZID=America/Detroit:20261126T090000
DTEND;TZID=America/Detroit:20261126T093000
DTSTAMP:20260424T010332
CREATED:20250212T200207Z
LAST-MODIFIED:20260331T144257Z
UID:10006127-1795683600-1795685400@stvincentferrer.net
SUMMARY:Rosary - Thursdays following 8am mass ( also Livestream )
DESCRIPTION:
URL:https://stvincentferrer.net/event/rosary-thursdays-following-8am-mass-also-livestream/2026-11-26/
LOCATION:St. Vincent Ferrer Church\, 28353 Herbert\, Madison Heights\, MI\, 48071
CATEGORIES:Miscellaneous,Worship
ATTACH;FMTTYPE=image/jpeg:https://stvincentferrer.net/wp-content/uploads/2022/05/rosary.jpg
GEO:42.4992176;-83.0971204
X-APPLE-STRUCTURED-LOCATION;VALUE=URI;X-ADDRESS=St. Vincent Ferrer Church 28353 Herbert Madison Heights MI 48071;X-APPLE-RADIUS=500;X-TITLE=28353 Herbert:geo:-83.0971204,42.4992176
END:VEVENT
BEGIN:VEVENT
DTSTART;TZID=America/Detroit:20261129T090000
DTEND;TZID=America/Detroit:20261129T100000
DTSTAMP:20260424T010332
CREATED:20250325T200237Z
LAST-MODIFIED:20251216T181536Z
UID:10008106-1795942800-1795946400@stvincentferrer.net
SUMMARY:Sunday Mass 9:00 am
DESCRIPTION:
URL:https://stvincentferrer.net/event/sunday-mass-900-am/2026-11-29/
LOCATION:St. Vincent Ferrer Church\, 28353 Herbert\, Madison Heights\, MI\, 48071
CATEGORIES:Mass,Worship
GEO:42.4992176;-83.0971204
X-APPLE-STRUCTURED-LOCATION;VALUE=URI;X-ADDRESS=St. Vincent Ferrer Church 28353 Herbert Madison Heights MI 48071;X-APPLE-RADIUS=500;X-TITLE=28353 Herbert:geo:-83.0971204,42.4992176
END:VEVENT
BEGIN:VEVENT
DTSTART;TZID=America/Detroit:20261130T080000
DTEND;TZID=America/Detroit:20261130T090000
DTSTAMP:20260424T010332
CREATED:20251002T171506Z
LAST-MODIFIED:20260331T144134Z
UID:10006857-1796025600-1796029200@stvincentferrer.net
SUMMARY:Daily Mass 8am Monday thru Thursday (livestream)
DESCRIPTION:
URL:https://stvincentferrer.net/event/daily-mass-8am-monday-thru-thursday-livestream-2/2026-11-30/
CATEGORIES:Mass,Music,Worship
ATTACH;FMTTYPE=image/jpeg:https://stvincentferrer.net/wp-content/uploads/2025/02/Daily-Mass-scaled.jpg
END:VEVENT
END:VCALENDAR