BEGIN:VCALENDAR
VERSION:2.0
PRODID:-//St. Vincent Ferrer Catholic Church - ECPv6.15.20//NONSGML v1.0//EN
CALSCALE:GREGORIAN
METHOD:PUBLISH
X-WR-CALNAME:St. Vincent Ferrer Catholic Church
X-ORIGINAL-URL:https://stvincentferrer.net
X-WR-CALDESC:Events for St. Vincent Ferrer Catholic Church
REFRESH-INTERVAL;VALUE=DURATION:PT1H
X-Robots-Tag:noindex
X-PUBLISHED-TTL:PT1H
BEGIN:VTIMEZONE
TZID:America/Detroit
BEGIN:DAYLIGHT
TZOFFSETFROM:-0500
TZOFFSETTO:-0400
TZNAME:EDT
DTSTART:20230312T070000
END:DAYLIGHT
BEGIN:STANDARD
TZOFFSETFROM:-0400
TZOFFSETTO:-0500
TZNAME:EST
DTSTART:20231105T060000
END:STANDARD
BEGIN:DAYLIGHT
TZOFFSETFROM:-0500
TZOFFSETTO:-0400
TZNAME:EDT
DTSTART:20240310T070000
END:DAYLIGHT
BEGIN:STANDARD
TZOFFSETFROM:-0400
TZOFFSETTO:-0500
TZNAME:EST
DTSTART:20241103T060000
END:STANDARD
BEGIN:DAYLIGHT
TZOFFSETFROM:-0500
TZOFFSETTO:-0400
TZNAME:EDT
DTSTART:20250309T070000
END:DAYLIGHT
BEGIN:STANDARD
TZOFFSETFROM:-0400
TZOFFSETTO:-0500
TZNAME:EST
DTSTART:20251102T060000
END:STANDARD
END:VTIMEZONE
BEGIN:VEVENT
DTSTART;TZID=America/Detroit:20240801T090000
DTEND;TZID=America/Detroit:20240801T100000
DTSTAMP:20260424T233301
CREATED:20240229T142024Z
LAST-MODIFIED:20240807T153619Z
UID:10004668-1722502800-1722506400@stvincentferrer.net
SUMMARY:Rosary following Mass - Livestreamed
DESCRIPTION:Please join us for the Rosary on Thursdays following Mass.
URL:https://stvincentferrer.net/event/rosary-following-mass-livestreamed/2024-08-01/
LOCATION:St. Vincent Ferrer Church\, 28353 Herbert\, Madison Heights\, MI\, 48071
CATEGORIES:Worship
ATTACH;FMTTYPE=image/jpeg:https://stvincentferrer.net/wp-content/uploads/2022/05/rosary.jpg
GEO:42.4992176;-83.0971204
X-APPLE-STRUCTURED-LOCATION;VALUE=URI;X-ADDRESS=St. Vincent Ferrer Church 28353 Herbert Madison Heights MI 48071;X-APPLE-RADIUS=500;X-TITLE=28353 Herbert:geo:-83.0971204,42.4992176
END:VEVENT
BEGIN:VEVENT
DTSTART;TZID=America/Detroit:20240806T090000
DTEND;TZID=America/Detroit:20240806T100000
DTSTAMP:20260424T233301
CREATED:20240716T124106Z
LAST-MODIFIED:20250520T175015Z
UID:10005465-1722934800-1722938400@stvincentferrer.net
SUMMARY:Adoration - Every Tuesday 9am following Mass
DESCRIPTION:
URL:https://stvincentferrer.net/event/adoration-every-tuesday-9am-following-mass/2024-08-06/
CATEGORIES:Worship
ATTACH;FMTTYPE=image/jpeg:https://stvincentferrer.net/wp-content/uploads/2017/03/Monstrance-1.jpg
END:VEVENT
BEGIN:VEVENT
DTSTART;TZID=America/Detroit:20240813T090000
DTEND;TZID=America/Detroit:20240813T100000
DTSTAMP:20260424T233301
CREATED:20240716T124106Z
LAST-MODIFIED:20250520T175015Z
UID:10005466-1723539600-1723543200@stvincentferrer.net
SUMMARY:Adoration - Every Tuesday 9am following Mass
DESCRIPTION:
URL:https://stvincentferrer.net/event/adoration-every-tuesday-9am-following-mass/2024-08-13/
CATEGORIES:Worship
ATTACH;FMTTYPE=image/jpeg:https://stvincentferrer.net/wp-content/uploads/2017/03/Monstrance-1.jpg
END:VEVENT
BEGIN:VEVENT
DTSTART;TZID=America/Detroit:20240814T190000
DTEND;TZID=America/Detroit:20240814T200000
DTSTAMP:20260424T233301
CREATED:20240625T171621Z
LAST-MODIFIED:20240625T171954Z
UID:10005198-1723662000-1723665600@stvincentferrer.net
SUMMARY:Assumption Vigil Mass - 7pm
DESCRIPTION:
URL:https://stvincentferrer.net/event/assumption-vigil-mass-7pm/
CATEGORIES:Special Mass
ATTACH;FMTTYPE=image/jpeg:https://stvincentferrer.net/wp-content/uploads/2021/07/assumption-of-Mary.jpeg
END:VEVENT
BEGIN:VEVENT
DTSTART;TZID=America/Detroit:20240815T080000
DTEND;TZID=America/Detroit:20240815T090000
DTSTAMP:20260424T233301
CREATED:20240625T172312Z
LAST-MODIFIED:20240625T172312Z
UID:10005199-1723708800-1723712400@stvincentferrer.net
SUMMARY:Assumption Mass - 8am
DESCRIPTION:
URL:https://stvincentferrer.net/event/assumption-mass-8am/
CATEGORIES:Special Mass
ATTACH;FMTTYPE=image/jpeg:https://stvincentferrer.net/wp-content/uploads/2021/07/assumption-of-Mary.jpeg
END:VEVENT
BEGIN:VEVENT
DTSTART;TZID=America/Detroit:20240820T090000
DTEND;TZID=America/Detroit:20240820T100000
DTSTAMP:20260424T233301
CREATED:20240716T124106Z
LAST-MODIFIED:20250520T175015Z
UID:10005467-1724144400-1724148000@stvincentferrer.net
SUMMARY:Adoration - Every Tuesday 9am following Mass
DESCRIPTION:
URL:https://stvincentferrer.net/event/adoration-every-tuesday-9am-following-mass/2024-08-20/
CATEGORIES:Worship
ATTACH;FMTTYPE=image/jpeg:https://stvincentferrer.net/wp-content/uploads/2017/03/Monstrance-1.jpg
END:VEVENT
BEGIN:VEVENT
DTSTART;TZID=America/Detroit:20240827T090000
DTEND;TZID=America/Detroit:20240827T100000
DTSTAMP:20260424T233301
CREATED:20240716T124106Z
LAST-MODIFIED:20250520T175015Z
UID:10005468-1724749200-1724752800@stvincentferrer.net
SUMMARY:Adoration - Every Tuesday 9am following Mass
DESCRIPTION:
URL:https://stvincentferrer.net/event/adoration-every-tuesday-9am-following-mass/2024-08-27/
CATEGORIES:Worship
ATTACH;FMTTYPE=image/jpeg:https://stvincentferrer.net/wp-content/uploads/2017/03/Monstrance-1.jpg
END:VEVENT
BEGIN:VEVENT
DTSTART;TZID=America/Detroit:20240831T160000
DTEND;TZID=America/Detroit:20240831T170000
DTSTAMP:20260424T233301
CREATED:20240625T172629Z
LAST-MODIFIED:20240821T121622Z
UID:10005200-1725120000-1725123600@stvincentferrer.net
SUMMARY:Healing Mass - 4pm
DESCRIPTION:
URL:https://stvincentferrer.net/event/healing-mass-4pm-26/
CATEGORIES:Healing Ministry,Special Mass
ATTACH;FMTTYPE=image/jpeg:https://stvincentferrer.net/wp-content/uploads/2022/11/healing-mass.jpg
END:VEVENT
END:VCALENDAR