BEGIN:VCALENDAR
VERSION:2.0
PRODID:-//St. Vincent Ferrer Catholic Church - ECPv6.15.20//NONSGML v1.0//EN
CALSCALE:GREGORIAN
METHOD:PUBLISH
X-ORIGINAL-URL:https://stvincentferrer.net
X-WR-CALDESC:Events for St. Vincent Ferrer Catholic Church
REFRESH-INTERVAL;VALUE=DURATION:PT1H
X-Robots-Tag:noindex
X-PUBLISHED-TTL:PT1H
BEGIN:VTIMEZONE
TZID:America/Detroit
BEGIN:DAYLIGHT
TZOFFSETFROM:-0500
TZOFFSETTO:-0400
TZNAME:EDT
DTSTART:20220313T070000
END:DAYLIGHT
BEGIN:STANDARD
TZOFFSETFROM:-0400
TZOFFSETTO:-0500
TZNAME:EST
DTSTART:20221106T060000
END:STANDARD
BEGIN:DAYLIGHT
TZOFFSETFROM:-0500
TZOFFSETTO:-0400
TZNAME:EDT
DTSTART:20230312T070000
END:DAYLIGHT
BEGIN:STANDARD
TZOFFSETFROM:-0400
TZOFFSETTO:-0500
TZNAME:EST
DTSTART:20231105T060000
END:STANDARD
BEGIN:DAYLIGHT
TZOFFSETFROM:-0500
TZOFFSETTO:-0400
TZNAME:EDT
DTSTART:20240310T070000
END:DAYLIGHT
BEGIN:STANDARD
TZOFFSETFROM:-0400
TZOFFSETTO:-0500
TZNAME:EST
DTSTART:20241103T060000
END:STANDARD
END:VTIMEZONE
BEGIN:VEVENT
DTSTART;TZID=America/Detroit:20231101T080000
DTEND;TZID=America/Detroit:20231101T090000
DTSTAMP:20260425T144309
CREATED:20230927T182856Z
LAST-MODIFIED:20230927T182856Z
UID:10004411-1698825600-1698829200@stvincentferrer.net
SUMMARY:All Saints Masses 8am and 7pm
DESCRIPTION:
URL:https://stvincentferrer.net/event/all-saints-masses-8am-and-7pm/2023-11-01/1/
LOCATION:St. Vincent Ferrer Church\, 28353 Herbert\, Madison Heights\, MI\, 48071
CATEGORIES:Mass,Special Mass
ATTACH;FMTTYPE=image/jpeg:https://stvincentferrer.net/wp-content/uploads/2023/09/Saints1Nov.jpg
GEO:42.4992176;-83.0971204
X-APPLE-STRUCTURED-LOCATION;VALUE=URI;X-ADDRESS=St. Vincent Ferrer Church 28353 Herbert Madison Heights MI 48071;X-APPLE-RADIUS=500;X-TITLE=28353 Herbert:geo:-83.0971204,42.4992176
END:VEVENT
BEGIN:VEVENT
DTSTART;TZID=America/Detroit:20231101T190000
DTEND;TZID=America/Detroit:20231101T200000
DTSTAMP:20260425T144309
CREATED:20230927T182856Z
LAST-MODIFIED:20230927T182856Z
UID:10004412-1698865200-1698868800@stvincentferrer.net
SUMMARY:All Saints Masses 8am and 7pm
DESCRIPTION:
URL:https://stvincentferrer.net/event/all-saints-masses-8am-and-7pm/2023-11-01/2/
LOCATION:St. Vincent Ferrer Church\, 28353 Herbert\, Madison Heights\, MI\, 48071
CATEGORIES:Mass,Special Mass
ATTACH;FMTTYPE=image/jpeg:https://stvincentferrer.net/wp-content/uploads/2023/09/Saints1Nov.jpg
GEO:42.4992176;-83.0971204
X-APPLE-STRUCTURED-LOCATION;VALUE=URI;X-ADDRESS=St. Vincent Ferrer Church 28353 Herbert Madison Heights MI 48071;X-APPLE-RADIUS=500;X-TITLE=28353 Herbert:geo:-83.0971204,42.4992176
END:VEVENT
BEGIN:VEVENT
DTSTART;TZID=America/Detroit:20231102T080000
DTEND;TZID=America/Detroit:20231102T090000
DTSTAMP:20260425T144309
CREATED:20230927T183551Z
LAST-MODIFIED:20230927T183551Z
UID:10004413-1698912000-1698915600@stvincentferrer.net
SUMMARY:All Souls Mass 8am
DESCRIPTION:
URL:https://stvincentferrer.net/event/all-souls-mass-8am/
LOCATION:St. Vincent Ferrer Church\, 28353 Herbert\, Madison Heights\, MI\, 48071
CATEGORIES:Special Mass
ATTACH;FMTTYPE=image/jpeg:https://stvincentferrer.net/wp-content/uploads/2017/10/all-souls.jpg
GEO:42.4992176;-83.0971204
X-APPLE-STRUCTURED-LOCATION;VALUE=URI;X-ADDRESS=St. Vincent Ferrer Church 28353 Herbert Madison Heights MI 48071;X-APPLE-RADIUS=500;X-TITLE=28353 Herbert:geo:-83.0971204,42.4992176
END:VEVENT
BEGIN:VEVENT
DTSTART;TZID=America/Detroit:20231107T190000
DTEND;TZID=America/Detroit:20231107T200000
DTSTAMP:20260425T144309
CREATED:20231003T144955Z
LAST-MODIFIED:20231003T144955Z
UID:10004449-1699383600-1699387200@stvincentferrer.net
SUMMARY:Mass of Remembrance 7pm
DESCRIPTION:
URL:https://stvincentferrer.net/event/mass-of-remembrance-7pm/
LOCATION:St. Vincent Ferrer Church\, 28353 Herbert\, Madison Heights\, MI\, 48071
CATEGORIES:Christian Service,Mass,Miscellaneous,Special Mass
GEO:42.4992176;-83.0971204
X-APPLE-STRUCTURED-LOCATION;VALUE=URI;X-ADDRESS=St. Vincent Ferrer Church 28353 Herbert Madison Heights MI 48071;X-APPLE-RADIUS=500;X-TITLE=28353 Herbert:geo:-83.0971204,42.4992176
END:VEVENT
BEGIN:VEVENT
DTSTART;TZID=America/Detroit:20231111T160000
DTEND;TZID=America/Detroit:20231111T170000
DTSTAMP:20260425T144309
CREATED:20231102T191400Z
LAST-MODIFIED:20231102T191400Z
UID:10004497-1699718400-1699722000@stvincentferrer.net
SUMMARY:Veterans Day - 4pm Mass
DESCRIPTION:Thank you for your service.
URL:https://stvincentferrer.net/event/veterans-day-4pm-mass/
LOCATION:St. Vincent Ferrer Church\, 28353 Herbert\, Madison Heights\, MI\, 48071
CATEGORIES:Mass
ATTACH;FMTTYPE=image/jpeg:https://stvincentferrer.net/wp-content/uploads/2023/10/veterans-day-thank-you-DP1-e1540732806593.jpg
GEO:42.4992176;-83.0971204
X-APPLE-STRUCTURED-LOCATION;VALUE=URI;X-ADDRESS=St. Vincent Ferrer Church 28353 Herbert Madison Heights MI 48071;X-APPLE-RADIUS=500;X-TITLE=28353 Herbert:geo:-83.0971204,42.4992176
END:VEVENT
BEGIN:VEVENT
DTSTART;TZID=America/Detroit:20231123T090000
DTEND;TZID=America/Detroit:20231123T100000
DTSTAMP:20260425T144309
CREATED:20230907T183610Z
LAST-MODIFIED:20230907T183610Z
UID:10004093-1700730000-1700733600@stvincentferrer.net
SUMMARY:Thanksgiving
DESCRIPTION:
URL:https://stvincentferrer.net/event/thanksgiving/
CATEGORIES:Worship
ATTACH;FMTTYPE=image/jpeg:https://stvincentferrer.net/wp-content/uploads/2021/10/thanksgiving-day.jpeg
END:VEVENT
BEGIN:VEVENT
DTSTART;TZID=America/Detroit:20231125T160000
DTEND;TZID=America/Detroit:20231125T170000
DTSTAMP:20260425T144309
CREATED:20231017T195346Z
LAST-MODIFIED:20231017T195346Z
UID:10004463-1700928000-1700931600@stvincentferrer.net
SUMMARY:Healing Mass 4pm
DESCRIPTION:Beyond the use of the Sacrament of Reconciliation\, we have a Monthly Healing Mass the last Saturday of each month. After the regular 4:00 pm Mass\, prayer teams are available for healing prayer or for the Sacrament of the Anointing of the Sick. Many come and find hope\, consolation\, and healing in this ministry.
URL:https://stvincentferrer.net/event/healing-mass-4pm-18/
LOCATION:St. Vincent Ferrer Church\, 28353 Herbert\, Madison Heights\, MI\, 48071
CATEGORIES:Healing Ministry,Special Mass
ATTACH;FMTTYPE=image/jpeg:https://stvincentferrer.net/wp-content/uploads/2022/11/healing-mass.jpg
GEO:42.4992176;-83.0971204
X-APPLE-STRUCTURED-LOCATION;VALUE=URI;X-ADDRESS=St. Vincent Ferrer Church 28353 Herbert Madison Heights MI 48071;X-APPLE-RADIUS=500;X-TITLE=28353 Herbert:geo:-83.0971204,42.4992176
END:VEVENT
END:VCALENDAR