BEGIN:VCALENDAR
VERSION:2.0
PRODID:-//St. Vincent Ferrer Catholic Church - ECPv6.15.20//NONSGML v1.0//EN
CALSCALE:GREGORIAN
METHOD:PUBLISH
X-ORIGINAL-URL:https://stvincentferrer.net
X-WR-CALDESC:Events for St. Vincent Ferrer Catholic Church
REFRESH-INTERVAL;VALUE=DURATION:PT1H
X-Robots-Tag:noindex
X-PUBLISHED-TTL:PT1H
BEGIN:VTIMEZONE
TZID:America/Detroit
BEGIN:DAYLIGHT
TZOFFSETFROM:-0500
TZOFFSETTO:-0400
TZNAME:EDT
DTSTART:20270314T070000
END:DAYLIGHT
BEGIN:STANDARD
TZOFFSETFROM:-0400
TZOFFSETTO:-0500
TZNAME:EST
DTSTART:20271107T060000
END:STANDARD
BEGIN:DAYLIGHT
TZOFFSETFROM:-0500
TZOFFSETTO:-0400
TZNAME:EDT
DTSTART:20280312T070000
END:DAYLIGHT
BEGIN:STANDARD
TZOFFSETFROM:-0400
TZOFFSETTO:-0500
TZNAME:EST
DTSTART:20281105T060000
END:STANDARD
BEGIN:DAYLIGHT
TZOFFSETFROM:-0500
TZOFFSETTO:-0400
TZNAME:EDT
DTSTART:20290311T070000
END:DAYLIGHT
BEGIN:STANDARD
TZOFFSETFROM:-0400
TZOFFSETTO:-0500
TZNAME:EST
DTSTART:20291104T060000
END:STANDARD
END:VTIMEZONE
BEGIN:VEVENT
DTSTART;TZID=America/Detroit:20281101T080000
DTEND;TZID=America/Detroit:20281101T090000
DTSTAMP:20260425T180821
CREATED:20251002T171506Z
LAST-MODIFIED:20260331T144134Z
UID:10007459-1856678400-1856682000@stvincentferrer.net
SUMMARY:Daily Mass 8am Monday thru Thursday (livestream)
DESCRIPTION:
URL:https://stvincentferrer.net/event/daily-mass-8am-monday-thru-thursday-livestream-2/2028-11-01/
CATEGORIES:Mass,Music,Worship
ATTACH;FMTTYPE=image/jpeg:https://stvincentferrer.net/wp-content/uploads/2025/02/Daily-Mass-scaled.jpg
END:VEVENT
BEGIN:VEVENT
DTSTART;TZID=America/Detroit:20281102T080000
DTEND;TZID=America/Detroit:20281102T090000
DTSTAMP:20260425T180821
CREATED:20251002T171506Z
LAST-MODIFIED:20260331T144134Z
UID:10007460-1856764800-1856768400@stvincentferrer.net
SUMMARY:Daily Mass 8am Monday thru Thursday (livestream)
DESCRIPTION:
URL:https://stvincentferrer.net/event/daily-mass-8am-monday-thru-thursday-livestream-2/2028-11-02/
CATEGORIES:Mass,Music,Worship
ATTACH;FMTTYPE=image/jpeg:https://stvincentferrer.net/wp-content/uploads/2025/02/Daily-Mass-scaled.jpg
END:VEVENT
BEGIN:VEVENT
DTSTART;TZID=America/Detroit:20281106T080000
DTEND;TZID=America/Detroit:20281106T090000
DTSTAMP:20260425T180821
CREATED:20251002T171506Z
LAST-MODIFIED:20260331T144134Z
UID:10007463-1857110400-1857114000@stvincentferrer.net
SUMMARY:Daily Mass 8am Monday thru Thursday (livestream)
DESCRIPTION:
URL:https://stvincentferrer.net/event/daily-mass-8am-monday-thru-thursday-livestream-2/2028-11-06/
CATEGORIES:Mass,Music,Worship
ATTACH;FMTTYPE=image/jpeg:https://stvincentferrer.net/wp-content/uploads/2025/02/Daily-Mass-scaled.jpg
END:VEVENT
BEGIN:VEVENT
DTSTART;TZID=America/Detroit:20281107T080000
DTEND;TZID=America/Detroit:20281107T090000
DTSTAMP:20260425T180821
CREATED:20251002T171506Z
LAST-MODIFIED:20260331T144134Z
UID:10007464-1857196800-1857200400@stvincentferrer.net
SUMMARY:Daily Mass 8am Monday thru Thursday (livestream)
DESCRIPTION:
URL:https://stvincentferrer.net/event/daily-mass-8am-monday-thru-thursday-livestream-2/2028-11-07/
CATEGORIES:Mass,Music,Worship
ATTACH;FMTTYPE=image/jpeg:https://stvincentferrer.net/wp-content/uploads/2025/02/Daily-Mass-scaled.jpg
END:VEVENT
BEGIN:VEVENT
DTSTART;TZID=America/Detroit:20281108T080000
DTEND;TZID=America/Detroit:20281108T090000
DTSTAMP:20260425T180821
CREATED:20251002T171506Z
LAST-MODIFIED:20260331T144134Z
UID:10007465-1857283200-1857286800@stvincentferrer.net
SUMMARY:Daily Mass 8am Monday thru Thursday (livestream)
DESCRIPTION:
URL:https://stvincentferrer.net/event/daily-mass-8am-monday-thru-thursday-livestream-2/2028-11-08/
CATEGORIES:Mass,Music,Worship
ATTACH;FMTTYPE=image/jpeg:https://stvincentferrer.net/wp-content/uploads/2025/02/Daily-Mass-scaled.jpg
END:VEVENT
BEGIN:VEVENT
DTSTART;TZID=America/Detroit:20281109T080000
DTEND;TZID=America/Detroit:20281109T090000
DTSTAMP:20260425T180821
CREATED:20251002T171506Z
LAST-MODIFIED:20260331T144134Z
UID:10007466-1857369600-1857373200@stvincentferrer.net
SUMMARY:Daily Mass 8am Monday thru Thursday (livestream)
DESCRIPTION:
URL:https://stvincentferrer.net/event/daily-mass-8am-monday-thru-thursday-livestream-2/2028-11-09/
CATEGORIES:Mass,Music,Worship
ATTACH;FMTTYPE=image/jpeg:https://stvincentferrer.net/wp-content/uploads/2025/02/Daily-Mass-scaled.jpg
END:VEVENT
BEGIN:VEVENT
DTSTART;TZID=America/Detroit:20281113T080000
DTEND;TZID=America/Detroit:20281113T090000
DTSTAMP:20260425T180821
CREATED:20251002T171506Z
LAST-MODIFIED:20260331T144134Z
UID:10007469-1857715200-1857718800@stvincentferrer.net
SUMMARY:Daily Mass 8am Monday thru Thursday (livestream)
DESCRIPTION:
URL:https://stvincentferrer.net/event/daily-mass-8am-monday-thru-thursday-livestream-2/2028-11-13/
CATEGORIES:Mass,Music,Worship
ATTACH;FMTTYPE=image/jpeg:https://stvincentferrer.net/wp-content/uploads/2025/02/Daily-Mass-scaled.jpg
END:VEVENT
BEGIN:VEVENT
DTSTART;TZID=America/Detroit:20281114T080000
DTEND;TZID=America/Detroit:20281114T090000
DTSTAMP:20260425T180821
CREATED:20251002T171506Z
LAST-MODIFIED:20260331T144134Z
UID:10007470-1857801600-1857805200@stvincentferrer.net
SUMMARY:Daily Mass 8am Monday thru Thursday (livestream)
DESCRIPTION:
URL:https://stvincentferrer.net/event/daily-mass-8am-monday-thru-thursday-livestream-2/2028-11-14/
CATEGORIES:Mass,Music,Worship
ATTACH;FMTTYPE=image/jpeg:https://stvincentferrer.net/wp-content/uploads/2025/02/Daily-Mass-scaled.jpg
END:VEVENT
BEGIN:VEVENT
DTSTART;TZID=America/Detroit:20281115T080000
DTEND;TZID=America/Detroit:20281115T090000
DTSTAMP:20260425T180821
CREATED:20251002T171506Z
LAST-MODIFIED:20260331T144134Z
UID:10007471-1857888000-1857891600@stvincentferrer.net
SUMMARY:Daily Mass 8am Monday thru Thursday (livestream)
DESCRIPTION:
URL:https://stvincentferrer.net/event/daily-mass-8am-monday-thru-thursday-livestream-2/2028-11-15/
CATEGORIES:Mass,Music,Worship
ATTACH;FMTTYPE=image/jpeg:https://stvincentferrer.net/wp-content/uploads/2025/02/Daily-Mass-scaled.jpg
END:VEVENT
BEGIN:VEVENT
DTSTART;TZID=America/Detroit:20281116T080000
DTEND;TZID=America/Detroit:20281116T090000
DTSTAMP:20260425T180821
CREATED:20251002T171506Z
LAST-MODIFIED:20260331T144134Z
UID:10007472-1857974400-1857978000@stvincentferrer.net
SUMMARY:Daily Mass 8am Monday thru Thursday (livestream)
DESCRIPTION:
URL:https://stvincentferrer.net/event/daily-mass-8am-monday-thru-thursday-livestream-2/2028-11-16/
CATEGORIES:Mass,Music,Worship
ATTACH;FMTTYPE=image/jpeg:https://stvincentferrer.net/wp-content/uploads/2025/02/Daily-Mass-scaled.jpg
END:VEVENT
BEGIN:VEVENT
DTSTART;TZID=America/Detroit:20281120T080000
DTEND;TZID=America/Detroit:20281120T090000
DTSTAMP:20260425T180821
CREATED:20251002T171506Z
LAST-MODIFIED:20260331T144134Z
UID:10007475-1858320000-1858323600@stvincentferrer.net
SUMMARY:Daily Mass 8am Monday thru Thursday (livestream)
DESCRIPTION:
URL:https://stvincentferrer.net/event/daily-mass-8am-monday-thru-thursday-livestream-2/2028-11-20/
CATEGORIES:Mass,Music,Worship
ATTACH;FMTTYPE=image/jpeg:https://stvincentferrer.net/wp-content/uploads/2025/02/Daily-Mass-scaled.jpg
END:VEVENT
BEGIN:VEVENT
DTSTART;TZID=America/Detroit:20281121T080000
DTEND;TZID=America/Detroit:20281121T090000
DTSTAMP:20260425T180821
CREATED:20251002T171506Z
LAST-MODIFIED:20260331T144134Z
UID:10007476-1858406400-1858410000@stvincentferrer.net
SUMMARY:Daily Mass 8am Monday thru Thursday (livestream)
DESCRIPTION:
URL:https://stvincentferrer.net/event/daily-mass-8am-monday-thru-thursday-livestream-2/2028-11-21/
CATEGORIES:Mass,Music,Worship
ATTACH;FMTTYPE=image/jpeg:https://stvincentferrer.net/wp-content/uploads/2025/02/Daily-Mass-scaled.jpg
END:VEVENT
BEGIN:VEVENT
DTSTART;TZID=America/Detroit:20281122T080000
DTEND;TZID=America/Detroit:20281122T090000
DTSTAMP:20260425T180821
CREATED:20251002T171506Z
LAST-MODIFIED:20260331T144134Z
UID:10007477-1858492800-1858496400@stvincentferrer.net
SUMMARY:Daily Mass 8am Monday thru Thursday (livestream)
DESCRIPTION:
URL:https://stvincentferrer.net/event/daily-mass-8am-monday-thru-thursday-livestream-2/2028-11-22/
CATEGORIES:Mass,Music,Worship
ATTACH;FMTTYPE=image/jpeg:https://stvincentferrer.net/wp-content/uploads/2025/02/Daily-Mass-scaled.jpg
END:VEVENT
BEGIN:VEVENT
DTSTART;TZID=America/Detroit:20281123T080000
DTEND;TZID=America/Detroit:20281123T090000
DTSTAMP:20260425T180821
CREATED:20251002T171506Z
LAST-MODIFIED:20260331T144134Z
UID:10007478-1858579200-1858582800@stvincentferrer.net
SUMMARY:Daily Mass 8am Monday thru Thursday (livestream)
DESCRIPTION:
URL:https://stvincentferrer.net/event/daily-mass-8am-monday-thru-thursday-livestream-2/2028-11-23/
CATEGORIES:Mass,Music,Worship
ATTACH;FMTTYPE=image/jpeg:https://stvincentferrer.net/wp-content/uploads/2025/02/Daily-Mass-scaled.jpg
END:VEVENT
BEGIN:VEVENT
DTSTART;TZID=America/Detroit:20281127T080000
DTEND;TZID=America/Detroit:20281127T090000
DTSTAMP:20260425T180821
CREATED:20251002T171506Z
LAST-MODIFIED:20260331T144134Z
UID:10007481-1858924800-1858928400@stvincentferrer.net
SUMMARY:Daily Mass 8am Monday thru Thursday (livestream)
DESCRIPTION:
URL:https://stvincentferrer.net/event/daily-mass-8am-monday-thru-thursday-livestream-2/2028-11-27/
CATEGORIES:Mass,Music,Worship
ATTACH;FMTTYPE=image/jpeg:https://stvincentferrer.net/wp-content/uploads/2025/02/Daily-Mass-scaled.jpg
END:VEVENT
BEGIN:VEVENT
DTSTART;TZID=America/Detroit:20281128T080000
DTEND;TZID=America/Detroit:20281128T090000
DTSTAMP:20260425T180821
CREATED:20251002T171506Z
LAST-MODIFIED:20260331T144134Z
UID:10007482-1859011200-1859014800@stvincentferrer.net
SUMMARY:Daily Mass 8am Monday thru Thursday (livestream)
DESCRIPTION:
URL:https://stvincentferrer.net/event/daily-mass-8am-monday-thru-thursday-livestream-2/2028-11-28/
CATEGORIES:Mass,Music,Worship
ATTACH;FMTTYPE=image/jpeg:https://stvincentferrer.net/wp-content/uploads/2025/02/Daily-Mass-scaled.jpg
END:VEVENT
BEGIN:VEVENT
DTSTART;TZID=America/Detroit:20281129T080000
DTEND;TZID=America/Detroit:20281129T090000
DTSTAMP:20260425T180821
CREATED:20251002T171506Z
LAST-MODIFIED:20260331T144134Z
UID:10007483-1859097600-1859101200@stvincentferrer.net
SUMMARY:Daily Mass 8am Monday thru Thursday (livestream)
DESCRIPTION:
URL:https://stvincentferrer.net/event/daily-mass-8am-monday-thru-thursday-livestream-2/2028-11-29/
CATEGORIES:Mass,Music,Worship
ATTACH;FMTTYPE=image/jpeg:https://stvincentferrer.net/wp-content/uploads/2025/02/Daily-Mass-scaled.jpg
END:VEVENT
BEGIN:VEVENT
DTSTART;TZID=America/Detroit:20281130T080000
DTEND;TZID=America/Detroit:20281130T090000
DTSTAMP:20260425T180821
CREATED:20251002T171506Z
LAST-MODIFIED:20260331T144134Z
UID:10007484-1859184000-1859187600@stvincentferrer.net
SUMMARY:Daily Mass 8am Monday thru Thursday (livestream)
DESCRIPTION:
URL:https://stvincentferrer.net/event/daily-mass-8am-monday-thru-thursday-livestream-2/2028-11-30/
CATEGORIES:Mass,Music,Worship
ATTACH;FMTTYPE=image/jpeg:https://stvincentferrer.net/wp-content/uploads/2025/02/Daily-Mass-scaled.jpg
END:VEVENT
END:VCALENDAR