BEGIN:VCALENDAR
VERSION:2.0
PRODID:-//St. Vincent Ferrer Catholic Church - ECPv6.15.20//NONSGML v1.0//EN
CALSCALE:GREGORIAN
METHOD:PUBLISH
X-ORIGINAL-URL:https://stvincentferrer.net
X-WR-CALDESC:Events for St. Vincent Ferrer Catholic Church
REFRESH-INTERVAL;VALUE=DURATION:PT1H
X-Robots-Tag:noindex
X-PUBLISHED-TTL:PT1H
BEGIN:VTIMEZONE
TZID:America/Detroit
BEGIN:DAYLIGHT
TZOFFSETFROM:-0500
TZOFFSETTO:-0400
TZNAME:EDT
DTSTART:20240310T070000
END:DAYLIGHT
BEGIN:STANDARD
TZOFFSETFROM:-0400
TZOFFSETTO:-0500
TZNAME:EST
DTSTART:20241103T060000
END:STANDARD
BEGIN:DAYLIGHT
TZOFFSETFROM:-0500
TZOFFSETTO:-0400
TZNAME:EDT
DTSTART:20250309T070000
END:DAYLIGHT
BEGIN:STANDARD
TZOFFSETFROM:-0400
TZOFFSETTO:-0500
TZNAME:EST
DTSTART:20251102T060000
END:STANDARD
BEGIN:DAYLIGHT
TZOFFSETFROM:-0500
TZOFFSETTO:-0400
TZNAME:EDT
DTSTART:20260308T070000
END:DAYLIGHT
BEGIN:STANDARD
TZOFFSETFROM:-0400
TZOFFSETTO:-0500
TZNAME:EST
DTSTART:20261101T060000
END:STANDARD
END:VTIMEZONE
BEGIN:VEVENT
DTSTART;TZID=America/Detroit:20250205T190000
DTEND;TZID=America/Detroit:20250205T203000
DTSTAMP:20260424T134151
CREATED:20240822T172729Z
LAST-MODIFIED:20240822T172729Z
UID:10005842-1738782000-1738787400@stvincentferrer.net
SUMMARY:Choir Practice 7pm - Admin. Office
DESCRIPTION:  \n\n\nMusic Ministers must commit to a weekly rehearsal schedule\n\n\nParticipation in the majority of Eucharistic Celebrations throughout the year (September-May)\n\n\nNew members are welcome. Please contact us to schedule an audition.
URL:https://stvincentferrer.net/event/choir-practice-7pm-admin-office/2025-02-05/
LOCATION:Choir Room\, 28353 Herbert\, Madison Heights\, MI\, 48071
CATEGORIES:Music
ATTACH;FMTTYPE=image/jpeg:https://stvincentferrer.net/wp-content/uploads/2023/09/choir-practice-e1732115310867.jpg
GEO:42.4992176;-83.0971204
X-APPLE-STRUCTURED-LOCATION;VALUE=URI;X-ADDRESS=Choir Room 28353 Herbert Madison Heights MI 48071;X-APPLE-RADIUS=500;X-TITLE=28353 Herbert:geo:-83.0971204,42.4992176
END:VEVENT
BEGIN:VEVENT
DTSTART;TZID=America/Detroit:20250212T080000
DTEND;TZID=America/Detroit:20250212T090000
DTSTAMP:20260424T134151
CREATED:20250212T202317Z
LAST-MODIFIED:20250522T151751Z
UID:10006295-1739347200-1739350800@stvincentferrer.net
SUMMARY:Daily Mass 8am Monday thru Thursday (livestream)
DESCRIPTION:
URL:https://stvincentferrer.net/event/daily-mass-8am-monday-thru-thursday-livestream/2025-02-12/
CATEGORIES:Mass,Music,Worship
ATTACH;FMTTYPE=image/jpeg:https://stvincentferrer.net/wp-content/uploads/2025/02/Daily-Mass-scaled.jpg
END:VEVENT
BEGIN:VEVENT
DTSTART;TZID=America/Detroit:20250212T190000
DTEND;TZID=America/Detroit:20250212T203000
DTSTAMP:20260424T134151
CREATED:20240822T172729Z
LAST-MODIFIED:20240822T172729Z
UID:10005843-1739386800-1739392200@stvincentferrer.net
SUMMARY:Choir Practice 7pm - Admin. Office
DESCRIPTION:  \n\n\nMusic Ministers must commit to a weekly rehearsal schedule\n\n\nParticipation in the majority of Eucharistic Celebrations throughout the year (September-May)\n\n\nNew members are welcome. Please contact us to schedule an audition.
URL:https://stvincentferrer.net/event/choir-practice-7pm-admin-office/2025-02-12/
LOCATION:Choir Room\, 28353 Herbert\, Madison Heights\, MI\, 48071
CATEGORIES:Music
ATTACH;FMTTYPE=image/jpeg:https://stvincentferrer.net/wp-content/uploads/2023/09/choir-practice-e1732115310867.jpg
GEO:42.4992176;-83.0971204
X-APPLE-STRUCTURED-LOCATION;VALUE=URI;X-ADDRESS=Choir Room 28353 Herbert Madison Heights MI 48071;X-APPLE-RADIUS=500;X-TITLE=28353 Herbert:geo:-83.0971204,42.4992176
END:VEVENT
BEGIN:VEVENT
DTSTART;TZID=America/Detroit:20250213T080000
DTEND;TZID=America/Detroit:20250213T090000
DTSTAMP:20260424T134151
CREATED:20250212T202317Z
LAST-MODIFIED:20250522T151751Z
UID:10006296-1739433600-1739437200@stvincentferrer.net
SUMMARY:Daily Mass 8am Monday thru Thursday (livestream)
DESCRIPTION:
URL:https://stvincentferrer.net/event/daily-mass-8am-monday-thru-thursday-livestream/2025-02-13/
CATEGORIES:Mass,Music,Worship
ATTACH;FMTTYPE=image/jpeg:https://stvincentferrer.net/wp-content/uploads/2025/02/Daily-Mass-scaled.jpg
END:VEVENT
BEGIN:VEVENT
DTSTART;TZID=America/Detroit:20250217T080000
DTEND;TZID=America/Detroit:20250217T090000
DTSTAMP:20260424T134151
CREATED:20250212T202317Z
LAST-MODIFIED:20250522T151751Z
UID:10006299-1739779200-1739782800@stvincentferrer.net
SUMMARY:Daily Mass 8am Monday thru Thursday (livestream)
DESCRIPTION:
URL:https://stvincentferrer.net/event/daily-mass-8am-monday-thru-thursday-livestream/2025-02-17/
CATEGORIES:Mass,Music,Worship
ATTACH;FMTTYPE=image/jpeg:https://stvincentferrer.net/wp-content/uploads/2025/02/Daily-Mass-scaled.jpg
END:VEVENT
BEGIN:VEVENT
DTSTART;TZID=America/Detroit:20250218T080000
DTEND;TZID=America/Detroit:20250218T090000
DTSTAMP:20260424T134151
CREATED:20250212T202317Z
LAST-MODIFIED:20250522T151751Z
UID:10006300-1739865600-1739869200@stvincentferrer.net
SUMMARY:Daily Mass 8am Monday thru Thursday (livestream)
DESCRIPTION:
URL:https://stvincentferrer.net/event/daily-mass-8am-monday-thru-thursday-livestream/2025-02-18/
CATEGORIES:Mass,Music,Worship
ATTACH;FMTTYPE=image/jpeg:https://stvincentferrer.net/wp-content/uploads/2025/02/Daily-Mass-scaled.jpg
END:VEVENT
BEGIN:VEVENT
DTSTART;TZID=America/Detroit:20250219T080000
DTEND;TZID=America/Detroit:20250219T090000
DTSTAMP:20260424T134151
CREATED:20250212T202317Z
LAST-MODIFIED:20250522T151751Z
UID:10006301-1739952000-1739955600@stvincentferrer.net
SUMMARY:Daily Mass 8am Monday thru Thursday (livestream)
DESCRIPTION:
URL:https://stvincentferrer.net/event/daily-mass-8am-monday-thru-thursday-livestream/2025-02-19/
CATEGORIES:Mass,Music,Worship
ATTACH;FMTTYPE=image/jpeg:https://stvincentferrer.net/wp-content/uploads/2025/02/Daily-Mass-scaled.jpg
END:VEVENT
BEGIN:VEVENT
DTSTART;TZID=America/Detroit:20250219T190000
DTEND;TZID=America/Detroit:20250219T203000
DTSTAMP:20260424T134151
CREATED:20240822T172729Z
LAST-MODIFIED:20240822T172729Z
UID:10005844-1739991600-1739997000@stvincentferrer.net
SUMMARY:Choir Practice 7pm - Admin. Office
DESCRIPTION:  \n\n\nMusic Ministers must commit to a weekly rehearsal schedule\n\n\nParticipation in the majority of Eucharistic Celebrations throughout the year (September-May)\n\n\nNew members are welcome. Please contact us to schedule an audition.
URL:https://stvincentferrer.net/event/choir-practice-7pm-admin-office/2025-02-19/
LOCATION:Choir Room\, 28353 Herbert\, Madison Heights\, MI\, 48071
CATEGORIES:Music
ATTACH;FMTTYPE=image/jpeg:https://stvincentferrer.net/wp-content/uploads/2023/09/choir-practice-e1732115310867.jpg
GEO:42.4992176;-83.0971204
X-APPLE-STRUCTURED-LOCATION;VALUE=URI;X-ADDRESS=Choir Room 28353 Herbert Madison Heights MI 48071;X-APPLE-RADIUS=500;X-TITLE=28353 Herbert:geo:-83.0971204,42.4992176
END:VEVENT
BEGIN:VEVENT
DTSTART;TZID=America/Detroit:20250220T080000
DTEND;TZID=America/Detroit:20250220T090000
DTSTAMP:20260424T134151
CREATED:20250212T202317Z
LAST-MODIFIED:20250522T151751Z
UID:10006302-1740038400-1740042000@stvincentferrer.net
SUMMARY:Daily Mass 8am Monday thru Thursday (livestream)
DESCRIPTION:
URL:https://stvincentferrer.net/event/daily-mass-8am-monday-thru-thursday-livestream/2025-02-20/
CATEGORIES:Mass,Music,Worship
ATTACH;FMTTYPE=image/jpeg:https://stvincentferrer.net/wp-content/uploads/2025/02/Daily-Mass-scaled.jpg
END:VEVENT
BEGIN:VEVENT
DTSTART;TZID=America/Detroit:20250224T080000
DTEND;TZID=America/Detroit:20250224T090000
DTSTAMP:20260424T134151
CREATED:20250212T202317Z
LAST-MODIFIED:20250522T151751Z
UID:10006305-1740384000-1740387600@stvincentferrer.net
SUMMARY:Daily Mass 8am Monday thru Thursday (livestream)
DESCRIPTION:
URL:https://stvincentferrer.net/event/daily-mass-8am-monday-thru-thursday-livestream/2025-02-24/
CATEGORIES:Mass,Music,Worship
ATTACH;FMTTYPE=image/jpeg:https://stvincentferrer.net/wp-content/uploads/2025/02/Daily-Mass-scaled.jpg
END:VEVENT
BEGIN:VEVENT
DTSTART;TZID=America/Detroit:20250225T080000
DTEND;TZID=America/Detroit:20250225T090000
DTSTAMP:20260424T134151
CREATED:20250212T202317Z
LAST-MODIFIED:20250522T151751Z
UID:10006306-1740470400-1740474000@stvincentferrer.net
SUMMARY:Daily Mass 8am Monday thru Thursday (livestream)
DESCRIPTION:
URL:https://stvincentferrer.net/event/daily-mass-8am-monday-thru-thursday-livestream/2025-02-25/
CATEGORIES:Mass,Music,Worship
ATTACH;FMTTYPE=image/jpeg:https://stvincentferrer.net/wp-content/uploads/2025/02/Daily-Mass-scaled.jpg
END:VEVENT
BEGIN:VEVENT
DTSTART;TZID=America/Detroit:20250226T080000
DTEND;TZID=America/Detroit:20250226T090000
DTSTAMP:20260424T134151
CREATED:20250212T202317Z
LAST-MODIFIED:20250522T151751Z
UID:10006307-1740556800-1740560400@stvincentferrer.net
SUMMARY:Daily Mass 8am Monday thru Thursday (livestream)
DESCRIPTION:
URL:https://stvincentferrer.net/event/daily-mass-8am-monday-thru-thursday-livestream/2025-02-26/
CATEGORIES:Mass,Music,Worship
ATTACH;FMTTYPE=image/jpeg:https://stvincentferrer.net/wp-content/uploads/2025/02/Daily-Mass-scaled.jpg
END:VEVENT
BEGIN:VEVENT
DTSTART;TZID=America/Detroit:20250226T190000
DTEND;TZID=America/Detroit:20250226T203000
DTSTAMP:20260424T134151
CREATED:20240822T172729Z
LAST-MODIFIED:20240822T172729Z
UID:10005845-1740596400-1740601800@stvincentferrer.net
SUMMARY:Choir Practice 7pm - Admin. Office
DESCRIPTION:  \n\n\nMusic Ministers must commit to a weekly rehearsal schedule\n\n\nParticipation in the majority of Eucharistic Celebrations throughout the year (September-May)\n\n\nNew members are welcome. Please contact us to schedule an audition.
URL:https://stvincentferrer.net/event/choir-practice-7pm-admin-office/2025-02-26/
LOCATION:Choir Room\, 28353 Herbert\, Madison Heights\, MI\, 48071
CATEGORIES:Music
ATTACH;FMTTYPE=image/jpeg:https://stvincentferrer.net/wp-content/uploads/2023/09/choir-practice-e1732115310867.jpg
GEO:42.4992176;-83.0971204
X-APPLE-STRUCTURED-LOCATION;VALUE=URI;X-ADDRESS=Choir Room 28353 Herbert Madison Heights MI 48071;X-APPLE-RADIUS=500;X-TITLE=28353 Herbert:geo:-83.0971204,42.4992176
END:VEVENT
BEGIN:VEVENT
DTSTART;TZID=America/Detroit:20250227T080000
DTEND;TZID=America/Detroit:20250227T090000
DTSTAMP:20260424T134151
CREATED:20250212T202317Z
LAST-MODIFIED:20250522T151751Z
UID:10006308-1740643200-1740646800@stvincentferrer.net
SUMMARY:Daily Mass 8am Monday thru Thursday (livestream)
DESCRIPTION:
URL:https://stvincentferrer.net/event/daily-mass-8am-monday-thru-thursday-livestream/2025-02-27/
CATEGORIES:Mass,Music,Worship
ATTACH;FMTTYPE=image/jpeg:https://stvincentferrer.net/wp-content/uploads/2025/02/Daily-Mass-scaled.jpg
END:VEVENT
END:VCALENDAR