BEGIN:VCALENDAR
VERSION:2.0
PRODID:-//St. Vincent Ferrer Catholic Church - ECPv6.15.20//NONSGML v1.0//EN
CALSCALE:GREGORIAN
METHOD:PUBLISH
X-WR-CALNAME:St. Vincent Ferrer Catholic Church
X-ORIGINAL-URL:https://stvincentferrer.net
X-WR-CALDESC:Events for St. Vincent Ferrer Catholic Church
REFRESH-INTERVAL;VALUE=DURATION:PT1H
X-Robots-Tag:noindex
X-PUBLISHED-TTL:PT1H
BEGIN:VTIMEZONE
TZID:America/Detroit
BEGIN:DAYLIGHT
TZOFFSETFROM:-0500
TZOFFSETTO:-0400
TZNAME:EDT
DTSTART:20250309T070000
END:DAYLIGHT
BEGIN:STANDARD
TZOFFSETFROM:-0400
TZOFFSETTO:-0500
TZNAME:EST
DTSTART:20251102T060000
END:STANDARD
BEGIN:DAYLIGHT
TZOFFSETFROM:-0500
TZOFFSETTO:-0400
TZNAME:EDT
DTSTART:20260308T070000
END:DAYLIGHT
BEGIN:STANDARD
TZOFFSETFROM:-0400
TZOFFSETTO:-0500
TZNAME:EST
DTSTART:20261101T060000
END:STANDARD
BEGIN:DAYLIGHT
TZOFFSETFROM:-0500
TZOFFSETTO:-0400
TZNAME:EDT
DTSTART:20270314T070000
END:DAYLIGHT
BEGIN:STANDARD
TZOFFSETFROM:-0400
TZOFFSETTO:-0500
TZNAME:EST
DTSTART:20271107T060000
END:STANDARD
END:VTIMEZONE
BEGIN:VEVENT
DTSTART;TZID=America/Detroit:20260502T090000
DTEND;TZID=America/Detroit:20260502T110000
DTSTAMP:20260423T163758
CREATED:20251222T192228Z
LAST-MODIFIED:20251222T192416Z
UID:10009017-1777712400-1777719600@stvincentferrer.net
SUMMARY:Women's Sacred Journey
DESCRIPTION:Women’s Sacred Journey\nEvery other Saturday at 9:00am\nFaith Formation Office\nSVF School Bldg.\nWomen’s Sacred Journey group invites all\nwomen to join them in praying and reflecting on\nScripture passages. The gathering is every other\nSaturday. No registration or fee required.
URL:https://stvincentferrer.net/event/womens-sacred-journey-dec-27-2025-january-1024-feb-27/2026-05-02/
LOCATION:Faith Formation Office\, 1075 E. Gardenia\, Madison Heights\, MI\, United States
CATEGORIES:Adult Faith Formation,Christian Service,Miscellaneous
GEO:42.4991272;-83.0960313
X-APPLE-STRUCTURED-LOCATION;VALUE=URI;X-ADDRESS=Faith Formation Office 1075 E. Gardenia Madison Heights MI United States;X-APPLE-RADIUS=500;X-TITLE=1075 E. Gardenia:geo:-83.0960313,42.4991272
END:VEVENT
BEGIN:VEVENT
DTSTART;VALUE=DATE:20260507
DTEND;VALUE=DATE:20260508
DTSTAMP:20260423T163758
CREATED:20260421T143604Z
LAST-MODIFIED:20260421T143604Z
UID:10009355-1778112000-1778198399@stvincentferrer.net
SUMMARY:National Day of Prayer
DESCRIPTION:The National Day of Prayer is an annual day of observance designated by the United States Congress and held on the first Thursday of May\, when people are asked “to turn to God in prayer and meditation”. The president is required by law to sign a proclamation each year\, encouraging all Americans to pray on this day.
URL:https://stvincentferrer.net/event/national-day-of-prayer/
CATEGORIES:Adult Faith Formation,Christian Service,Healing Ministry,Miscellaneous,Worship
ATTACH;FMTTYPE=image/jpeg:https://stvincentferrer.net/wp-content/uploads/2026/04/National-Day-of-Prayer.jpg
END:VEVENT
BEGIN:VEVENT
DTSTART;TZID=America/Detroit:20260509T090000
DTEND;TZID=America/Detroit:20260509T100000
DTSTAMP:20260423T163758
CREATED:20260415T153153Z
LAST-MODIFIED:20260415T153153Z
UID:10009343-1778317200-1778320800@stvincentferrer.net
SUMMARY:CCSEM - Senior Food Collection
DESCRIPTION:
URL:https://stvincentferrer.net/event/ccsem-senior-food-collection-2/2026-05-09/
CATEGORIES:Christian Service
ATTACH;FMTTYPE=image/jpeg:https://stvincentferrer.net/wp-content/uploads/2021/07/senior-out-reach.jpeg
END:VEVENT
BEGIN:VEVENT
DTSTART;TZID=America/Detroit:20260510T090000
DTEND;TZID=America/Detroit:20260510T100000
DTSTAMP:20260423T163758
CREATED:20260415T153153Z
LAST-MODIFIED:20260415T153153Z
UID:10009344-1778403600-1778407200@stvincentferrer.net
SUMMARY:CCSEM - Senior Food Collection
DESCRIPTION:
URL:https://stvincentferrer.net/event/ccsem-senior-food-collection-2/2026-05-10/
CATEGORIES:Christian Service
ATTACH;FMTTYPE=image/jpeg:https://stvincentferrer.net/wp-content/uploads/2021/07/senior-out-reach.jpeg
END:VEVENT
BEGIN:VEVENT
DTSTART;TZID=America/Detroit:20260510T090000
DTEND;TZID=America/Detroit:20260510T100000
DTSTAMP:20260423T163758
CREATED:20260415T153412Z
LAST-MODIFIED:20260415T153412Z
UID:10009345-1778403600-1778407200@stvincentferrer.net
SUMMARY:Mother's Day
DESCRIPTION:
URL:https://stvincentferrer.net/event/mothers-day-2/
CATEGORIES:Adult Faith Formation,Christian Service,Miscellaneous
ATTACH;FMTTYPE=image/gif:https://stvincentferrer.net/wp-content/uploads/2025/05/Mothers-Day.gif
END:VEVENT
BEGIN:VEVENT
DTSTART;TZID=America/Detroit:20260512T180000
DTEND;TZID=America/Detroit:20260512T190000
DTSTAMP:20260423T163758
CREATED:20260415T153620Z
LAST-MODIFIED:20260415T153620Z
UID:10009346-1778608800-1778612400@stvincentferrer.net
SUMMARY:SVDP -  6pm in Church
DESCRIPTION:
URL:https://stvincentferrer.net/event/svdp-6pm-in-church-2/
CATEGORIES:Christian Service,Committee Meeting,Miscellaneous
ATTACH;FMTTYPE=image/jpeg:https://stvincentferrer.net/wp-content/uploads/2024/03/1453731561-logo-SVDP.jpg
END:VEVENT
BEGIN:VEVENT
DTSTART;TZID=America/Detroit:20260516T090000
DTEND;TZID=America/Detroit:20260516T110000
DTSTAMP:20260423T163758
CREATED:20251222T192228Z
LAST-MODIFIED:20251222T192416Z
UID:10009018-1778922000-1778929200@stvincentferrer.net
SUMMARY:Women's Sacred Journey
DESCRIPTION:Women’s Sacred Journey\nEvery other Saturday at 9:00am\nFaith Formation Office\nSVF School Bldg.\nWomen’s Sacred Journey group invites all\nwomen to join them in praying and reflecting on\nScripture passages. The gathering is every other\nSaturday. No registration or fee required.
URL:https://stvincentferrer.net/event/womens-sacred-journey-dec-27-2025-january-1024-feb-27/2026-05-16/
LOCATION:Faith Formation Office\, 1075 E. Gardenia\, Madison Heights\, MI\, United States
CATEGORIES:Adult Faith Formation,Christian Service,Miscellaneous
GEO:42.4991272;-83.0960313
X-APPLE-STRUCTURED-LOCATION;VALUE=URI;X-ADDRESS=Faith Formation Office 1075 E. Gardenia Madison Heights MI United States;X-APPLE-RADIUS=500;X-TITLE=1075 E. Gardenia:geo:-83.0960313,42.4991272
END:VEVENT
BEGIN:VEVENT
DTSTART;TZID=America/Detroit:20260517T100000
DTEND;TZID=America/Detroit:20260517T113000
DTSTAMP:20260423T163758
CREATED:20260415T154043Z
LAST-MODIFIED:20260415T154043Z
UID:10009347-1779012000-1779017400@stvincentferrer.net
SUMMARY:Coffee and Donuts Hospitality and Blood Pressure Checks after Mass
DESCRIPTION:
URL:https://stvincentferrer.net/event/coffee-and-donuts-hospitality-and-blood-pressure-checks-after-mass/
CATEGORIES:Christian Service,Miscellaneous
ATTACH;FMTTYPE=image/png:https://stvincentferrer.net/wp-content/uploads/2026/04/The-Parish-blood-pressure.png
END:VEVENT
BEGIN:VEVENT
DTSTART;TZID=America/Detroit:20260528T180000
DTEND;TZID=America/Detroit:20260528T210000
DTSTAMP:20260423T163758
CREATED:20260415T160132Z
LAST-MODIFIED:20260415T160132Z
UID:10009352-1779991200-1780002000@stvincentferrer.net
SUMMARY:Prayer Blanket & Card Making 6-9
DESCRIPTION:
URL:https://stvincentferrer.net/event/prayer-blanket-card-making-6-9/
LOCATION:Church Hall\, 28353 Herbert\, Madison Heights\, MI\, 48071
CATEGORIES:Christian Service,Committee Meeting,Miscellaneous
ATTACH;FMTTYPE=image/jpeg:https://stvincentferrer.net/wp-content/uploads/2012/01/BannerB.jpg
GEO:42.4992176;-83.0971204
X-APPLE-STRUCTURED-LOCATION;VALUE=URI;X-ADDRESS=Church Hall 28353 Herbert Madison Heights MI 48071;X-APPLE-RADIUS=500;X-TITLE=28353 Herbert:geo:-83.0971204,42.4992176
END:VEVENT
BEGIN:VEVENT
DTSTART;TZID=America/Detroit:20260530T090000
DTEND;TZID=America/Detroit:20260530T110000
DTSTAMP:20260423T163758
CREATED:20251222T192228Z
LAST-MODIFIED:20251222T192416Z
UID:10009019-1780131600-1780138800@stvincentferrer.net
SUMMARY:Women's Sacred Journey
DESCRIPTION:Women’s Sacred Journey\nEvery other Saturday at 9:00am\nFaith Formation Office\nSVF School Bldg.\nWomen’s Sacred Journey group invites all\nwomen to join them in praying and reflecting on\nScripture passages. The gathering is every other\nSaturday. No registration or fee required.
URL:https://stvincentferrer.net/event/womens-sacred-journey-dec-27-2025-january-1024-feb-27/2026-05-30/
LOCATION:Faith Formation Office\, 1075 E. Gardenia\, Madison Heights\, MI\, United States
CATEGORIES:Adult Faith Formation,Christian Service,Miscellaneous
GEO:42.4991272;-83.0960313
X-APPLE-STRUCTURED-LOCATION;VALUE=URI;X-ADDRESS=Faith Formation Office 1075 E. Gardenia Madison Heights MI United States;X-APPLE-RADIUS=500;X-TITLE=1075 E. Gardenia:geo:-83.0960313,42.4991272
END:VEVENT
END:VCALENDAR