BEGIN:VCALENDAR
VERSION:2.0
PRODID:-//St. Vincent Ferrer Catholic Church - ECPv6.15.20//NONSGML v1.0//EN
CALSCALE:GREGORIAN
METHOD:PUBLISH
X-ORIGINAL-URL:https://stvincentferrer.net
X-WR-CALDESC:Events for St. Vincent Ferrer Catholic Church
REFRESH-INTERVAL;VALUE=DURATION:PT1H
X-Robots-Tag:noindex
X-PUBLISHED-TTL:PT1H
BEGIN:VTIMEZONE
TZID:America/Detroit
BEGIN:DAYLIGHT
TZOFFSETFROM:-0500
TZOFFSETTO:-0400
TZNAME:EDT
DTSTART:20240310T070000
END:DAYLIGHT
BEGIN:STANDARD
TZOFFSETFROM:-0400
TZOFFSETTO:-0500
TZNAME:EST
DTSTART:20241103T060000
END:STANDARD
BEGIN:DAYLIGHT
TZOFFSETFROM:-0500
TZOFFSETTO:-0400
TZNAME:EDT
DTSTART:20250309T070000
END:DAYLIGHT
BEGIN:STANDARD
TZOFFSETFROM:-0400
TZOFFSETTO:-0500
TZNAME:EST
DTSTART:20251102T060000
END:STANDARD
BEGIN:DAYLIGHT
TZOFFSETFROM:-0500
TZOFFSETTO:-0400
TZNAME:EDT
DTSTART:20260308T070000
END:DAYLIGHT
BEGIN:STANDARD
TZOFFSETFROM:-0400
TZOFFSETTO:-0500
TZNAME:EST
DTSTART:20261101T060000
END:STANDARD
END:VTIMEZONE
BEGIN:VEVENT
DTSTART;TZID=America/Detroit:20251101T160000
DTEND;TZID=America/Detroit:20251101T170000
DTSTAMP:20260423T214930
CREATED:20251023T193832Z
LAST-MODIFIED:20251023T193832Z
UID:10008678-1762012800-1762016400@stvincentferrer.net
SUMMARY:Thanksgiving Food Collection - November 1st - November 16th
DESCRIPTION:Please bring your non-perishable food items to Church or drop off at the Parish Office.
URL:https://stvincentferrer.net/event/thanksgiving-food-collection-november-1st-november-16th/2025-11-01/
LOCATION:St. Vincent Ferrer Church\, 28353 Herbert\, Madison Heights\, MI\, 48071
CATEGORIES:Christian Service,Miscellaneous
GEO:42.4992176;-83.0971204
X-APPLE-STRUCTURED-LOCATION;VALUE=URI;X-ADDRESS=St. Vincent Ferrer Church 28353 Herbert Madison Heights MI 48071;X-APPLE-RADIUS=500;X-TITLE=28353 Herbert:geo:-83.0971204,42.4992176
END:VEVENT
BEGIN:VEVENT
DTSTART;TZID=America/Detroit:20251102T090000
DTEND;TZID=America/Detroit:20251102T100000
DTSTAMP:20260423T214930
CREATED:20251023T193832Z
LAST-MODIFIED:20251023T193832Z
UID:10008679-1762074000-1762077600@stvincentferrer.net
SUMMARY:Thanksgiving Food Collection - November 1st - November 16th
DESCRIPTION:Please bring your non-perishable food items to Church or drop off at the Parish Office.
URL:https://stvincentferrer.net/event/thanksgiving-food-collection-november-1st-november-16th/2025-11-02/
LOCATION:St. Vincent Ferrer Church\, 28353 Herbert\, Madison Heights\, MI\, 48071
CATEGORIES:Christian Service,Miscellaneous
GEO:42.4992176;-83.0971204
X-APPLE-STRUCTURED-LOCATION;VALUE=URI;X-ADDRESS=St. Vincent Ferrer Church 28353 Herbert Madison Heights MI 48071;X-APPLE-RADIUS=500;X-TITLE=28353 Herbert:geo:-83.0971204,42.4992176
END:VEVENT
BEGIN:VEVENT
DTSTART;TZID=America/Detroit:20251103T080000
DTEND;TZID=America/Detroit:20251103T163000
DTSTAMP:20260423T214930
CREATED:20251001T173719Z
LAST-MODIFIED:20251116T135945Z
UID:10008521-1762156800-1762187400@stvincentferrer.net
SUMMARY:Thanksgiving Food Collection
DESCRIPTION:Please drop off non-perishable food at church or the admin. office.\nSunday – 9am at church\nSaturday – 4pm at church\nMonday to Friday – Administration Office 9am – 4:30pm
URL:https://stvincentferrer.net/event/thanksgiving-food-collection/2025-11-03/
CATEGORIES:Christian Service,Miscellaneous
ATTACH;FMTTYPE=image/jpeg:https://stvincentferrer.net/wp-content/uploads/2021/10/thanksgiving-day.jpeg
END:VEVENT
BEGIN:VEVENT
DTSTART;TZID=America/Detroit:20251104T080000
DTEND;TZID=America/Detroit:20251104T163000
DTSTAMP:20260423T214930
CREATED:20251001T173719Z
LAST-MODIFIED:20251116T135945Z
UID:10008522-1762243200-1762273800@stvincentferrer.net
SUMMARY:Thanksgiving Food Collection
DESCRIPTION:Please drop off non-perishable food at church or the admin. office.\nSunday – 9am at church\nSaturday – 4pm at church\nMonday to Friday – Administration Office 9am – 4:30pm
URL:https://stvincentferrer.net/event/thanksgiving-food-collection/2025-11-04/
CATEGORIES:Christian Service,Miscellaneous
ATTACH;FMTTYPE=image/jpeg:https://stvincentferrer.net/wp-content/uploads/2021/10/thanksgiving-day.jpeg
END:VEVENT
BEGIN:VEVENT
DTSTART;TZID=America/Detroit:20251105T080000
DTEND;TZID=America/Detroit:20251105T163000
DTSTAMP:20260423T214930
CREATED:20251001T173719Z
LAST-MODIFIED:20251116T135945Z
UID:10008523-1762329600-1762360200@stvincentferrer.net
SUMMARY:Thanksgiving Food Collection
DESCRIPTION:Please drop off non-perishable food at church or the admin. office.\nSunday – 9am at church\nSaturday – 4pm at church\nMonday to Friday – Administration Office 9am – 4:30pm
URL:https://stvincentferrer.net/event/thanksgiving-food-collection/2025-11-05/
CATEGORIES:Christian Service,Miscellaneous
ATTACH;FMTTYPE=image/jpeg:https://stvincentferrer.net/wp-content/uploads/2021/10/thanksgiving-day.jpeg
END:VEVENT
BEGIN:VEVENT
DTSTART;TZID=America/Detroit:20251105T090000
DTEND;TZID=America/Detroit:20251105T113000
DTSTAMP:20260423T214930
CREATED:20250818T190444Z
LAST-MODIFIED:20251203T195121Z
UID:10008670-1762333200-1762342200@stvincentferrer.net
SUMMARY:The Holy Longing - Book Study
DESCRIPTION:
URL:https://stvincentferrer.net/event/the-holy-longing-book-study/2025-11-05/
CATEGORIES:Adult Faith Formation,Christian Service,Miscellaneous
END:VEVENT
BEGIN:VEVENT
DTSTART;TZID=America/Detroit:20251106T080000
DTEND;TZID=America/Detroit:20251106T163000
DTSTAMP:20260423T214930
CREATED:20251001T173719Z
LAST-MODIFIED:20251116T135945Z
UID:10008524-1762416000-1762446600@stvincentferrer.net
SUMMARY:Thanksgiving Food Collection
DESCRIPTION:Please drop off non-perishable food at church or the admin. office.\nSunday – 9am at church\nSaturday – 4pm at church\nMonday to Friday – Administration Office 9am – 4:30pm
URL:https://stvincentferrer.net/event/thanksgiving-food-collection/2025-11-06/
CATEGORIES:Christian Service,Miscellaneous
ATTACH;FMTTYPE=image/jpeg:https://stvincentferrer.net/wp-content/uploads/2021/10/thanksgiving-day.jpeg
END:VEVENT
BEGIN:VEVENT
DTSTART;TZID=America/Detroit:20251107T080000
DTEND;TZID=America/Detroit:20251107T163000
DTSTAMP:20260423T214930
CREATED:20251001T173719Z
LAST-MODIFIED:20251116T135945Z
UID:10008525-1762502400-1762533000@stvincentferrer.net
SUMMARY:Thanksgiving Food Collection
DESCRIPTION:Please drop off non-perishable food at church or the admin. office.\nSunday – 9am at church\nSaturday – 4pm at church\nMonday to Friday – Administration Office 9am – 4:30pm
URL:https://stvincentferrer.net/event/thanksgiving-food-collection/2025-11-07/
CATEGORIES:Christian Service,Miscellaneous
ATTACH;FMTTYPE=image/jpeg:https://stvincentferrer.net/wp-content/uploads/2021/10/thanksgiving-day.jpeg
END:VEVENT
BEGIN:VEVENT
DTSTART;TZID=America/Detroit:20251108T160000
DTEND;TZID=America/Detroit:20251108T170000
DTSTAMP:20260423T214930
CREATED:20251023T193832Z
LAST-MODIFIED:20251023T193832Z
UID:10008680-1762617600-1762621200@stvincentferrer.net
SUMMARY:Thanksgiving Food Collection - November 1st - November 16th
DESCRIPTION:Please bring your non-perishable food items to Church or drop off at the Parish Office.
URL:https://stvincentferrer.net/event/thanksgiving-food-collection-november-1st-november-16th/2025-11-08/
LOCATION:St. Vincent Ferrer Church\, 28353 Herbert\, Madison Heights\, MI\, 48071
CATEGORIES:Christian Service,Miscellaneous
GEO:42.4992176;-83.0971204
X-APPLE-STRUCTURED-LOCATION;VALUE=URI;X-ADDRESS=St. Vincent Ferrer Church 28353 Herbert Madison Heights MI 48071;X-APPLE-RADIUS=500;X-TITLE=28353 Herbert:geo:-83.0971204,42.4992176
END:VEVENT
BEGIN:VEVENT
DTSTART;TZID=America/Detroit:20251109T090000
DTEND;TZID=America/Detroit:20251109T100000
DTSTAMP:20260423T214930
CREATED:20251023T193832Z
LAST-MODIFIED:20251023T193832Z
UID:10008681-1762678800-1762682400@stvincentferrer.net
SUMMARY:Thanksgiving Food Collection - November 1st - November 16th
DESCRIPTION:Please bring your non-perishable food items to Church or drop off at the Parish Office.
URL:https://stvincentferrer.net/event/thanksgiving-food-collection-november-1st-november-16th/2025-11-09/
LOCATION:St. Vincent Ferrer Church\, 28353 Herbert\, Madison Heights\, MI\, 48071
CATEGORIES:Christian Service,Miscellaneous
GEO:42.4992176;-83.0971204
X-APPLE-STRUCTURED-LOCATION;VALUE=URI;X-ADDRESS=St. Vincent Ferrer Church 28353 Herbert Madison Heights MI 48071;X-APPLE-RADIUS=500;X-TITLE=28353 Herbert:geo:-83.0971204,42.4992176
END:VEVENT
BEGIN:VEVENT
DTSTART;TZID=America/Detroit:20251109T100000
DTEND;TZID=America/Detroit:20251109T120000
DTSTAMP:20260423T214930
CREATED:20251001T175205Z
LAST-MODIFIED:20260107T150540Z
UID:10008541-1762682400-1762689600@stvincentferrer.net
SUMMARY:Coffee and Donuts / Blood Pressure Checks
DESCRIPTION:
URL:https://stvincentferrer.net/event/coffee-and-donuts-blood-pressure-checks-4/2025-11-09/
CATEGORIES:Christian Service,Miscellaneous
ATTACH;FMTTYPE=application/pdf:https://stvincentferrer.net/wp-content/uploads/2025/10/coffee-and-donuts-1.pdf
END:VEVENT
BEGIN:VEVENT
DTSTART;TZID=America/Detroit:20251110T080000
DTEND;TZID=America/Detroit:20251110T163000
DTSTAMP:20260423T214930
CREATED:20251001T173719Z
LAST-MODIFIED:20251116T135945Z
UID:10008528-1762761600-1762792200@stvincentferrer.net
SUMMARY:Thanksgiving Food Collection
DESCRIPTION:Please drop off non-perishable food at church or the admin. office.\nSunday – 9am at church\nSaturday – 4pm at church\nMonday to Friday – Administration Office 9am – 4:30pm
URL:https://stvincentferrer.net/event/thanksgiving-food-collection/2025-11-10/
CATEGORIES:Christian Service,Miscellaneous
ATTACH;FMTTYPE=image/jpeg:https://stvincentferrer.net/wp-content/uploads/2021/10/thanksgiving-day.jpeg
END:VEVENT
BEGIN:VEVENT
DTSTART;TZID=America/Detroit:20251111T080000
DTEND;TZID=America/Detroit:20251111T163000
DTSTAMP:20260423T214930
CREATED:20251001T173719Z
LAST-MODIFIED:20251116T135945Z
UID:10008529-1762848000-1762878600@stvincentferrer.net
SUMMARY:Thanksgiving Food Collection
DESCRIPTION:Please drop off non-perishable food at church or the admin. office.\nSunday – 9am at church\nSaturday – 4pm at church\nMonday to Friday – Administration Office 9am – 4:30pm
URL:https://stvincentferrer.net/event/thanksgiving-food-collection/2025-11-11/
CATEGORIES:Christian Service,Miscellaneous
ATTACH;FMTTYPE=image/jpeg:https://stvincentferrer.net/wp-content/uploads/2021/10/thanksgiving-day.jpeg
END:VEVENT
BEGIN:VEVENT
DTSTART;TZID=America/Detroit:20251111T180000
DTEND;TZID=America/Detroit:20251111T190000
DTSTAMP:20260423T214930
CREATED:20251111T142738Z
LAST-MODIFIED:20251111T144234Z
UID:10008685-1762884000-1762887600@stvincentferrer.net
SUMMARY:SVDP - 6pm Church
DESCRIPTION:  \nAnyone with a compassionate interest in helping those\nin need is welcome to attend the meeting.\n 
URL:https://stvincentferrer.net/event/svdp-6pm-church-2/
LOCATION:St. Vincent Ferrer Church\, 28353 Herbert\, Madison Heights\, MI\, 48071
CATEGORIES:Christian Service,Committee Meeting,Miscellaneous
ATTACH;FMTTYPE=image/jpeg:https://stvincentferrer.net/wp-content/uploads/2024/03/1453731561-logo-SVDP.jpg
GEO:42.4992176;-83.0971204
X-APPLE-STRUCTURED-LOCATION;VALUE=URI;X-ADDRESS=St. Vincent Ferrer Church 28353 Herbert Madison Heights MI 48071;X-APPLE-RADIUS=500;X-TITLE=28353 Herbert:geo:-83.0971204,42.4992176
END:VEVENT
BEGIN:VEVENT
DTSTART;TZID=America/Detroit:20251112T080000
DTEND;TZID=America/Detroit:20251112T163000
DTSTAMP:20260423T214930
CREATED:20251001T173719Z
LAST-MODIFIED:20251116T135945Z
UID:10008530-1762934400-1762965000@stvincentferrer.net
SUMMARY:Thanksgiving Food Collection
DESCRIPTION:Please drop off non-perishable food at church or the admin. office.\nSunday – 9am at church\nSaturday – 4pm at church\nMonday to Friday – Administration Office 9am – 4:30pm
URL:https://stvincentferrer.net/event/thanksgiving-food-collection/2025-11-12/
CATEGORIES:Christian Service,Miscellaneous
ATTACH;FMTTYPE=image/jpeg:https://stvincentferrer.net/wp-content/uploads/2021/10/thanksgiving-day.jpeg
END:VEVENT
BEGIN:VEVENT
DTSTART;TZID=America/Detroit:20251112T090000
DTEND;TZID=America/Detroit:20251112T113000
DTSTAMP:20260423T214930
CREATED:20250818T190444Z
LAST-MODIFIED:20251203T195121Z
UID:10008671-1762938000-1762947000@stvincentferrer.net
SUMMARY:The Holy Longing - Book Study
DESCRIPTION:
URL:https://stvincentferrer.net/event/the-holy-longing-book-study/2025-11-12/
CATEGORIES:Adult Faith Formation,Christian Service,Miscellaneous
END:VEVENT
BEGIN:VEVENT
DTSTART;TZID=America/Detroit:20251113T080000
DTEND;TZID=America/Detroit:20251113T163000
DTSTAMP:20260423T214930
CREATED:20251001T173719Z
LAST-MODIFIED:20251116T135945Z
UID:10008531-1763020800-1763051400@stvincentferrer.net
SUMMARY:Thanksgiving Food Collection
DESCRIPTION:Please drop off non-perishable food at church or the admin. office.\nSunday – 9am at church\nSaturday – 4pm at church\nMonday to Friday – Administration Office 9am – 4:30pm
URL:https://stvincentferrer.net/event/thanksgiving-food-collection/2025-11-13/
CATEGORIES:Christian Service,Miscellaneous
ATTACH;FMTTYPE=image/jpeg:https://stvincentferrer.net/wp-content/uploads/2021/10/thanksgiving-day.jpeg
END:VEVENT
BEGIN:VEVENT
DTSTART;TZID=America/Detroit:20251114T080000
DTEND;TZID=America/Detroit:20251114T163000
DTSTAMP:20260423T214930
CREATED:20251001T173719Z
LAST-MODIFIED:20251116T135945Z
UID:10008532-1763107200-1763137800@stvincentferrer.net
SUMMARY:Thanksgiving Food Collection
DESCRIPTION:Please drop off non-perishable food at church or the admin. office.\nSunday – 9am at church\nSaturday – 4pm at church\nMonday to Friday – Administration Office 9am – 4:30pm
URL:https://stvincentferrer.net/event/thanksgiving-food-collection/2025-11-14/
CATEGORIES:Christian Service,Miscellaneous
ATTACH;FMTTYPE=image/jpeg:https://stvincentferrer.net/wp-content/uploads/2021/10/thanksgiving-day.jpeg
END:VEVENT
BEGIN:VEVENT
DTSTART;TZID=America/Detroit:20251115T160000
DTEND;TZID=America/Detroit:20251115T170000
DTSTAMP:20260423T214930
CREATED:20251023T193832Z
LAST-MODIFIED:20251023T193832Z
UID:10008682-1763222400-1763226000@stvincentferrer.net
SUMMARY:Thanksgiving Food Collection - November 1st - November 16th
DESCRIPTION:Please bring your non-perishable food items to Church or drop off at the Parish Office.
URL:https://stvincentferrer.net/event/thanksgiving-food-collection-november-1st-november-16th/2025-11-15/
LOCATION:St. Vincent Ferrer Church\, 28353 Herbert\, Madison Heights\, MI\, 48071
CATEGORIES:Christian Service,Miscellaneous
GEO:42.4992176;-83.0971204
X-APPLE-STRUCTURED-LOCATION;VALUE=URI;X-ADDRESS=St. Vincent Ferrer Church 28353 Herbert Madison Heights MI 48071;X-APPLE-RADIUS=500;X-TITLE=28353 Herbert:geo:-83.0971204,42.4992176
END:VEVENT
BEGIN:VEVENT
DTSTART;TZID=America/Detroit:20251116T090000
DTEND;TZID=America/Detroit:20251116T100000
DTSTAMP:20260423T214930
CREATED:20251023T193832Z
LAST-MODIFIED:20251023T193832Z
UID:10008683-1763283600-1763287200@stvincentferrer.net
SUMMARY:Thanksgiving Food Collection - November 1st - November 16th
DESCRIPTION:Please bring your non-perishable food items to Church or drop off at the Parish Office.
URL:https://stvincentferrer.net/event/thanksgiving-food-collection-november-1st-november-16th/2025-11-16/
LOCATION:St. Vincent Ferrer Church\, 28353 Herbert\, Madison Heights\, MI\, 48071
CATEGORIES:Christian Service,Miscellaneous
GEO:42.4992176;-83.0971204
X-APPLE-STRUCTURED-LOCATION;VALUE=URI;X-ADDRESS=St. Vincent Ferrer Church 28353 Herbert Madison Heights MI 48071;X-APPLE-RADIUS=500;X-TITLE=28353 Herbert:geo:-83.0971204,42.4992176
END:VEVENT
BEGIN:VEVENT
DTSTART;TZID=America/Detroit:20251120T180000
DTEND;TZID=America/Detroit:20251120T210000
DTSTAMP:20260423T214930
CREATED:20251001T174711Z
LAST-MODIFIED:20251001T174711Z
UID:10008540-1763661600-1763672400@stvincentferrer.net
SUMMARY:Prayer Blanket & Card Making
DESCRIPTION:
URL:https://stvincentferrer.net/event/prayer-blanket-card-making-2/
LOCATION:School Building\, 1075 E. Gardenia\, Madison Heights\, MI\, 48071\, United States
CATEGORIES:Christian Service,Miscellaneous
ATTACH;FMTTYPE=image/jpeg:https://stvincentferrer.net/wp-content/uploads/2022/01/blanket.jpg
GEO:42.4991272;-83.0960313
X-APPLE-STRUCTURED-LOCATION;VALUE=URI;X-ADDRESS=School Building 1075 E. Gardenia Madison Heights MI 48071 United States;X-APPLE-RADIUS=500;X-TITLE=1075 E. Gardenia:geo:-83.0960313,42.4991272
END:VEVENT
BEGIN:VEVENT
DTSTART;TZID=America/Detroit:20251126T090000
DTEND;TZID=America/Detroit:20251126T113000
DTSTAMP:20260423T214930
CREATED:20250818T190444Z
LAST-MODIFIED:20251203T195121Z
UID:10008672-1764147600-1764156600@stvincentferrer.net
SUMMARY:The Holy Longing - Book Study
DESCRIPTION:
URL:https://stvincentferrer.net/event/the-holy-longing-book-study/2025-11-26/
CATEGORIES:Adult Faith Formation,Christian Service,Miscellaneous
END:VEVENT
END:VCALENDAR