BEGIN:VCALENDAR
VERSION:2.0
PRODID:-//St. Vincent Ferrer Catholic Church - ECPv6.15.20//NONSGML v1.0//EN
CALSCALE:GREGORIAN
METHOD:PUBLISH
X-ORIGINAL-URL:https://stvincentferrer.net
X-WR-CALDESC:Events for St. Vincent Ferrer Catholic Church
REFRESH-INTERVAL;VALUE=DURATION:PT1H
X-Robots-Tag:noindex
X-PUBLISHED-TTL:PT1H
BEGIN:VTIMEZONE
TZID:America/Detroit
BEGIN:DAYLIGHT
TZOFFSETFROM:-0500
TZOFFSETTO:-0400
TZNAME:EDT
DTSTART:20240310T070000
END:DAYLIGHT
BEGIN:STANDARD
TZOFFSETFROM:-0400
TZOFFSETTO:-0500
TZNAME:EST
DTSTART:20241103T060000
END:STANDARD
BEGIN:DAYLIGHT
TZOFFSETFROM:-0500
TZOFFSETTO:-0400
TZNAME:EDT
DTSTART:20250309T070000
END:DAYLIGHT
BEGIN:STANDARD
TZOFFSETFROM:-0400
TZOFFSETTO:-0500
TZNAME:EST
DTSTART:20251102T060000
END:STANDARD
BEGIN:DAYLIGHT
TZOFFSETFROM:-0500
TZOFFSETTO:-0400
TZNAME:EDT
DTSTART:20260308T070000
END:DAYLIGHT
BEGIN:STANDARD
TZOFFSETFROM:-0400
TZOFFSETTO:-0500
TZNAME:EST
DTSTART:20261101T060000
END:STANDARD
END:VTIMEZONE
BEGIN:VEVENT
DTSTART;TZID=America/Detroit:20250914T100000
DTEND;TZID=America/Detroit:20250914T110000
DTSTAMP:20260424T030736
CREATED:20250812T160643Z
LAST-MODIFIED:20250812T160643Z
UID:10008497-1757844000-1757847600@stvincentferrer.net
SUMMARY:Coffee and Donuts / Blood Pressure Checks
DESCRIPTION:
URL:https://stvincentferrer.net/event/coffee-and-donuts-blood-pressure-checks-3/
CATEGORIES:Christian Service
ATTACH;FMTTYPE=image/jpeg:https://stvincentferrer.net/wp-content/uploads/2022/12/coffee-and-donuts.jpg
END:VEVENT
BEGIN:VEVENT
DTSTART;TZID=America/Detroit:20250917T090000
DTEND;TZID=America/Detroit:20250917T113000
DTSTAMP:20260424T030736
CREATED:20250818T190444Z
LAST-MODIFIED:20251203T195121Z
UID:10008500-1758099600-1758108600@stvincentferrer.net
SUMMARY:The Holy Longing - Book Study
DESCRIPTION:
URL:https://stvincentferrer.net/event/the-holy-longing-book-study/2025-09-17/
CATEGORIES:Adult Faith Formation,Christian Service,Miscellaneous
END:VEVENT
BEGIN:VEVENT
DTSTART;TZID=America/Detroit:20250924T090000
DTEND;TZID=America/Detroit:20250924T113000
DTSTAMP:20260424T030736
CREATED:20250818T190444Z
LAST-MODIFIED:20251203T195121Z
UID:10008501-1758704400-1758713400@stvincentferrer.net
SUMMARY:The Holy Longing - Book Study
DESCRIPTION:
URL:https://stvincentferrer.net/event/the-holy-longing-book-study/2025-09-24/
CATEGORIES:Adult Faith Formation,Christian Service,Miscellaneous
END:VEVENT
BEGIN:VEVENT
DTSTART;TZID=America/Detroit:20250925T180000
DTEND;TZID=America/Detroit:20250925T210000
DTSTAMP:20260424T030736
CREATED:20250818T171417Z
LAST-MODIFIED:20250818T185428Z
UID:10008387-1758823200-1758834000@stvincentferrer.net
SUMMARY:Prayer Blanket  6 - 9 pm\, In Church Hall
DESCRIPTION:
URL:https://stvincentferrer.net/event/prayer-blanket-6-9-pm-in-church-hall/
CATEGORIES:Christian Service,Miscellaneous
ATTACH;FMTTYPE=image/jpeg:https://stvincentferrer.net/wp-content/uploads/2023/10/2-blanket-prayer-scaled.jpg
END:VEVENT
END:VCALENDAR