BEGIN:VCALENDAR
VERSION:2.0
PRODID:-//St. Vincent Ferrer Catholic Church - ECPv6.15.20//NONSGML v1.0//EN
CALSCALE:GREGORIAN
METHOD:PUBLISH
X-WR-CALNAME:St. Vincent Ferrer Catholic Church
X-ORIGINAL-URL:https://stvincentferrer.net
X-WR-CALDESC:Events for St. Vincent Ferrer Catholic Church
REFRESH-INTERVAL;VALUE=DURATION:PT1H
X-Robots-Tag:noindex
X-PUBLISHED-TTL:PT1H
BEGIN:VTIMEZONE
TZID:America/Detroit
BEGIN:DAYLIGHT
TZOFFSETFROM:-0500
TZOFFSETTO:-0400
TZNAME:EDT
DTSTART:20240310T070000
END:DAYLIGHT
BEGIN:STANDARD
TZOFFSETFROM:-0400
TZOFFSETTO:-0500
TZNAME:EST
DTSTART:20241103T060000
END:STANDARD
BEGIN:DAYLIGHT
TZOFFSETFROM:-0500
TZOFFSETTO:-0400
TZNAME:EDT
DTSTART:20250309T070000
END:DAYLIGHT
BEGIN:STANDARD
TZOFFSETFROM:-0400
TZOFFSETTO:-0500
TZNAME:EST
DTSTART:20251102T060000
END:STANDARD
BEGIN:DAYLIGHT
TZOFFSETFROM:-0500
TZOFFSETTO:-0400
TZNAME:EDT
DTSTART:20260308T070000
END:DAYLIGHT
BEGIN:STANDARD
TZOFFSETFROM:-0400
TZOFFSETTO:-0500
TZNAME:EST
DTSTART:20261101T060000
END:STANDARD
END:VTIMEZONE
BEGIN:VEVENT
DTSTART;TZID=America/Detroit:20250806T130000
DTEND;TZID=America/Detroit:20250806T150000
DTSTAMP:20260424T030133
CREATED:20250731T161115Z
LAST-MODIFIED:20250731T161908Z
UID:10008493-1754485200-1754492400@stvincentferrer.net
SUMMARY:Chosen 1-3pm
DESCRIPTION:
URL:https://stvincentferrer.net/event/chosen-1-3pm-2/
LOCATION:Hall Administration Building\, 28353 Herbert\, Madison Heights\, MI\, 48071
CATEGORIES:Christian Service,Miscellaneous
GEO:42.4992176;-83.0971204
X-APPLE-STRUCTURED-LOCATION;VALUE=URI;X-ADDRESS=Hall Administration Building 28353 Herbert Madison Heights MI 48071;X-APPLE-RADIUS=500;X-TITLE=28353 Herbert:geo:-83.0971204,42.4992176
END:VEVENT
BEGIN:VEVENT
DTSTART;TZID=America/Detroit:20250809T090000
DTEND;TZID=America/Detroit:20250809T100000
DTSTAMP:20260424T030133
CREATED:20250731T144133Z
LAST-MODIFIED:20250731T144133Z
UID:10008490-1754730000-1754733600@stvincentferrer.net
SUMMARY:Senior Food Collection
DESCRIPTION:Senior Food Drive
URL:https://stvincentferrer.net/event/senior-food-collection-3/
CATEGORIES:Christian Service,Miscellaneous
ATTACH;FMTTYPE=image/jpeg:https://stvincentferrer.net/wp-content/uploads/2021/07/senior-out-reach.jpeg
END:VEVENT
BEGIN:VEVENT
DTSTART;TZID=America/Detroit:20250810T090000
DTEND;TZID=America/Detroit:20250810T100000
DTSTAMP:20260424T030133
CREATED:20250731T150534Z
LAST-MODIFIED:20250731T150534Z
UID:10008491-1754816400-1754820000@stvincentferrer.net
SUMMARY:Senior Food Collection
DESCRIPTION:
URL:https://stvincentferrer.net/event/senior-food-collection-4/
CATEGORIES:Christian Service,Miscellaneous
END:VEVENT
BEGIN:VEVENT
DTSTART;TZID=America/Detroit:20250810T100000
DTEND;TZID=America/Detroit:20250810T113000
DTSTAMP:20260424T030133
CREATED:20250701T130427Z
LAST-MODIFIED:20250701T130427Z
UID:10008482-1754820000-1754825400@stvincentferrer.net
SUMMARY:Coffee and Donuts
DESCRIPTION:
URL:https://stvincentferrer.net/event/coffee-and-donuts-20/
CATEGORIES:Christian Service
ATTACH;FMTTYPE=image/jpeg:https://stvincentferrer.net/wp-content/uploads/2017/03/coffee-and-donuts-clipart-coffeedonut.jpg
END:VEVENT
BEGIN:VEVENT
DTSTART;TZID=America/Detroit:20250810T100000
DTEND;TZID=America/Detroit:20250810T113000
DTSTAMP:20260424T030133
CREATED:20250701T130921Z
LAST-MODIFIED:20250701T130953Z
UID:10008483-1754820000-1754825400@stvincentferrer.net
SUMMARY:Blood Pressure Checks
DESCRIPTION:
URL:https://stvincentferrer.net/event/blood-pressure-checks-24/
CATEGORIES:Christian Service,Miscellaneous
ATTACH;FMTTYPE=image/jpeg:https://stvincentferrer.net/wp-content/uploads/2022/12/blood-pressure.jpg
END:VEVENT
BEGIN:VEVENT
DTSTART;TZID=America/Detroit:20250813T130000
DTEND;TZID=America/Detroit:20250813T150000
DTSTAMP:20260424T030133
CREATED:20250731T160904Z
LAST-MODIFIED:20250731T161553Z
UID:10008492-1755090000-1755097200@stvincentferrer.net
SUMMARY:Chosen 1 -3pm
DESCRIPTION:
URL:https://stvincentferrer.net/event/chosen-1-3pm/
LOCATION:Hall Administration Building\, 28353 Herbert\, Madison Heights\, MI\, 48071
CATEGORIES:Christian Service,Miscellaneous
GEO:42.4992176;-83.0971204
X-APPLE-STRUCTURED-LOCATION;VALUE=URI;X-ADDRESS=Hall Administration Building 28353 Herbert Madison Heights MI 48071;X-APPLE-RADIUS=500;X-TITLE=28353 Herbert:geo:-83.0971204,42.4992176
END:VEVENT
BEGIN:VEVENT
DTSTART;TZID=America/Detroit:20250820T130000
DTEND;TZID=America/Detroit:20250820T150000
DTSTAMP:20260424T030134
CREATED:20250731T161415Z
LAST-MODIFIED:20250731T161415Z
UID:10008494-1755694800-1755702000@stvincentferrer.net
SUMMARY:The Chosen
DESCRIPTION:
URL:https://stvincentferrer.net/event/the-chosen/
LOCATION:Hall Administration Building\, 28353 Herbert\, Madison Heights\, MI\, 48071
CATEGORIES:Christian Service,Miscellaneous
GEO:42.4992176;-83.0971204
X-APPLE-STRUCTURED-LOCATION;VALUE=URI;X-ADDRESS=Hall Administration Building 28353 Herbert Madison Heights MI 48071;X-APPLE-RADIUS=500;X-TITLE=28353 Herbert:geo:-83.0971204,42.4992176
END:VEVENT
END:VCALENDAR