BEGIN:VCALENDAR
VERSION:2.0
PRODID:-//St. Vincent Ferrer Catholic Church - ECPv6.15.20//NONSGML v1.0//EN
CALSCALE:GREGORIAN
METHOD:PUBLISH
X-ORIGINAL-URL:https://stvincentferrer.net
X-WR-CALDESC:Events for St. Vincent Ferrer Catholic Church
REFRESH-INTERVAL;VALUE=DURATION:PT1H
X-Robots-Tag:noindex
X-PUBLISHED-TTL:PT1H
BEGIN:VTIMEZONE
TZID:America/Detroit
BEGIN:DAYLIGHT
TZOFFSETFROM:-0500
TZOFFSETTO:-0400
TZNAME:EDT
DTSTART:20240310T070000
END:DAYLIGHT
BEGIN:STANDARD
TZOFFSETFROM:-0400
TZOFFSETTO:-0500
TZNAME:EST
DTSTART:20241103T060000
END:STANDARD
BEGIN:DAYLIGHT
TZOFFSETFROM:-0500
TZOFFSETTO:-0400
TZNAME:EDT
DTSTART:20250309T070000
END:DAYLIGHT
BEGIN:STANDARD
TZOFFSETFROM:-0400
TZOFFSETTO:-0500
TZNAME:EST
DTSTART:20251102T060000
END:STANDARD
BEGIN:DAYLIGHT
TZOFFSETFROM:-0500
TZOFFSETTO:-0400
TZNAME:EDT
DTSTART:20260308T070000
END:DAYLIGHT
BEGIN:STANDARD
TZOFFSETFROM:-0400
TZOFFSETTO:-0500
TZNAME:EST
DTSTART:20261101T060000
END:STANDARD
END:VTIMEZONE
BEGIN:VEVENT
DTSTART;TZID=America/Detroit:20250205T090000
DTEND;TZID=America/Detroit:20250205T110000
DTSTAMP:20260424T133145
CREATED:20250115T200122Z
LAST-MODIFIED:20250115T200123Z
UID:10005951-1738746000-1738753200@stvincentferrer.net
SUMMARY:Breakfast Book Study - Desiring  God's Will - Wednesdays 9am
DESCRIPTION:
URL:https://stvincentferrer.net/event/breakfast-book-study-desiring-gods-will-wednesdays-9am-2/2025-02-05/
CATEGORIES:Adult Faith Formation,Christian Service,Miscellaneous
ORGANIZER;CN="Deborah Tourville":MAILTO:debbie@stvincentferrer.net
END:VEVENT
BEGIN:VEVENT
DTSTART;TZID=America/Detroit:20250209T100000
DTEND;TZID=America/Detroit:20250209T113000
DTSTAMP:20260424T133145
CREATED:20250103T150359Z
LAST-MODIFIED:20250103T150407Z
UID:10005942-1739095200-1739100600@stvincentferrer.net
SUMMARY:Coffee & Donuts
DESCRIPTION:
URL:https://stvincentferrer.net/event/coffee-donuts-9/
LOCATION:Church Hall\, 28353 Herbert\, Madison Heights\, MI\, 48071
CATEGORIES:Christian Service,Miscellaneous
ATTACH;FMTTYPE=image/jpeg:https://stvincentferrer.net/wp-content/uploads/2017/03/coffee-and-donuts-clipart-coffeedonut.jpg
GEO:42.4992176;-83.0971204
X-APPLE-STRUCTURED-LOCATION;VALUE=URI;X-ADDRESS=Church Hall 28353 Herbert Madison Heights MI 48071;X-APPLE-RADIUS=500;X-TITLE=28353 Herbert:geo:-83.0971204,42.4992176
END:VEVENT
BEGIN:VEVENT
DTSTART;TZID=America/Detroit:20250209T100000
DTEND;TZID=America/Detroit:20250209T113000
DTSTAMP:20260424T133145
CREATED:20250103T150621Z
LAST-MODIFIED:20250103T155820Z
UID:10005943-1739095200-1739100600@stvincentferrer.net
SUMMARY:Blood Pressure Checks
DESCRIPTION:
URL:https://stvincentferrer.net/event/blood-pressure-checks-21/
LOCATION:Church Hall\, 28353 Herbert\, Madison Heights\, MI\, 48071
CATEGORIES:Christian Service
ATTACH;FMTTYPE=image/jpeg:https://stvincentferrer.net/wp-content/uploads/2017/03/BloodPressure_heart.jpg
GEO:42.4992176;-83.0971204
X-APPLE-STRUCTURED-LOCATION;VALUE=URI;X-ADDRESS=Church Hall 28353 Herbert Madison Heights MI 48071;X-APPLE-RADIUS=500;X-TITLE=28353 Herbert:geo:-83.0971204,42.4992176
END:VEVENT
BEGIN:VEVENT
DTSTART;TZID=America/Detroit:20250212T090000
DTEND;TZID=America/Detroit:20250212T110000
DTSTAMP:20260424T133145
CREATED:20250115T200122Z
LAST-MODIFIED:20250115T200123Z
UID:10005952-1739350800-1739358000@stvincentferrer.net
SUMMARY:Breakfast Book Study - Desiring  God's Will - Wednesdays 9am
DESCRIPTION:
URL:https://stvincentferrer.net/event/breakfast-book-study-desiring-gods-will-wednesdays-9am-2/2025-02-12/
CATEGORIES:Adult Faith Formation,Christian Service,Miscellaneous
ORGANIZER;CN="Deborah Tourville":MAILTO:debbie@stvincentferrer.net
END:VEVENT
BEGIN:VEVENT
DTSTART;TZID=America/Detroit:20250215T160000
DTEND;TZID=America/Detroit:20250215T170000
DTSTAMP:20260424T133145
CREATED:20250120T150432Z
LAST-MODIFIED:20250120T150432Z
UID:10006022-1739635200-1739638800@stvincentferrer.net
SUMMARY:Baby Shower - February 15 &16
DESCRIPTION:
URL:https://stvincentferrer.net/event/baby-shower-february-15-16/2025-02-15/
LOCATION:St. Vincent Ferrer Church\, 28353 Herbert\, Madison Heights\, MI\, 48071
CATEGORIES:Christian Service,Miscellaneous
GEO:42.4992176;-83.0971204
X-APPLE-STRUCTURED-LOCATION;VALUE=URI;X-ADDRESS=St. Vincent Ferrer Church 28353 Herbert Madison Heights MI 48071;X-APPLE-RADIUS=500;X-TITLE=28353 Herbert:geo:-83.0971204,42.4992176
END:VEVENT
BEGIN:VEVENT
DTSTART;TZID=America/Detroit:20250216T090000
DTEND;TZID=America/Detroit:20250216T100000
DTSTAMP:20260424T133145
CREATED:20250120T150432Z
LAST-MODIFIED:20250120T150432Z
UID:10006023-1739696400-1739700000@stvincentferrer.net
SUMMARY:Baby Shower - February 15 &16
DESCRIPTION:
URL:https://stvincentferrer.net/event/baby-shower-february-15-16/2025-02-16/
LOCATION:St. Vincent Ferrer Church\, 28353 Herbert\, Madison Heights\, MI\, 48071
CATEGORIES:Christian Service,Miscellaneous
GEO:42.4992176;-83.0971204
X-APPLE-STRUCTURED-LOCATION;VALUE=URI;X-ADDRESS=St. Vincent Ferrer Church 28353 Herbert Madison Heights MI 48071;X-APPLE-RADIUS=500;X-TITLE=28353 Herbert:geo:-83.0971204,42.4992176
END:VEVENT
BEGIN:VEVENT
DTSTART;TZID=America/Detroit:20250219T090000
DTEND;TZID=America/Detroit:20250219T110000
DTSTAMP:20260424T133145
CREATED:20250115T200122Z
LAST-MODIFIED:20250115T200123Z
UID:10005953-1739955600-1739962800@stvincentferrer.net
SUMMARY:Breakfast Book Study - Desiring  God's Will - Wednesdays 9am
DESCRIPTION:
URL:https://stvincentferrer.net/event/breakfast-book-study-desiring-gods-will-wednesdays-9am-2/2025-02-19/
CATEGORIES:Adult Faith Formation,Christian Service,Miscellaneous
ORGANIZER;CN="Deborah Tourville":MAILTO:debbie@stvincentferrer.net
END:VEVENT
BEGIN:VEVENT
DTSTART;TZID=America/Detroit:20250226T090000
DTEND;TZID=America/Detroit:20250226T110000
DTSTAMP:20260424T133145
CREATED:20250115T200122Z
LAST-MODIFIED:20250115T200123Z
UID:10005954-1740560400-1740567600@stvincentferrer.net
SUMMARY:Breakfast Book Study - Desiring  God's Will - Wednesdays 9am
DESCRIPTION:
URL:https://stvincentferrer.net/event/breakfast-book-study-desiring-gods-will-wednesdays-9am-2/2025-02-26/
CATEGORIES:Adult Faith Formation,Christian Service,Miscellaneous
ORGANIZER;CN="Deborah Tourville":MAILTO:debbie@stvincentferrer.net
END:VEVENT
BEGIN:VEVENT
DTSTART;TZID=America/Detroit:20250227T180000
DTEND;TZID=America/Detroit:20250227T210000
DTSTAMP:20260424T133145
CREATED:20250103T151308Z
LAST-MODIFIED:20250103T151308Z
UID:10005945-1740679200-1740690000@stvincentferrer.net
SUMMARY:Prayer Blanket & Card Making
DESCRIPTION:kee
URL:https://stvincentferrer.net/event/prayer-blanket-card-making/
LOCATION:Church Hall\, 28353 Herbert\, Madison Heights\, MI\, 48071
CATEGORIES:Christian Service,Healing Ministry
ATTACH;FMTTYPE=image/jpeg:https://stvincentferrer.net/wp-content/uploads/2022/01/blanket.jpg
GEO:42.4992176;-83.0971204
X-APPLE-STRUCTURED-LOCATION;VALUE=URI;X-ADDRESS=Church Hall 28353 Herbert Madison Heights MI 48071;X-APPLE-RADIUS=500;X-TITLE=28353 Herbert:geo:-83.0971204,42.4992176
END:VEVENT
END:VCALENDAR