BEGIN:VCALENDAR
VERSION:2.0
PRODID:-//St. Vincent Ferrer Catholic Church - ECPv6.15.20//NONSGML v1.0//EN
CALSCALE:GREGORIAN
METHOD:PUBLISH
X-WR-CALNAME:St. Vincent Ferrer Catholic Church
X-ORIGINAL-URL:https://stvincentferrer.net
X-WR-CALDESC:Events for St. Vincent Ferrer Catholic Church
REFRESH-INTERVAL;VALUE=DURATION:PT1H
X-Robots-Tag:noindex
X-PUBLISHED-TTL:PT1H
BEGIN:VTIMEZONE
TZID:America/Detroit
BEGIN:DAYLIGHT
TZOFFSETFROM:-0500
TZOFFSETTO:-0400
TZNAME:EDT
DTSTART:20230312T070000
END:DAYLIGHT
BEGIN:STANDARD
TZOFFSETFROM:-0400
TZOFFSETTO:-0500
TZNAME:EST
DTSTART:20231105T060000
END:STANDARD
BEGIN:DAYLIGHT
TZOFFSETFROM:-0500
TZOFFSETTO:-0400
TZNAME:EDT
DTSTART:20240310T070000
END:DAYLIGHT
BEGIN:STANDARD
TZOFFSETFROM:-0400
TZOFFSETTO:-0500
TZNAME:EST
DTSTART:20241103T060000
END:STANDARD
BEGIN:DAYLIGHT
TZOFFSETFROM:-0500
TZOFFSETTO:-0400
TZNAME:EDT
DTSTART:20250309T070000
END:DAYLIGHT
BEGIN:STANDARD
TZOFFSETFROM:-0400
TZOFFSETTO:-0500
TZNAME:EST
DTSTART:20251102T060000
END:STANDARD
END:VTIMEZONE
BEGIN:VEVENT
DTSTART;TZID=America/Detroit:20240302T090000
DTEND;TZID=America/Detroit:20240302T110000
DTSTAMP:20260425T074441
CREATED:20240314T141554Z
LAST-MODIFIED:20240320T122334Z
UID:10003255-1709370000-1709377200@stvincentferrer.net
SUMMARY:Men's Fellowship and Scripture Reflection
DESCRIPTION:The men’s fellowship group gathers for a scripture reflection/sharing every other Saturday at 9am in the Faith Formation office of the school building.
URL:https://stvincentferrer.net/event/mens-fellowship-and-scripture-reflection-2/2024-03-02/
LOCATION:Faith Formation Office\, 1075 E. Gardenia\, Madison Heights\, MI\, United States
CATEGORIES:Christian Service
ATTACH;FMTTYPE=image/png:https://stvincentferrer.net/wp-content/uploads/2022/01/Mens-Fellowship-1-1.png
ORGANIZER;CN="Tom Karolski":MAILTO:debbie@stvincentferrer.net
GEO:42.4991272;-83.0960313
X-APPLE-STRUCTURED-LOCATION;VALUE=URI;X-ADDRESS=Faith Formation Office 1075 E. Gardenia Madison Heights MI United States;X-APPLE-RADIUS=500;X-TITLE=1075 E. Gardenia:geo:-83.0960313,42.4991272
END:VEVENT
BEGIN:VEVENT
DTSTART;TZID=America/Detroit:20240306T090000
DTEND;TZID=America/Detroit:20240306T110000
DTSTAMP:20260425T074441
CREATED:20240110T173335Z
LAST-MODIFIED:20240110T173335Z
UID:10004544-1709715600-1709722800@stvincentferrer.net
SUMMARY:Surrender to Love - Book Study- 9am
DESCRIPTION:February 14th  to March 20th\nSurrender to Love – David G. Benner\n Discovering the Heart of Christian Spirituality\n 
URL:https://stvincentferrer.net/event/surrender-to-love-book-study-9am/2024-03-06/
LOCATION:Hall Administration Building\, 28353 Herbert\, Madison Heights\, MI\, 48071
CATEGORIES:Christian Service,Miscellaneous
ORGANIZER;CN="Deborah Tourville":MAILTO:debbie@stvincentferrer.net
GEO:42.4992176;-83.0971204
X-APPLE-STRUCTURED-LOCATION;VALUE=URI;X-ADDRESS=Hall Administration Building 28353 Herbert Madison Heights MI 48071;X-APPLE-RADIUS=500;X-TITLE=28353 Herbert:geo:-83.0971204,42.4992176
END:VEVENT
BEGIN:VEVENT
DTSTART;TZID=America/Detroit:20240306T190000
DTEND;TZID=America/Detroit:20240306T200000
DTSTAMP:20260425T074441
CREATED:20240110T193232Z
LAST-MODIFIED:20240124T204555Z
UID:10004550-1709751600-1709755200@stvincentferrer.net
SUMMARY:Virtual Soup Supper - February 21st\, - March 13th
DESCRIPTION:Each week a different local charity will be chosen to receive all donations collected.\nSong & Spirit\, Better Way-Detroit\, SVF Benevolent Fund\, Angel’s Place.
URL:https://stvincentferrer.net/event/virtual-soup-supper-february-21st-march-13th/2024-03-06/
LOCATION:St. Vincent Ferrer Church\, 28353 Herbert\, Madison Heights\, MI\, 48071
CATEGORIES:Christian Service,Miscellaneous
ATTACH;FMTTYPE=image/jpeg:https://stvincentferrer.net/wp-content/uploads/2018/03/Lawrence-soup-sup.jpg
GEO:42.4992176;-83.0971204
X-APPLE-STRUCTURED-LOCATION;VALUE=URI;X-ADDRESS=St. Vincent Ferrer Church 28353 Herbert Madison Heights MI 48071;X-APPLE-RADIUS=500;X-TITLE=28353 Herbert:geo:-83.0971204,42.4992176
END:VEVENT
BEGIN:VEVENT
DTSTART;TZID=America/Detroit:20240307T100000
DTEND;TZID=America/Detroit:20240307T114500
DTSTAMP:20260425T074441
CREATED:20240122T203753Z
LAST-MODIFIED:20240124T192401Z
UID:10004611-1709805600-1709811900@stvincentferrer.net
SUMMARY:Grief Ministry 10am -11:45am Dining Hall Admin. Office
DESCRIPTION:
URL:https://stvincentferrer.net/event/grief-ministry-10am-1145am-dining-hall-admin-office/2024-03-07/
LOCATION:Hall Administration Building\, 28353 Herbert\, Madison Heights\, MI\, 48071
CATEGORIES:Christian Service,Miscellaneous
GEO:42.4992176;-83.0971204
X-APPLE-STRUCTURED-LOCATION;VALUE=URI;X-ADDRESS=Hall Administration Building 28353 Herbert Madison Heights MI 48071;X-APPLE-RADIUS=500;X-TITLE=28353 Herbert:geo:-83.0971204,42.4992176
END:VEVENT
BEGIN:VEVENT
DTSTART;TZID=America/Detroit:20240309T160000
DTEND;TZID=America/Detroit:20240309T170000
DTSTAMP:20260425T074441
CREATED:20240226T135320Z
LAST-MODIFIED:20240226T155257Z
UID:10004635-1710000000-1710003600@stvincentferrer.net
SUMMARY:Senior Outreach Program
DESCRIPTION:All non-perishable food items donated the second\nweekend of each month\, will be given to Catholic Charities of Southeast Michigan (CCSEM) Senior Outreach Program.
URL:https://stvincentferrer.net/event/senior-outreach-program-2/
CATEGORIES:Christian Service
ORGANIZER;CN="Christian Service":MAILTO:MaryAnn@stvincentferrer.net
END:VEVENT
BEGIN:VEVENT
DTSTART;TZID=America/Detroit:20240310T090000
DTEND;TZID=America/Detroit:20240310T100000
DTSTAMP:20260425T074441
CREATED:20240226T155046Z
LAST-MODIFIED:20240226T155046Z
UID:10004644-1710061200-1710064800@stvincentferrer.net
SUMMARY:Senior Food Collection - Catholic Charities
DESCRIPTION:All non-perishable food items donated the second\nweekend of each month\, will be given to Catholic Charities of Southeast Michigan (CCSEM) Senior Outreach Program.
URL:https://stvincentferrer.net/event/senior-food-collection-catholic-charities/
CATEGORIES:Christian Service
ATTACH;FMTTYPE=image/jpeg:https://stvincentferrer.net/wp-content/uploads/2021/07/senior-out-reach.jpeg
END:VEVENT
BEGIN:VEVENT
DTSTART;TZID=America/Detroit:20240313T090000
DTEND;TZID=America/Detroit:20240313T110000
DTSTAMP:20260425T074441
CREATED:20240110T173335Z
LAST-MODIFIED:20240110T173335Z
UID:10004545-1710320400-1710327600@stvincentferrer.net
SUMMARY:Surrender to Love - Book Study- 9am
DESCRIPTION:February 14th  to March 20th\nSurrender to Love – David G. Benner\n Discovering the Heart of Christian Spirituality\n 
URL:https://stvincentferrer.net/event/surrender-to-love-book-study-9am/2024-03-13/
LOCATION:Hall Administration Building\, 28353 Herbert\, Madison Heights\, MI\, 48071
CATEGORIES:Christian Service,Miscellaneous
ORGANIZER;CN="Deborah Tourville":MAILTO:debbie@stvincentferrer.net
GEO:42.4992176;-83.0971204
X-APPLE-STRUCTURED-LOCATION;VALUE=URI;X-ADDRESS=Hall Administration Building 28353 Herbert Madison Heights MI 48071;X-APPLE-RADIUS=500;X-TITLE=28353 Herbert:geo:-83.0971204,42.4992176
END:VEVENT
BEGIN:VEVENT
DTSTART;TZID=America/Detroit:20240313T190000
DTEND;TZID=America/Detroit:20240313T200000
DTSTAMP:20260425T074441
CREATED:20240110T193232Z
LAST-MODIFIED:20240124T204555Z
UID:10004551-1710356400-1710360000@stvincentferrer.net
SUMMARY:Virtual Soup Supper - February 21st\, - March 13th
DESCRIPTION:Each week a different local charity will be chosen to receive all donations collected.\nSong & Spirit\, Better Way-Detroit\, SVF Benevolent Fund\, Angel’s Place.
URL:https://stvincentferrer.net/event/virtual-soup-supper-february-21st-march-13th/2024-03-13/
LOCATION:St. Vincent Ferrer Church\, 28353 Herbert\, Madison Heights\, MI\, 48071
CATEGORIES:Christian Service,Miscellaneous
ATTACH;FMTTYPE=image/jpeg:https://stvincentferrer.net/wp-content/uploads/2018/03/Lawrence-soup-sup.jpg
GEO:42.4992176;-83.0971204
X-APPLE-STRUCTURED-LOCATION;VALUE=URI;X-ADDRESS=St. Vincent Ferrer Church 28353 Herbert Madison Heights MI 48071;X-APPLE-RADIUS=500;X-TITLE=28353 Herbert:geo:-83.0971204,42.4992176
END:VEVENT
BEGIN:VEVENT
DTSTART;TZID=America/Detroit:20240316T090000
DTEND;TZID=America/Detroit:20240316T110000
DTSTAMP:20260425T074441
CREATED:20240314T141554Z
LAST-MODIFIED:20240320T122334Z
UID:10003256-1710579600-1710586800@stvincentferrer.net
SUMMARY:Men's Fellowship and Scripture Reflection
DESCRIPTION:The men’s fellowship group gathers for a scripture reflection/sharing every other Saturday at 9am in the Faith Formation office of the school building.
URL:https://stvincentferrer.net/event/mens-fellowship-and-scripture-reflection-2/2024-03-16/
LOCATION:Faith Formation Office\, 1075 E. Gardenia\, Madison Heights\, MI\, United States
CATEGORIES:Christian Service
ATTACH;FMTTYPE=image/png:https://stvincentferrer.net/wp-content/uploads/2022/01/Mens-Fellowship-1-1.png
ORGANIZER;CN="Tom Karolski":MAILTO:debbie@stvincentferrer.net
GEO:42.4991272;-83.0960313
X-APPLE-STRUCTURED-LOCATION;VALUE=URI;X-ADDRESS=Faith Formation Office 1075 E. Gardenia Madison Heights MI United States;X-APPLE-RADIUS=500;X-TITLE=1075 E. Gardenia:geo:-83.0960313,42.4991272
END:VEVENT
BEGIN:VEVENT
DTSTART;TZID=America/Detroit:20240320T090000
DTEND;TZID=America/Detroit:20240320T110000
DTSTAMP:20260425T074441
CREATED:20240110T173335Z
LAST-MODIFIED:20240110T173335Z
UID:10004546-1710925200-1710932400@stvincentferrer.net
SUMMARY:Surrender to Love - Book Study- 9am
DESCRIPTION:February 14th  to March 20th\nSurrender to Love – David G. Benner\n Discovering the Heart of Christian Spirituality\n 
URL:https://stvincentferrer.net/event/surrender-to-love-book-study-9am/2024-03-20/
LOCATION:Hall Administration Building\, 28353 Herbert\, Madison Heights\, MI\, 48071
CATEGORIES:Christian Service,Miscellaneous
ORGANIZER;CN="Deborah Tourville":MAILTO:debbie@stvincentferrer.net
GEO:42.4992176;-83.0971204
X-APPLE-STRUCTURED-LOCATION;VALUE=URI;X-ADDRESS=Hall Administration Building 28353 Herbert Madison Heights MI 48071;X-APPLE-RADIUS=500;X-TITLE=28353 Herbert:geo:-83.0971204,42.4992176
END:VEVENT
BEGIN:VEVENT
DTSTART;TZID=America/Detroit:20240321T183000
DTEND;TZID=America/Detroit:20240321T200000
DTSTAMP:20260425T074441
CREATED:20240124T193009Z
LAST-MODIFIED:20240124T193009Z
UID:10004629-1711045800-1711051200@stvincentferrer.net
SUMMARY:Prayer Blanket and Card Making  - 6:30 Church Hall
DESCRIPTION:  \nAll are welcome
URL:https://stvincentferrer.net/event/prayer-blanket-and-card-making-630-church-hall/
LOCATION:School Building\, 1075 E. Gardenia\, Madison Heights\, MI\, 48071\, United States
CATEGORIES:Christian Service,Miscellaneous
GEO:42.4991272;-83.0960313
X-APPLE-STRUCTURED-LOCATION;VALUE=URI;X-ADDRESS=School Building 1075 E. Gardenia Madison Heights MI 48071 United States;X-APPLE-RADIUS=500;X-TITLE=1075 E. Gardenia:geo:-83.0960313,42.4991272
END:VEVENT
BEGIN:VEVENT
DTSTART;TZID=America/Detroit:20240324T100000
DTEND;TZID=America/Detroit:20240324T113000
DTSTAMP:20260425T074441
CREATED:20240124T193838Z
LAST-MODIFIED:20240124T193838Z
UID:10004630-1711274400-1711279800@stvincentferrer.net
SUMMARY:Coffee & Donuts/ Blood Pressure Checks
DESCRIPTION:  \n 
URL:https://stvincentferrer.net/event/coffee-donuts-blood-pressure-checks/
LOCATION:Church Hall\, 28353 Herbert\, Madison Heights\, MI\, 48071
CATEGORIES:Christian Service
ATTACH;FMTTYPE=image/jpeg:https://stvincentferrer.net/wp-content/uploads/2022/12/coffee-and-donuts.jpg
ORGANIZER;CN="Christian Service":MAILTO:MaryAnn@stvincentferrer.net
GEO:42.4992176;-83.0971204
X-APPLE-STRUCTURED-LOCATION;VALUE=URI;X-ADDRESS=Church Hall 28353 Herbert Madison Heights MI 48071;X-APPLE-RADIUS=500;X-TITLE=28353 Herbert:geo:-83.0971204,42.4992176
END:VEVENT
END:VCALENDAR