BEGIN:VCALENDAR
VERSION:2.0
PRODID:-//St. Vincent Ferrer Catholic Church - ECPv6.15.20//NONSGML v1.0//EN
CALSCALE:GREGORIAN
METHOD:PUBLISH
X-ORIGINAL-URL:https://stvincentferrer.net
X-WR-CALDESC:Events for St. Vincent Ferrer Catholic Church
REFRESH-INTERVAL;VALUE=DURATION:PT1H
X-Robots-Tag:noindex
X-PUBLISHED-TTL:PT1H
BEGIN:VTIMEZONE
TZID:America/Detroit
BEGIN:DAYLIGHT
TZOFFSETFROM:-0500
TZOFFSETTO:-0400
TZNAME:EDT
DTSTART:20220313T070000
END:DAYLIGHT
BEGIN:STANDARD
TZOFFSETFROM:-0400
TZOFFSETTO:-0500
TZNAME:EST
DTSTART:20221106T060000
END:STANDARD
BEGIN:DAYLIGHT
TZOFFSETFROM:-0500
TZOFFSETTO:-0400
TZNAME:EDT
DTSTART:20230312T070000
END:DAYLIGHT
BEGIN:STANDARD
TZOFFSETFROM:-0400
TZOFFSETTO:-0500
TZNAME:EST
DTSTART:20231105T060000
END:STANDARD
BEGIN:DAYLIGHT
TZOFFSETFROM:-0500
TZOFFSETTO:-0400
TZNAME:EDT
DTSTART:20240310T070000
END:DAYLIGHT
BEGIN:STANDARD
TZOFFSETFROM:-0400
TZOFFSETTO:-0500
TZNAME:EST
DTSTART:20241103T060000
END:STANDARD
END:VTIMEZONE
BEGIN:VEVENT
DTSTART;TZID=America/Detroit:20231125T080000
DTEND;TZID=America/Detroit:20231210T170000
DTSTAMP:20260425T130209
CREATED:20231102T194335Z
LAST-MODIFIED:20231102T194703Z
UID:10004498-1700899200-1702227600@stvincentferrer.net
SUMMARY:Virtual Giving Tree and Tree in Church with Tags available to pick up. November 25th - December 10th
DESCRIPTION:Please support these Charities and help those in need.\nMary’s Children Family Center\nSanctum House\nPope Francis Center\nOakland County  Jail Outreach Ministry
URL:https://stvincentferrer.net/event/virtual-giving-tree-and-tree-in-church-with-tags-available-to-pick-up/
CATEGORIES:Christian Service
ORGANIZER;CN="Christian Service":MAILTO:MaryAnn@stvincentferrer.net
END:VEVENT
BEGIN:VEVENT
DTSTART;TZID=America/Detroit:20231203T140000
DTEND;TZID=America/Detroit:20231203T160000
DTSTAMP:20260425T130209
CREATED:20231016T181738Z
LAST-MODIFIED:20231030T183118Z
UID:10004458-1701612000-1701619200@stvincentferrer.net
SUMMARY:ADVENT TEA - 2pm - 4pm
DESCRIPTION:Sunday \, December 3\, 2023 at 2pm\nSeating is limited
URL:https://stvincentferrer.net/event/advent-tea-200pm/
LOCATION:Hall Administration Building\, 28353 Herbert\, Madison Heights\, MI\, 48071
CATEGORIES:Christian Service
ATTACH;FMTTYPE=image/jpeg:https://stvincentferrer.net/wp-content/uploads/2023/10/advent_tea_banner1.jpg
GEO:42.4992176;-83.0971204
X-APPLE-STRUCTURED-LOCATION;VALUE=URI;X-ADDRESS=Hall Administration Building 28353 Herbert Madison Heights MI 48071;X-APPLE-RADIUS=500;X-TITLE=28353 Herbert:geo:-83.0971204,42.4992176
END:VEVENT
BEGIN:VEVENT
DTSTART;TZID=America/Detroit:20231206T090000
DTEND;TZID=America/Detroit:20231206T110000
DTSTAMP:20260425T130209
CREATED:20230920T190940Z
LAST-MODIFIED:20231121T154941Z
UID:10003791-1701853200-1701860400@stvincentferrer.net
SUMMARY:Wednesday Mornings Book Study - How Big is Your God? By Paul Coutinho\, SJ
DESCRIPTION:The Wednesday Morning Book Study begins September 13@ 9am in the Parish Administration Building. The book will be studied over a 16-week period allowing us to prayerfully reflect on the chapters. Each class will offer a time for teaching\, reflection\, and sharing.\nA small breakfast is offered so please let the office know if you are attending\, 248-542-8720.
URL:https://stvincentferrer.net/event/wednesday-mornings-book-study-how-big-is-your-god-by-paul-coutinho-sj-2/2023-12-06/
LOCATION:Hall Administration Building\, 28353 Herbert\, Madison Heights\, MI\, 48071
CATEGORIES:Christian Service,Miscellaneous
ORGANIZER;CN="Deborah Tourville":MAILTO:debbie@stvincentferrer.net
GEO:42.4992176;-83.0971204
X-APPLE-STRUCTURED-LOCATION;VALUE=URI;X-ADDRESS=Hall Administration Building 28353 Herbert Madison Heights MI 48071;X-APPLE-RADIUS=500;X-TITLE=28353 Herbert:geo:-83.0971204,42.4992176
END:VEVENT
BEGIN:VEVENT
DTSTART;TZID=America/Detroit:20231209T090000
DTEND;TZID=America/Detroit:20231209T110000
DTSTAMP:20260425T130209
CREATED:20240314T141554Z
LAST-MODIFIED:20240320T122334Z
UID:10003249-1702112400-1702119600@stvincentferrer.net
SUMMARY:Men's Fellowship and Scripture Reflection
DESCRIPTION:The men’s fellowship group gathers for a scripture reflection/sharing every other Saturday at 9am in the Faith Formation office of the school building.
URL:https://stvincentferrer.net/event/mens-fellowship-and-scripture-reflection-2/2023-12-09/
LOCATION:Faith Formation Office\, 1075 E. Gardenia\, Madison Heights\, MI\, United States
CATEGORIES:Christian Service
ATTACH;FMTTYPE=image/png:https://stvincentferrer.net/wp-content/uploads/2022/01/Mens-Fellowship-1-1.png
ORGANIZER;CN="Tom Karolski":MAILTO:debbie@stvincentferrer.net
GEO:42.4991272;-83.0960313
X-APPLE-STRUCTURED-LOCATION;VALUE=URI;X-ADDRESS=Faith Formation Office 1075 E. Gardenia Madison Heights MI United States;X-APPLE-RADIUS=500;X-TITLE=1075 E. Gardenia:geo:-83.0960313,42.4991272
END:VEVENT
BEGIN:VEVENT
DTSTART;TZID=America/Detroit:20231210T090000
DTEND;TZID=America/Detroit:20231210T100000
DTSTAMP:20260425T130209
CREATED:20231030T141100Z
LAST-MODIFIED:20240201T171635Z
UID:10004353-1702198800-1702202400@stvincentferrer.net
SUMMARY:CCSEM Senior Outreach Program - Food Collection
DESCRIPTION:Senior Food Drive\nItems requested:\nIndividual lunchbox sized and packaged snacks\nlike: Crackers\, Granola bars\, Cereal bars and Fruit\nsnacks\nCanned Foods including:io\nSoups\, Stews\, Chili\, Ravioli\, Spaghettios\, Fruit\,\nVegetables\nGift cards in any amount are especially appreciated\nand used to buy perishable foods from:\nKroger\, Meijer\, Walmart or Target\nThe CCSEM Senior Outreach Program\, serving Oakland\, Macomb and Wayne counties\, provides groceries free of charge to the doors of qualifying clients. To qualify clients must meet at least one of the following eligibility requirements: low income\, disabled or lack of transportation. Limited openings are available. To see if you qualify\, contact Stephanie at 586-267-0212 or rubels@ccsem.org.
URL:https://stvincentferrer.net/event/ccsem-senior-outreach-program-food-collection-2/2023-12-10/
CATEGORIES:Christian Service,Miscellaneous
END:VEVENT
BEGIN:VEVENT
DTSTART;TZID=America/Detroit:20231210T100000
DTEND;TZID=America/Detroit:20231210T110000
DTSTAMP:20260425T130209
CREATED:20231121T153951Z
LAST-MODIFIED:20231121T154344Z
UID:10004505-1702202400-1702206000@stvincentferrer.net
SUMMARY:Coffee & Donuts
DESCRIPTION:
URL:https://stvincentferrer.net/event/coffee-donuts-4/
LOCATION:Church Hall\, 28353 Herbert\, Madison Heights\, MI\, 48071
CATEGORIES:Christian Service
ATTACH;FMTTYPE=image/jpeg:https://stvincentferrer.net/wp-content/uploads/2022/12/coffee-and-donuts.jpg
GEO:42.4992176;-83.0971204
X-APPLE-STRUCTURED-LOCATION;VALUE=URI;X-ADDRESS=Church Hall 28353 Herbert Madison Heights MI 48071;X-APPLE-RADIUS=500;X-TITLE=28353 Herbert:geo:-83.0971204,42.4992176
END:VEVENT
BEGIN:VEVENT
DTSTART;TZID=America/Detroit:20231210T100000
DTEND;TZID=America/Detroit:20231210T110000
DTSTAMP:20260425T130209
CREATED:20231121T154204Z
LAST-MODIFIED:20231121T154204Z
UID:10004506-1702202400-1702206000@stvincentferrer.net
SUMMARY:Blood Pressure Checks
DESCRIPTION:
URL:https://stvincentferrer.net/event/blood-pressure-checks-14/
LOCATION:Church Hall\, 28353 Herbert\, Madison Heights\, MI\, 48071
CATEGORIES:Christian Service
ATTACH;FMTTYPE=image/jpeg:https://stvincentferrer.net/wp-content/uploads/2022/12/blood-pressure.jpg
GEO:42.4992176;-83.0971204
X-APPLE-STRUCTURED-LOCATION;VALUE=URI;X-ADDRESS=Church Hall 28353 Herbert Madison Heights MI 48071;X-APPLE-RADIUS=500;X-TITLE=28353 Herbert:geo:-83.0971204,42.4992176
END:VEVENT
BEGIN:VEVENT
DTSTART;TZID=America/Detroit:20231213T090000
DTEND;TZID=America/Detroit:20231213T110000
DTSTAMP:20260425T130209
CREATED:20230920T190940Z
LAST-MODIFIED:20231121T154941Z
UID:10003792-1702458000-1702465200@stvincentferrer.net
SUMMARY:Wednesday Mornings Book Study - How Big is Your God? By Paul Coutinho\, SJ
DESCRIPTION:The Wednesday Morning Book Study begins September 13@ 9am in the Parish Administration Building. The book will be studied over a 16-week period allowing us to prayerfully reflect on the chapters. Each class will offer a time for teaching\, reflection\, and sharing.\nA small breakfast is offered so please let the office know if you are attending\, 248-542-8720.
URL:https://stvincentferrer.net/event/wednesday-mornings-book-study-how-big-is-your-god-by-paul-coutinho-sj-2/2023-12-13/
LOCATION:Hall Administration Building\, 28353 Herbert\, Madison Heights\, MI\, 48071
CATEGORIES:Christian Service,Miscellaneous
ORGANIZER;CN="Deborah Tourville":MAILTO:debbie@stvincentferrer.net
GEO:42.4992176;-83.0971204
X-APPLE-STRUCTURED-LOCATION;VALUE=URI;X-ADDRESS=Hall Administration Building 28353 Herbert Madison Heights MI 48071;X-APPLE-RADIUS=500;X-TITLE=28353 Herbert:geo:-83.0971204,42.4992176
END:VEVENT
BEGIN:VEVENT
DTSTART;TZID=America/Detroit:20231220T090000
DTEND;TZID=America/Detroit:20231220T110000
DTSTAMP:20260425T130209
CREATED:20230920T190940Z
LAST-MODIFIED:20231121T154941Z
UID:10003793-1703062800-1703070000@stvincentferrer.net
SUMMARY:Wednesday Mornings Book Study - How Big is Your God? By Paul Coutinho\, SJ
DESCRIPTION:The Wednesday Morning Book Study begins September 13@ 9am in the Parish Administration Building. The book will be studied over a 16-week period allowing us to prayerfully reflect on the chapters. Each class will offer a time for teaching\, reflection\, and sharing.\nA small breakfast is offered so please let the office know if you are attending\, 248-542-8720.
URL:https://stvincentferrer.net/event/wednesday-mornings-book-study-how-big-is-your-god-by-paul-coutinho-sj-2/2023-12-20/
LOCATION:Hall Administration Building\, 28353 Herbert\, Madison Heights\, MI\, 48071
CATEGORIES:Christian Service,Miscellaneous
ORGANIZER;CN="Deborah Tourville":MAILTO:debbie@stvincentferrer.net
GEO:42.4992176;-83.0971204
X-APPLE-STRUCTURED-LOCATION;VALUE=URI;X-ADDRESS=Hall Administration Building 28353 Herbert Madison Heights MI 48071;X-APPLE-RADIUS=500;X-TITLE=28353 Herbert:geo:-83.0971204,42.4992176
END:VEVENT
BEGIN:VEVENT
DTSTART;TZID=America/Detroit:20231223T090000
DTEND;TZID=America/Detroit:20231223T110000
DTSTAMP:20260425T130209
CREATED:20240314T141554Z
LAST-MODIFIED:20240320T122334Z
UID:10003250-1703322000-1703329200@stvincentferrer.net
SUMMARY:Men's Fellowship and Scripture Reflection
DESCRIPTION:The men’s fellowship group gathers for a scripture reflection/sharing every other Saturday at 9am in the Faith Formation office of the school building.
URL:https://stvincentferrer.net/event/mens-fellowship-and-scripture-reflection-2/2023-12-23/
LOCATION:Faith Formation Office\, 1075 E. Gardenia\, Madison Heights\, MI\, United States
CATEGORIES:Christian Service
ATTACH;FMTTYPE=image/png:https://stvincentferrer.net/wp-content/uploads/2022/01/Mens-Fellowship-1-1.png
ORGANIZER;CN="Tom Karolski":MAILTO:debbie@stvincentferrer.net
GEO:42.4991272;-83.0960313
X-APPLE-STRUCTURED-LOCATION;VALUE=URI;X-ADDRESS=Faith Formation Office 1075 E. Gardenia Madison Heights MI United States;X-APPLE-RADIUS=500;X-TITLE=1075 E. Gardenia:geo:-83.0960313,42.4991272
END:VEVENT
END:VCALENDAR