BEGIN:VCALENDAR
VERSION:2.0
PRODID:-//St. Vincent Ferrer Catholic Church - ECPv6.15.20//NONSGML v1.0//EN
CALSCALE:GREGORIAN
METHOD:PUBLISH
X-ORIGINAL-URL:https://stvincentferrer.net
X-WR-CALDESC:Events for St. Vincent Ferrer Catholic Church
REFRESH-INTERVAL;VALUE=DURATION:PT1H
X-Robots-Tag:noindex
X-PUBLISHED-TTL:PT1H
BEGIN:VTIMEZONE
TZID:America/Detroit
BEGIN:DAYLIGHT
TZOFFSETFROM:-0500
TZOFFSETTO:-0400
TZNAME:EDT
DTSTART:20270314T070000
END:DAYLIGHT
BEGIN:STANDARD
TZOFFSETFROM:-0400
TZOFFSETTO:-0500
TZNAME:EST
DTSTART:20271107T060000
END:STANDARD
BEGIN:DAYLIGHT
TZOFFSETFROM:-0500
TZOFFSETTO:-0400
TZNAME:EDT
DTSTART:20280312T070000
END:DAYLIGHT
BEGIN:STANDARD
TZOFFSETFROM:-0400
TZOFFSETTO:-0500
TZNAME:EST
DTSTART:20281105T060000
END:STANDARD
BEGIN:DAYLIGHT
TZOFFSETFROM:-0500
TZOFFSETTO:-0400
TZNAME:EDT
DTSTART:20290311T070000
END:DAYLIGHT
BEGIN:STANDARD
TZOFFSETFROM:-0400
TZOFFSETTO:-0500
TZNAME:EST
DTSTART:20291104T060000
END:STANDARD
END:VTIMEZONE
BEGIN:VEVENT
DTSTART;TZID=America/Detroit:20280902T090000
DTEND;TZID=America/Detroit:20280902T110000
DTSTAMP:20260425T171540
CREATED:20251222T192228Z
LAST-MODIFIED:20251222T192416Z
UID:10009078-1851498000-1851505200@stvincentferrer.net
SUMMARY:Women's Sacred Journey
DESCRIPTION:Women’s Sacred Journey\nEvery other Saturday at 9:00am\nFaith Formation Office\nSVF School Bldg.\nWomen’s Sacred Journey group invites all\nwomen to join them in praying and reflecting on\nScripture passages. The gathering is every other\nSaturday. No registration or fee required.
URL:https://stvincentferrer.net/event/womens-sacred-journey-dec-27-2025-january-1024-feb-27/2028-09-02/
LOCATION:Faith Formation Office\, 1075 E. Gardenia\, Madison Heights\, MI\, United States
CATEGORIES:Adult Faith Formation,Christian Service,Miscellaneous
GEO:42.4991272;-83.0960313
X-APPLE-STRUCTURED-LOCATION;VALUE=URI;X-ADDRESS=Faith Formation Office 1075 E. Gardenia Madison Heights MI United States;X-APPLE-RADIUS=500;X-TITLE=1075 E. Gardenia:geo:-83.0960313,42.4991272
END:VEVENT
BEGIN:VEVENT
DTSTART;TZID=America/Detroit:20280909T090000
DTEND;TZID=America/Detroit:20280909T110000
DTSTAMP:20260425T171540
CREATED:20240821T191450Z
LAST-MODIFIED:20240821T191450Z
UID:10005019-1852102800-1852110000@stvincentferrer.net
SUMMARY:Men's Fellowship and Scripture Reflection
DESCRIPTION:The men’s fellowship group gathers for a scripture reflection/sharing every other Saturday at 9am in the Faith Formation office of the school building.
URL:https://stvincentferrer.net/event/mens-fellowship-and-scripture-reflection-2-2/2028-09-09/
LOCATION:Faith Formation Office\, 1075 E. Gardenia\, Madison Heights\, MI\, United States
CATEGORIES:Adult Faith Formation
ATTACH;FMTTYPE=image/png:https://stvincentferrer.net/wp-content/uploads/2022/01/Mens-Fellowship-1-1.png
ORGANIZER;CN="Tom Karolski":MAILTO:debbie@stvincentferrer.net
GEO:42.4991272;-83.0960313
X-APPLE-STRUCTURED-LOCATION;VALUE=URI;X-ADDRESS=Faith Formation Office 1075 E. Gardenia Madison Heights MI United States;X-APPLE-RADIUS=500;X-TITLE=1075 E. Gardenia:geo:-83.0960313,42.4991272
END:VEVENT
BEGIN:VEVENT
DTSTART;TZID=America/Detroit:20280916T090000
DTEND;TZID=America/Detroit:20280916T110000
DTSTAMP:20260425T171540
CREATED:20251222T192228Z
LAST-MODIFIED:20251222T192416Z
UID:10009079-1852707600-1852714800@stvincentferrer.net
SUMMARY:Women's Sacred Journey
DESCRIPTION:Women’s Sacred Journey\nEvery other Saturday at 9:00am\nFaith Formation Office\nSVF School Bldg.\nWomen’s Sacred Journey group invites all\nwomen to join them in praying and reflecting on\nScripture passages. The gathering is every other\nSaturday. No registration or fee required.
URL:https://stvincentferrer.net/event/womens-sacred-journey-dec-27-2025-january-1024-feb-27/2028-09-16/
LOCATION:Faith Formation Office\, 1075 E. Gardenia\, Madison Heights\, MI\, United States
CATEGORIES:Adult Faith Formation,Christian Service,Miscellaneous
GEO:42.4991272;-83.0960313
X-APPLE-STRUCTURED-LOCATION;VALUE=URI;X-ADDRESS=Faith Formation Office 1075 E. Gardenia Madison Heights MI United States;X-APPLE-RADIUS=500;X-TITLE=1075 E. Gardenia:geo:-83.0960313,42.4991272
END:VEVENT
BEGIN:VEVENT
DTSTART;TZID=America/Detroit:20280923T090000
DTEND;TZID=America/Detroit:20280923T110000
DTSTAMP:20260425T171540
CREATED:20240821T191450Z
LAST-MODIFIED:20240821T191450Z
UID:10005020-1853312400-1853319600@stvincentferrer.net
SUMMARY:Men's Fellowship and Scripture Reflection
DESCRIPTION:The men’s fellowship group gathers for a scripture reflection/sharing every other Saturday at 9am in the Faith Formation office of the school building.
URL:https://stvincentferrer.net/event/mens-fellowship-and-scripture-reflection-2-2/2028-09-23/
LOCATION:Faith Formation Office\, 1075 E. Gardenia\, Madison Heights\, MI\, United States
CATEGORIES:Adult Faith Formation
ATTACH;FMTTYPE=image/png:https://stvincentferrer.net/wp-content/uploads/2022/01/Mens-Fellowship-1-1.png
ORGANIZER;CN="Tom Karolski":MAILTO:debbie@stvincentferrer.net
GEO:42.4991272;-83.0960313
X-APPLE-STRUCTURED-LOCATION;VALUE=URI;X-ADDRESS=Faith Formation Office 1075 E. Gardenia Madison Heights MI United States;X-APPLE-RADIUS=500;X-TITLE=1075 E. Gardenia:geo:-83.0960313,42.4991272
END:VEVENT
BEGIN:VEVENT
DTSTART;TZID=America/Detroit:20280930T090000
DTEND;TZID=America/Detroit:20280930T110000
DTSTAMP:20260425T171540
CREATED:20251222T192228Z
LAST-MODIFIED:20251222T192416Z
UID:10009080-1853917200-1853924400@stvincentferrer.net
SUMMARY:Women's Sacred Journey
DESCRIPTION:Women’s Sacred Journey\nEvery other Saturday at 9:00am\nFaith Formation Office\nSVF School Bldg.\nWomen’s Sacred Journey group invites all\nwomen to join them in praying and reflecting on\nScripture passages. The gathering is every other\nSaturday. No registration or fee required.
URL:https://stvincentferrer.net/event/womens-sacred-journey-dec-27-2025-january-1024-feb-27/2028-09-30/
LOCATION:Faith Formation Office\, 1075 E. Gardenia\, Madison Heights\, MI\, United States
CATEGORIES:Adult Faith Formation,Christian Service,Miscellaneous
GEO:42.4991272;-83.0960313
X-APPLE-STRUCTURED-LOCATION;VALUE=URI;X-ADDRESS=Faith Formation Office 1075 E. Gardenia Madison Heights MI United States;X-APPLE-RADIUS=500;X-TITLE=1075 E. Gardenia:geo:-83.0960313,42.4991272
END:VEVENT
END:VCALENDAR