BEGIN:VCALENDAR
VERSION:2.0
PRODID:-//St. Vincent Ferrer Catholic Church - ECPv6.15.20//NONSGML v1.0//EN
CALSCALE:GREGORIAN
METHOD:PUBLISH
X-ORIGINAL-URL:https://stvincentferrer.net
X-WR-CALDESC:Events for St. Vincent Ferrer Catholic Church
REFRESH-INTERVAL;VALUE=DURATION:PT1H
X-Robots-Tag:noindex
X-PUBLISHED-TTL:PT1H
BEGIN:VTIMEZONE
TZID:America/Detroit
BEGIN:DAYLIGHT
TZOFFSETFROM:-0500
TZOFFSETTO:-0400
TZNAME:EDT
DTSTART:20250309T070000
END:DAYLIGHT
BEGIN:STANDARD
TZOFFSETFROM:-0400
TZOFFSETTO:-0500
TZNAME:EST
DTSTART:20251102T060000
END:STANDARD
BEGIN:DAYLIGHT
TZOFFSETFROM:-0500
TZOFFSETTO:-0400
TZNAME:EDT
DTSTART:20260308T070000
END:DAYLIGHT
BEGIN:STANDARD
TZOFFSETFROM:-0400
TZOFFSETTO:-0500
TZNAME:EST
DTSTART:20261101T060000
END:STANDARD
BEGIN:DAYLIGHT
TZOFFSETFROM:-0500
TZOFFSETTO:-0400
TZNAME:EDT
DTSTART:20270314T070000
END:DAYLIGHT
BEGIN:STANDARD
TZOFFSETFROM:-0400
TZOFFSETTO:-0500
TZNAME:EST
DTSTART:20271107T060000
END:STANDARD
END:VTIMEZONE
BEGIN:VEVENT
DTSTART;TZID=America/Detroit:20260304T090000
DTEND;TZID=America/Detroit:20260304T110000
DTSTAMP:20260423T145609
CREATED:20251222T194001Z
LAST-MODIFIED:20251222T194001Z
UID:10009145-1772614800-1772622000@stvincentferrer.net
SUMMARY:Book Study - Gateway to Hope. Wednesdays after 8am Mass
DESCRIPTION:
URL:https://stvincentferrer.net/event/book-study-gateway-to-hope-wednesdays-after-8am-mass/2026-03-04/
CATEGORIES:Adult Faith Formation,Christian Service,Miscellaneous
ATTACH;FMTTYPE=image/jpeg:https://stvincentferrer.net/wp-content/uploads/2025/01/church-with-cross-2-scaled.jpg
END:VEVENT
BEGIN:VEVENT
DTSTART;TZID=America/Detroit:20260307T090000
DTEND;TZID=America/Detroit:20260307T110000
DTSTAMP:20260423T145609
CREATED:20251222T192228Z
LAST-MODIFIED:20251222T192416Z
UID:10009013-1772874000-1772881200@stvincentferrer.net
SUMMARY:Women's Sacred Journey
DESCRIPTION:Women’s Sacred Journey\nEvery other Saturday at 9:00am\nFaith Formation Office\nSVF School Bldg.\nWomen’s Sacred Journey group invites all\nwomen to join them in praying and reflecting on\nScripture passages. The gathering is every other\nSaturday. No registration or fee required.
URL:https://stvincentferrer.net/event/womens-sacred-journey-dec-27-2025-january-1024-feb-27/2026-03-07/
LOCATION:Faith Formation Office\, 1075 E. Gardenia\, Madison Heights\, MI\, United States
CATEGORIES:Adult Faith Formation,Christian Service,Miscellaneous
GEO:42.4991272;-83.0960313
X-APPLE-STRUCTURED-LOCATION;VALUE=URI;X-ADDRESS=Faith Formation Office 1075 E. Gardenia Madison Heights MI United States;X-APPLE-RADIUS=500;X-TITLE=1075 E. Gardenia:geo:-83.0960313,42.4991272
END:VEVENT
BEGIN:VEVENT
DTSTART;TZID=America/Detroit:20260311T090000
DTEND;TZID=America/Detroit:20260311T110000
DTSTAMP:20260423T145609
CREATED:20251222T194001Z
LAST-MODIFIED:20251222T194001Z
UID:10009146-1773219600-1773226800@stvincentferrer.net
SUMMARY:Book Study - Gateway to Hope. Wednesdays after 8am Mass
DESCRIPTION:
URL:https://stvincentferrer.net/event/book-study-gateway-to-hope-wednesdays-after-8am-mass/2026-03-11/
CATEGORIES:Adult Faith Formation,Christian Service,Miscellaneous
ATTACH;FMTTYPE=image/jpeg:https://stvincentferrer.net/wp-content/uploads/2025/01/church-with-cross-2-scaled.jpg
END:VEVENT
BEGIN:VEVENT
DTSTART;TZID=America/Detroit:20260314T090000
DTEND;TZID=America/Detroit:20260314T110000
DTSTAMP:20260423T145609
CREATED:20240821T191450Z
LAST-MODIFIED:20240821T191450Z
UID:10004954-1773478800-1773486000@stvincentferrer.net
SUMMARY:Men's Fellowship and Scripture Reflection
DESCRIPTION:The men’s fellowship group gathers for a scripture reflection/sharing every other Saturday at 9am in the Faith Formation office of the school building.
URL:https://stvincentferrer.net/event/mens-fellowship-and-scripture-reflection-2-2/2026-03-14/
LOCATION:Faith Formation Office\, 1075 E. Gardenia\, Madison Heights\, MI\, United States
CATEGORIES:Adult Faith Formation
ATTACH;FMTTYPE=image/png:https://stvincentferrer.net/wp-content/uploads/2022/01/Mens-Fellowship-1-1.png
ORGANIZER;CN="Tom Karolski":MAILTO:debbie@stvincentferrer.net
GEO:42.4991272;-83.0960313
X-APPLE-STRUCTURED-LOCATION;VALUE=URI;X-ADDRESS=Faith Formation Office 1075 E. Gardenia Madison Heights MI United States;X-APPLE-RADIUS=500;X-TITLE=1075 E. Gardenia:geo:-83.0960313,42.4991272
END:VEVENT
BEGIN:VEVENT
DTSTART;TZID=America/Detroit:20260318T090000
DTEND;TZID=America/Detroit:20260318T110000
DTSTAMP:20260423T145609
CREATED:20251222T194001Z
LAST-MODIFIED:20251222T194001Z
UID:10009147-1773824400-1773831600@stvincentferrer.net
SUMMARY:Book Study - Gateway to Hope. Wednesdays after 8am Mass
DESCRIPTION:
URL:https://stvincentferrer.net/event/book-study-gateway-to-hope-wednesdays-after-8am-mass/2026-03-18/
CATEGORIES:Adult Faith Formation,Christian Service,Miscellaneous
ATTACH;FMTTYPE=image/jpeg:https://stvincentferrer.net/wp-content/uploads/2025/01/church-with-cross-2-scaled.jpg
END:VEVENT
BEGIN:VEVENT
DTSTART;TZID=America/Detroit:20260321T090000
DTEND;TZID=America/Detroit:20260321T110000
DTSTAMP:20260423T145609
CREATED:20251222T192228Z
LAST-MODIFIED:20251222T192416Z
UID:10009014-1774083600-1774090800@stvincentferrer.net
SUMMARY:Women's Sacred Journey
DESCRIPTION:Women’s Sacred Journey\nEvery other Saturday at 9:00am\nFaith Formation Office\nSVF School Bldg.\nWomen’s Sacred Journey group invites all\nwomen to join them in praying and reflecting on\nScripture passages. The gathering is every other\nSaturday. No registration or fee required.
URL:https://stvincentferrer.net/event/womens-sacred-journey-dec-27-2025-january-1024-feb-27/2026-03-21/
LOCATION:Faith Formation Office\, 1075 E. Gardenia\, Madison Heights\, MI\, United States
CATEGORIES:Adult Faith Formation,Christian Service,Miscellaneous
GEO:42.4991272;-83.0960313
X-APPLE-STRUCTURED-LOCATION;VALUE=URI;X-ADDRESS=Faith Formation Office 1075 E. Gardenia Madison Heights MI United States;X-APPLE-RADIUS=500;X-TITLE=1075 E. Gardenia:geo:-83.0960313,42.4991272
END:VEVENT
BEGIN:VEVENT
DTSTART;TZID=America/Detroit:20260325T090000
DTEND;TZID=America/Detroit:20260325T110000
DTSTAMP:20260423T145609
CREATED:20251222T194001Z
LAST-MODIFIED:20251222T194001Z
UID:10009148-1774429200-1774436400@stvincentferrer.net
SUMMARY:Book Study - Gateway to Hope. Wednesdays after 8am Mass
DESCRIPTION:
URL:https://stvincentferrer.net/event/book-study-gateway-to-hope-wednesdays-after-8am-mass/2026-03-25/
CATEGORIES:Adult Faith Formation,Christian Service,Miscellaneous
ATTACH;FMTTYPE=image/jpeg:https://stvincentferrer.net/wp-content/uploads/2025/01/church-with-cross-2-scaled.jpg
END:VEVENT
BEGIN:VEVENT
DTSTART;TZID=America/Detroit:20260328T090000
DTEND;TZID=America/Detroit:20260328T110000
DTSTAMP:20260423T145609
CREATED:20240821T191450Z
LAST-MODIFIED:20240821T191450Z
UID:10004955-1774688400-1774695600@stvincentferrer.net
SUMMARY:Men's Fellowship and Scripture Reflection
DESCRIPTION:The men’s fellowship group gathers for a scripture reflection/sharing every other Saturday at 9am in the Faith Formation office of the school building.
URL:https://stvincentferrer.net/event/mens-fellowship-and-scripture-reflection-2-2/2026-03-28/
LOCATION:Faith Formation Office\, 1075 E. Gardenia\, Madison Heights\, MI\, United States
CATEGORIES:Adult Faith Formation
ATTACH;FMTTYPE=image/png:https://stvincentferrer.net/wp-content/uploads/2022/01/Mens-Fellowship-1-1.png
ORGANIZER;CN="Tom Karolski":MAILTO:debbie@stvincentferrer.net
GEO:42.4991272;-83.0960313
X-APPLE-STRUCTURED-LOCATION;VALUE=URI;X-ADDRESS=Faith Formation Office 1075 E. Gardenia Madison Heights MI United States;X-APPLE-RADIUS=500;X-TITLE=1075 E. Gardenia:geo:-83.0960313,42.4991272
END:VEVENT
END:VCALENDAR