BEGIN:VCALENDAR
VERSION:2.0
PRODID:-//St. Vincent Ferrer Catholic Church - ECPv6.15.20//NONSGML v1.0//EN
CALSCALE:GREGORIAN
METHOD:PUBLISH
X-WR-CALNAME:St. Vincent Ferrer Catholic Church
X-ORIGINAL-URL:https://stvincentferrer.net
X-WR-CALDESC:Events for St. Vincent Ferrer Catholic Church
REFRESH-INTERVAL;VALUE=DURATION:PT1H
X-Robots-Tag:noindex
X-PUBLISHED-TTL:PT1H
BEGIN:VTIMEZONE
TZID:America/Detroit
BEGIN:DAYLIGHT
TZOFFSETFROM:-0500
TZOFFSETTO:-0400
TZNAME:EDT
DTSTART:20240310T070000
END:DAYLIGHT
BEGIN:STANDARD
TZOFFSETFROM:-0400
TZOFFSETTO:-0500
TZNAME:EST
DTSTART:20241103T060000
END:STANDARD
BEGIN:DAYLIGHT
TZOFFSETFROM:-0500
TZOFFSETTO:-0400
TZNAME:EDT
DTSTART:20250309T070000
END:DAYLIGHT
BEGIN:STANDARD
TZOFFSETFROM:-0400
TZOFFSETTO:-0500
TZNAME:EST
DTSTART:20251102T060000
END:STANDARD
BEGIN:DAYLIGHT
TZOFFSETFROM:-0500
TZOFFSETTO:-0400
TZNAME:EDT
DTSTART:20260308T070000
END:DAYLIGHT
BEGIN:STANDARD
TZOFFSETFROM:-0400
TZOFFSETTO:-0500
TZNAME:EST
DTSTART:20261101T060000
END:STANDARD
END:VTIMEZONE
BEGIN:VEVENT
DTSTART;TZID=America/Detroit:20251203T090000
DTEND;TZID=America/Detroit:20251203T110000
DTSTAMP:20260423T202455
CREATED:20250818T190444Z
LAST-MODIFIED:20251203T195121Z
UID:10008702-1764752400-1764759600@stvincentferrer.net
SUMMARY:The Holy Longing - Book Study
DESCRIPTION:
URL:https://stvincentferrer.net/event/the-holy-longing-book-study/2025-12-03/
CATEGORIES:Adult Faith Formation,Christian Service,Miscellaneous
END:VEVENT
BEGIN:VEVENT
DTSTART;TZID=America/Detroit:20251206T090000
DTEND;TZID=America/Detroit:20251206T110000
DTSTAMP:20260423T202455
CREATED:20240821T191450Z
LAST-MODIFIED:20240821T191450Z
UID:10004947-1765011600-1765018800@stvincentferrer.net
SUMMARY:Men's Fellowship and Scripture Reflection
DESCRIPTION:The men’s fellowship group gathers for a scripture reflection/sharing every other Saturday at 9am in the Faith Formation office of the school building.
URL:https://stvincentferrer.net/event/mens-fellowship-and-scripture-reflection-2-2/2025-12-06/
LOCATION:Faith Formation Office\, 1075 E. Gardenia\, Madison Heights\, MI\, United States
CATEGORIES:Adult Faith Formation
ATTACH;FMTTYPE=image/png:https://stvincentferrer.net/wp-content/uploads/2022/01/Mens-Fellowship-1-1.png
ORGANIZER;CN="Tom Karolski":MAILTO:debbie@stvincentferrer.net
GEO:42.4991272;-83.0960313
X-APPLE-STRUCTURED-LOCATION;VALUE=URI;X-ADDRESS=Faith Formation Office 1075 E. Gardenia Madison Heights MI United States;X-APPLE-RADIUS=500;X-TITLE=1075 E. Gardenia:geo:-83.0960313,42.4991272
END:VEVENT
BEGIN:VEVENT
DTSTART;TZID=America/Detroit:20251210T090000
DTEND;TZID=America/Detroit:20251210T110000
DTSTAMP:20260423T202455
CREATED:20250818T190444Z
LAST-MODIFIED:20251203T195121Z
UID:10008703-1765357200-1765364400@stvincentferrer.net
SUMMARY:The Holy Longing - Book Study
DESCRIPTION:
URL:https://stvincentferrer.net/event/the-holy-longing-book-study/2025-12-10/
CATEGORIES:Adult Faith Formation,Christian Service,Miscellaneous
END:VEVENT
BEGIN:VEVENT
DTSTART;TZID=America/Detroit:20251217T090000
DTEND;TZID=America/Detroit:20251217T110000
DTSTAMP:20260423T202455
CREATED:20250818T190444Z
LAST-MODIFIED:20251203T195121Z
UID:10008704-1765962000-1765969200@stvincentferrer.net
SUMMARY:The Holy Longing - Book Study
DESCRIPTION:
URL:https://stvincentferrer.net/event/the-holy-longing-book-study/2025-12-17/
CATEGORIES:Adult Faith Formation,Christian Service,Miscellaneous
END:VEVENT
BEGIN:VEVENT
DTSTART;TZID=America/Detroit:20251220T090000
DTEND;TZID=America/Detroit:20251220T110000
DTSTAMP:20260423T202455
CREATED:20240821T191450Z
LAST-MODIFIED:20240821T191450Z
UID:10004948-1766221200-1766228400@stvincentferrer.net
SUMMARY:Men's Fellowship and Scripture Reflection
DESCRIPTION:The men’s fellowship group gathers for a scripture reflection/sharing every other Saturday at 9am in the Faith Formation office of the school building.
URL:https://stvincentferrer.net/event/mens-fellowship-and-scripture-reflection-2-2/2025-12-20/
LOCATION:Faith Formation Office\, 1075 E. Gardenia\, Madison Heights\, MI\, United States
CATEGORIES:Adult Faith Formation
ATTACH;FMTTYPE=image/png:https://stvincentferrer.net/wp-content/uploads/2022/01/Mens-Fellowship-1-1.png
ORGANIZER;CN="Tom Karolski":MAILTO:debbie@stvincentferrer.net
GEO:42.4991272;-83.0960313
X-APPLE-STRUCTURED-LOCATION;VALUE=URI;X-ADDRESS=Faith Formation Office 1075 E. Gardenia Madison Heights MI United States;X-APPLE-RADIUS=500;X-TITLE=1075 E. Gardenia:geo:-83.0960313,42.4991272
END:VEVENT
BEGIN:VEVENT
DTSTART;TZID=America/Detroit:20251227T090000
DTEND;TZID=America/Detroit:20251227T110000
DTSTAMP:20260423T202455
CREATED:20251222T192228Z
LAST-MODIFIED:20251222T192416Z
UID:10009008-1766826000-1766833200@stvincentferrer.net
SUMMARY:Women's Sacred Journey
DESCRIPTION:Women’s Sacred Journey\nEvery other Saturday at 9:00am\nFaith Formation Office\nSVF School Bldg.\nWomen’s Sacred Journey group invites all\nwomen to join them in praying and reflecting on\nScripture passages. The gathering is every other\nSaturday. No registration or fee required.
URL:https://stvincentferrer.net/event/womens-sacred-journey-dec-27-2025-january-1024-feb-27/2025-12-27/
LOCATION:Faith Formation Office\, 1075 E. Gardenia\, Madison Heights\, MI\, United States
CATEGORIES:Adult Faith Formation,Christian Service,Miscellaneous
GEO:42.4991272;-83.0960313
X-APPLE-STRUCTURED-LOCATION;VALUE=URI;X-ADDRESS=Faith Formation Office 1075 E. Gardenia Madison Heights MI United States;X-APPLE-RADIUS=500;X-TITLE=1075 E. Gardenia:geo:-83.0960313,42.4991272
END:VEVENT
END:VCALENDAR