BEGIN:VCALENDAR
VERSION:2.0
PRODID:-//St. Vincent Ferrer Catholic Church - ECPv6.15.20//NONSGML v1.0//EN
CALSCALE:GREGORIAN
METHOD:PUBLISH
X-ORIGINAL-URL:https://stvincentferrer.net
X-WR-CALDESC:Events for St. Vincent Ferrer Catholic Church
REFRESH-INTERVAL;VALUE=DURATION:PT1H
X-Robots-Tag:noindex
X-PUBLISHED-TTL:PT1H
BEGIN:VTIMEZONE
TZID:America/Detroit
BEGIN:DAYLIGHT
TZOFFSETFROM:-0500
TZOFFSETTO:-0400
TZNAME:EDT
DTSTART:20240310T070000
END:DAYLIGHT
BEGIN:STANDARD
TZOFFSETFROM:-0400
TZOFFSETTO:-0500
TZNAME:EST
DTSTART:20241103T060000
END:STANDARD
BEGIN:DAYLIGHT
TZOFFSETFROM:-0500
TZOFFSETTO:-0400
TZNAME:EDT
DTSTART:20250309T070000
END:DAYLIGHT
BEGIN:STANDARD
TZOFFSETFROM:-0400
TZOFFSETTO:-0500
TZNAME:EST
DTSTART:20251102T060000
END:STANDARD
BEGIN:DAYLIGHT
TZOFFSETFROM:-0500
TZOFFSETTO:-0400
TZNAME:EDT
DTSTART:20260308T070000
END:DAYLIGHT
BEGIN:STANDARD
TZOFFSETFROM:-0400
TZOFFSETTO:-0500
TZNAME:EST
DTSTART:20261101T060000
END:STANDARD
END:VTIMEZONE
BEGIN:VEVENT
DTSTART;TZID=America/Detroit:20251105T090000
DTEND;TZID=America/Detroit:20251105T113000
DTSTAMP:20260423T221302
CREATED:20250818T190444Z
LAST-MODIFIED:20251203T195121Z
UID:10008670-1762333200-1762342200@stvincentferrer.net
SUMMARY:The Holy Longing - Book Study
DESCRIPTION:
URL:https://stvincentferrer.net/event/the-holy-longing-book-study/2025-11-05/
CATEGORIES:Adult Faith Formation,Christian Service,Miscellaneous
END:VEVENT
BEGIN:VEVENT
DTSTART;TZID=America/Detroit:20251108T090000
DTEND;TZID=America/Detroit:20251108T110000
DTSTAMP:20260423T221302
CREATED:20240821T191450Z
LAST-MODIFIED:20240821T191450Z
UID:10004945-1762592400-1762599600@stvincentferrer.net
SUMMARY:Men's Fellowship and Scripture Reflection
DESCRIPTION:The men’s fellowship group gathers for a scripture reflection/sharing every other Saturday at 9am in the Faith Formation office of the school building.
URL:https://stvincentferrer.net/event/mens-fellowship-and-scripture-reflection-2-2/2025-11-08/
LOCATION:Faith Formation Office\, 1075 E. Gardenia\, Madison Heights\, MI\, United States
CATEGORIES:Adult Faith Formation
ATTACH;FMTTYPE=image/png:https://stvincentferrer.net/wp-content/uploads/2022/01/Mens-Fellowship-1-1.png
ORGANIZER;CN="Tom Karolski":MAILTO:debbie@stvincentferrer.net
GEO:42.4991272;-83.0960313
X-APPLE-STRUCTURED-LOCATION;VALUE=URI;X-ADDRESS=Faith Formation Office 1075 E. Gardenia Madison Heights MI United States;X-APPLE-RADIUS=500;X-TITLE=1075 E. Gardenia:geo:-83.0960313,42.4991272
END:VEVENT
BEGIN:VEVENT
DTSTART;TZID=America/Detroit:20251112T090000
DTEND;TZID=America/Detroit:20251112T113000
DTSTAMP:20260423T221303
CREATED:20250818T190444Z
LAST-MODIFIED:20251203T195121Z
UID:10008671-1762938000-1762947000@stvincentferrer.net
SUMMARY:The Holy Longing - Book Study
DESCRIPTION:
URL:https://stvincentferrer.net/event/the-holy-longing-book-study/2025-11-12/
CATEGORIES:Adult Faith Formation,Christian Service,Miscellaneous
END:VEVENT
BEGIN:VEVENT
DTSTART;TZID=America/Detroit:20251122T090000
DTEND;TZID=America/Detroit:20251122T110000
DTSTAMP:20260423T221303
CREATED:20240821T191450Z
LAST-MODIFIED:20240821T191450Z
UID:10004946-1763802000-1763809200@stvincentferrer.net
SUMMARY:Men's Fellowship and Scripture Reflection
DESCRIPTION:The men’s fellowship group gathers for a scripture reflection/sharing every other Saturday at 9am in the Faith Formation office of the school building.
URL:https://stvincentferrer.net/event/mens-fellowship-and-scripture-reflection-2-2/2025-11-22/
LOCATION:Faith Formation Office\, 1075 E. Gardenia\, Madison Heights\, MI\, United States
CATEGORIES:Adult Faith Formation
ATTACH;FMTTYPE=image/png:https://stvincentferrer.net/wp-content/uploads/2022/01/Mens-Fellowship-1-1.png
ORGANIZER;CN="Tom Karolski":MAILTO:debbie@stvincentferrer.net
GEO:42.4991272;-83.0960313
X-APPLE-STRUCTURED-LOCATION;VALUE=URI;X-ADDRESS=Faith Formation Office 1075 E. Gardenia Madison Heights MI United States;X-APPLE-RADIUS=500;X-TITLE=1075 E. Gardenia:geo:-83.0960313,42.4991272
END:VEVENT
BEGIN:VEVENT
DTSTART;TZID=America/Detroit:20251126T090000
DTEND;TZID=America/Detroit:20251126T113000
DTSTAMP:20260423T221303
CREATED:20250818T190444Z
LAST-MODIFIED:20251203T195121Z
UID:10008672-1764147600-1764156600@stvincentferrer.net
SUMMARY:The Holy Longing - Book Study
DESCRIPTION:
URL:https://stvincentferrer.net/event/the-holy-longing-book-study/2025-11-26/
CATEGORIES:Adult Faith Formation,Christian Service,Miscellaneous
END:VEVENT
END:VCALENDAR